BEGIN:VCALENDAR
VERSION:2.0
PRODID:-//Moonstone Arts Center - ECPv6.15.20//NONSGML v1.0//EN
CALSCALE:GREGORIAN
METHOD:PUBLISH
X-ORIGINAL-URL:https://moonstoneartscenter.com
X-WR-CALDESC:Events for Moonstone Arts Center
REFRESH-INTERVAL;VALUE=DURATION:PT1H
X-Robots-Tag:noindex
X-PUBLISHED-TTL:PT1H
BEGIN:VTIMEZONE
TZID:America/New_York
BEGIN:DAYLIGHT
TZOFFSETFROM:-0500
TZOFFSETTO:-0400
TZNAME:EDT
DTSTART:20230312T070000
END:DAYLIGHT
BEGIN:STANDARD
TZOFFSETFROM:-0400
TZOFFSETTO:-0500
TZNAME:EST
DTSTART:20231105T060000
END:STANDARD
BEGIN:DAYLIGHT
TZOFFSETFROM:-0500
TZOFFSETTO:-0400
TZNAME:EDT
DTSTART:20240310T070000
END:DAYLIGHT
BEGIN:STANDARD
TZOFFSETFROM:-0400
TZOFFSETTO:-0500
TZNAME:EST
DTSTART:20241103T060000
END:STANDARD
BEGIN:DAYLIGHT
TZOFFSETFROM:-0500
TZOFFSETTO:-0400
TZNAME:EDT
DTSTART:20250309T070000
END:DAYLIGHT
BEGIN:STANDARD
TZOFFSETFROM:-0400
TZOFFSETTO:-0500
TZNAME:EST
DTSTART:20251102T060000
END:STANDARD
END:VTIMEZONE
BEGIN:VEVENT
DTSTART;TZID=America/New_York:20240807T190000
DTEND;TZID=America/New_York:20240807T200000
DTSTAMP:20260425T185800
CREATED:20240717T141512Z
LAST-MODIFIED:20240717T141512Z
UID:19689-1723057200-1723060800@moonstoneartscenter.com
SUMMARY:Live Poetry: Sojourner Ahebee\, Mac Chandler & Mikey Franz
DESCRIPTION:Live at Fergie’s Pub\,1214 Sansom Street and on zoom –  Register here:\nhttps://us02web.zoom.us/meeting/register/tZAlfuuorz0jHd3WfQPtz1CyOTxW_SzKHruq  \nSojourner Ahebee\, author of Belly of the Night\, was born in Cote d’Ivoire to an American mother and Ivoirien father\, Sojourner Ahebee writes stories about African diaspora identities and the eternal question of home and belonging. Her poems have been published in The Atlantic\,  The Academy of American Poets (Poem A Day)\, Muzzle Magazine\, For Harriet\, Apiary Magazine and elsewhere. In 2013 she served as a National Student Poet\, the nation’s highest honor for young poets presenting original work.\nMac Chandler is a graduate of The University of the Arts and a proud West Philly resident. She has been published in some places and has done like a lot of cool literary things you’ve probably never heard of. Mostly\, she loves to write poetry and fiction\, and involve herself in the beautiful Philly writing scene.\nMikey Franz is a writer & composer from the Philadelphia area who uses his work to explore the relationship between music & language. His debut chapbook\, Terrestrial Sanctuaries was published by Moonstone last year & you can typically find him performing at various open mics throughout the Philadelphia area.
URL:https://moonstoneartscenter.com/event/live-poetry-sojourner-ahebee-mac-chandler-mikey-franz/
LOCATION:Fergie’s Pub\, 1214 Sansom Street\, Philadelphia\, PA\, United States
END:VEVENT
END:VCALENDAR