BEGIN:VCALENDAR
VERSION:2.0
PRODID:-//Moonstone Arts Center - ECPv6.15.20//NONSGML v1.0//EN
CALSCALE:GREGORIAN
METHOD:PUBLISH
X-WR-CALNAME:Moonstone Arts Center
X-ORIGINAL-URL:https://moonstoneartscenter.com
X-WR-CALDESC:Events for Moonstone Arts Center
REFRESH-INTERVAL;VALUE=DURATION:PT1H
X-Robots-Tag:noindex
X-PUBLISHED-TTL:PT1H
BEGIN:VTIMEZONE
TZID:America/New_York
BEGIN:DAYLIGHT
TZOFFSETFROM:-0500
TZOFFSETTO:-0400
TZNAME:EDT
DTSTART:20230312T070000
END:DAYLIGHT
BEGIN:STANDARD
TZOFFSETFROM:-0400
TZOFFSETTO:-0500
TZNAME:EST
DTSTART:20231105T060000
END:STANDARD
BEGIN:DAYLIGHT
TZOFFSETFROM:-0500
TZOFFSETTO:-0400
TZNAME:EDT
DTSTART:20240310T070000
END:DAYLIGHT
BEGIN:STANDARD
TZOFFSETFROM:-0400
TZOFFSETTO:-0500
TZNAME:EST
DTSTART:20241103T060000
END:STANDARD
BEGIN:DAYLIGHT
TZOFFSETFROM:-0500
TZOFFSETTO:-0400
TZNAME:EDT
DTSTART:20250309T070000
END:DAYLIGHT
BEGIN:STANDARD
TZOFFSETFROM:-0400
TZOFFSETTO:-0500
TZNAME:EST
DTSTART:20251102T060000
END:STANDARD
END:VTIMEZONE
BEGIN:VEVENT
DTSTART;TZID=America/New_York:20240821T190000
DTEND;TZID=America/New_York:20240821T200000
DTSTAMP:20260425T185812
CREATED:20240724T163038Z
LAST-MODIFIED:20240724T163038Z
UID:19721-1724266800-1724270400@moonstoneartscenter.com
SUMMARY:Live Poetry: Katherine Antarikso\, Erme Maula\, Peter Webb & John Wojtowicz
DESCRIPTION:Wednesday August 21\, 2024 – 7pm \n\nLive at Fergie’s Pub\,1214 Sansom Street and on zoom \nRegister for Zoom at this link: https://us02web.zoom.us/meeting/register/tZMtd-6opzgrHdWVr29C4W2g85ceaxtW_qMo \nKatherine Sarwopeni Antarikso (she/her) is an architect\, writer and performer. She was born in Jakarta\, on the island of Java\, Indonesia\, and moved to the United States at the age of 10. Her unique upbringing is a driver of her many talents and expressions. As an architect\, she is interested in issues of equity regarding the design of urban spaces. As a creative\, she performs in a traditional Indonesian dance group\, gamelan ensemble and writes poetry and essays centered on themes of home\, migration\, and displacement.\nErme Maula is a Community Advocate\, Educator\, Doula\, Facilitator and Nurse.  Her most recent writing can be found in In the Future\, There are No Hospitals – an abolitionist-focused collection of work by Queer and Asian care workers. Erme is part of the Grind Council that manages The Grind – a daily writing project that brings together poetry and prose writers in communities of accountability\nPeter Webb is a Philadelphia based poet who is largely interested in irreverence\, direct language\, violence\, addiction\, depravity\, evil\, scatology\, trauma\, crime\, internet writing\, post-irony\, mumblecore\, etc. @thepeterpoems\nJohn Wojtowicz grew up working on his family’s azalea and rhododendron nursery and still lives in the backwoods of what Ginsberg dubbed “nowhere Zen New Jersey.” Currently\, he teaches social work at Stockton University. He has been featured on Rowan University’s Writer’s Roundtable on 89.7 WGLS-FM and  several of his poems were showcased in  Princeton University’s 2021 Unique Minds: Creative Voices art exhibition. Recent or forthcoming publications include: Rattle\, Split Rock Review\, Soundings East\, Ekphrastic Review\, and the South Florida Poetry Journal. He is the author of the coffee table-style chapbook\, Roadside Attractions: a Poetic Guide to American Oddities. Find out more at: www.johnwojtowicz.com\nSean Hanahan Host\, Open Reading Follows
URL:https://moonstoneartscenter.com/event/live-poetry-katherine-antarikso-erme-maula-peter-webb-john-wojtowicz/
LOCATION:Fergie’s Pub\, 1214 Sansom Street\, Philadelphia\, PA\, United States
END:VEVENT
END:VCALENDAR