BEGIN:VCALENDAR
VERSION:2.0
PRODID:-//Moonstone Arts Center - ECPv6.15.20//NONSGML v1.0//EN
CALSCALE:GREGORIAN
METHOD:PUBLISH
X-ORIGINAL-URL:https://moonstoneartscenter.com
X-WR-CALDESC:Events for Moonstone Arts Center
REFRESH-INTERVAL;VALUE=DURATION:PT1H
X-Robots-Tag:noindex
X-PUBLISHED-TTL:PT1H
BEGIN:VTIMEZONE
TZID:America/New_York
BEGIN:DAYLIGHT
TZOFFSETFROM:-0500
TZOFFSETTO:-0400
TZNAME:EDT
DTSTART:20230312T070000
END:DAYLIGHT
BEGIN:STANDARD
TZOFFSETFROM:-0400
TZOFFSETTO:-0500
TZNAME:EST
DTSTART:20231105T060000
END:STANDARD
BEGIN:DAYLIGHT
TZOFFSETFROM:-0500
TZOFFSETTO:-0400
TZNAME:EDT
DTSTART:20240310T070000
END:DAYLIGHT
BEGIN:STANDARD
TZOFFSETFROM:-0400
TZOFFSETTO:-0500
TZNAME:EST
DTSTART:20241103T060000
END:STANDARD
BEGIN:DAYLIGHT
TZOFFSETFROM:-0500
TZOFFSETTO:-0400
TZNAME:EDT
DTSTART:20250309T070000
END:DAYLIGHT
BEGIN:STANDARD
TZOFFSETFROM:-0400
TZOFFSETTO:-0500
TZNAME:EST
DTSTART:20251102T060000
END:STANDARD
END:VTIMEZONE
BEGIN:VEVENT
DTSTART;TZID=America/New_York:20240828T190000
DTEND;TZID=America/New_York:20240828T200000
DTSTAMP:20260425T183808
CREATED:20240730T171934Z
LAST-MODIFIED:20240730T171934Z
UID:19750-1724871600-1724875200@moonstoneartscenter.com
SUMMARY:Live Poetry: The Osage Poets
DESCRIPTION:Wednesday August 28\, 2024 – 7pm  \nLive at Fergie’s Pub\,1214 Sansom Street and on zoom\nRegister here: https://us02web.zoom.us/meeting/register/tZcudO-vqjouGNxLFi7snrqCmBG6MbFrG96_ \nThe Osage Poets are a long-standing\, informal collective\, meeting in workshops led by poet Leonard Gontarek: Making Poems That Last and Gentle Warriors. With humor\, insight\, and a Zen teaching style\, Leonard seeds a dynamic and varied poetic response. In pursuit of an authentic voice\, spirituality of the ordinary\, and an honest grappling with the world’s edges\, the results are always relevant and surprising.  \nAlina Macneal  & Jennifer Hook Hosts
URL:https://moonstoneartscenter.com/event/live-poetry-the-osage-poets/
LOCATION:Fergie’s Pub\, 1214 Sansom Street\, Philadelphia\, PA\, United States
CATEGORIES:Poetry Events
END:VEVENT
END:VCALENDAR