BEGIN:VCALENDAR
VERSION:2.0
PRODID:-//Moonstone Arts Center - ECPv6.15.20//NONSGML v1.0//EN
CALSCALE:GREGORIAN
METHOD:PUBLISH
X-WR-CALNAME:Moonstone Arts Center
X-ORIGINAL-URL:https://moonstoneartscenter.com
X-WR-CALDESC:Events for Moonstone Arts Center
REFRESH-INTERVAL;VALUE=DURATION:PT1H
X-Robots-Tag:noindex
X-PUBLISHED-TTL:PT1H
BEGIN:VTIMEZONE
TZID:America/New_York
BEGIN:DAYLIGHT
TZOFFSETFROM:-0500
TZOFFSETTO:-0400
TZNAME:EDT
DTSTART:20230312T070000
END:DAYLIGHT
BEGIN:STANDARD
TZOFFSETFROM:-0400
TZOFFSETTO:-0500
TZNAME:EST
DTSTART:20231105T060000
END:STANDARD
BEGIN:DAYLIGHT
TZOFFSETFROM:-0500
TZOFFSETTO:-0400
TZNAME:EDT
DTSTART:20240310T070000
END:DAYLIGHT
BEGIN:STANDARD
TZOFFSETFROM:-0400
TZOFFSETTO:-0500
TZNAME:EST
DTSTART:20241103T060000
END:STANDARD
BEGIN:DAYLIGHT
TZOFFSETFROM:-0500
TZOFFSETTO:-0400
TZNAME:EDT
DTSTART:20250309T070000
END:DAYLIGHT
BEGIN:STANDARD
TZOFFSETFROM:-0400
TZOFFSETTO:-0500
TZNAME:EST
DTSTART:20251102T060000
END:STANDARD
END:VTIMEZONE
BEGIN:VEVENT
DTSTART;TZID=America/New_York:20240925T173000
DTEND;TZID=America/New_York:20240925T200000
DTSTAMP:20260425T165741
CREATED:20240914T165204Z
LAST-MODIFIED:20240921T162712Z
UID:19799-1727285400-1727294400@moonstoneartscenter.com
SUMMARY:The Art of Inclusion: The Story of Larry Robin and Moonstone
DESCRIPTION:Moonstone Poetry & the Free Library of Philadelphia present  \nWednesday September 25\, 2024\, 5:30pm – LIVE \nFree Library of Philadelphia Central Branch Skyline Room \n1901 Vine Street \nTHE ART OF INCLUSION\nTHE STORY OF LARRY ROBIN \n& MOONSTONE\nA Celebration of the Arts and Free Speech!\n  \nMany of us have connections with Larry and Moonstone Arts Center. You may have gone to school at Moonstone’s Early Childhood Education Program\, founded by Larry and Sandy Robin. You may be published by Moonstone Press. You may have participated in New Voices\, the Annual Poetry Ink readings\, Celebration of Black Writing\, Festival Cubano\, The Paul Robeson Festival\, the Hidden Story Programs\, the International Voices readings on Zoom\, or another of Moonstone’s successful programs. You may have stood at an open mic at Fergie’s Pub and spoken your first poem in public¡ You might still have that copy of Tropic of Cancer you bought from Robin’s Book Store while they successfully defied the censorship ban on the book!
URL:https://moonstoneartscenter.com/event/the-art-of-inclusion-the-story-of-larry-robin-and-moonstone/
LOCATION:The Free Library of Philadelphia\, 1901 Vine Street\, 1901 Vine Street\, Philadelphia\, PA\, 19104\, United States
CATEGORIES:Events,Poetry Events
ATTACH;FMTTYPE=image/png:https://moonstoneartscenter.com/wp-content/uploads/2024/09/Neutral-Modern-New-Release-Fashion-Instagram-Carousel-1.png
END:VEVENT
END:VCALENDAR