BEGIN:VCALENDAR
VERSION:2.0
PRODID:-//Moonstone Arts Center - ECPv6.15.20//NONSGML v1.0//EN
CALSCALE:GREGORIAN
METHOD:PUBLISH
X-ORIGINAL-URL:https://moonstoneartscenter.com
X-WR-CALDESC:Events for Moonstone Arts Center
REFRESH-INTERVAL;VALUE=DURATION:PT1H
X-Robots-Tag:noindex
X-PUBLISHED-TTL:PT1H
BEGIN:VTIMEZONE
TZID:America/New_York
BEGIN:DAYLIGHT
TZOFFSETFROM:-0500
TZOFFSETTO:-0400
TZNAME:EDT
DTSTART:20230312T070000
END:DAYLIGHT
BEGIN:STANDARD
TZOFFSETFROM:-0400
TZOFFSETTO:-0500
TZNAME:EST
DTSTART:20231105T060000
END:STANDARD
BEGIN:DAYLIGHT
TZOFFSETFROM:-0500
TZOFFSETTO:-0400
TZNAME:EDT
DTSTART:20240310T070000
END:DAYLIGHT
BEGIN:STANDARD
TZOFFSETFROM:-0400
TZOFFSETTO:-0500
TZNAME:EST
DTSTART:20241103T060000
END:STANDARD
BEGIN:DAYLIGHT
TZOFFSETFROM:-0500
TZOFFSETTO:-0400
TZNAME:EDT
DTSTART:20250309T070000
END:DAYLIGHT
BEGIN:STANDARD
TZOFFSETFROM:-0400
TZOFFSETTO:-0500
TZNAME:EST
DTSTART:20251102T060000
END:STANDARD
END:VTIMEZONE
BEGIN:VEVENT
DTSTART;TZID=America/New_York:20240929T140000
DTEND;TZID=America/New_York:20240929T170000
DTSTAMP:20260425T114046
CREATED:20240914T172240Z
LAST-MODIFIED:20240914T172240Z
UID:19806-1727618400-1727629200@moonstoneartscenter.com
SUMMARY:28th Poetry Ink: LIVE
DESCRIPTION:Moonstone Poetry & The Rotunda present  \n28th Annual Poetry Ink Reading LIVE\nSunday September 29\, 2024\, 2pm \nThe Rotunda\, 4014 Walnut Street \nWe want you all: published poets\, unpublished poets\, academic poets\, street poets\, poets who write Sonnet\, Villanelle\, Haiku\, Ekphrastic Poems\, Concrete Poems\, Epitaph\, Elegy\, Epigram\, Limerick\, Ballad\,  Ode\, Free Verse\, and all other forms. Join us for our 28th year of presenting 100 poets reading in alphabetical order.  \nWe are LIVE at the Rotunda at 2pm on Sunday\, September 29.  \nIf you live further away – we will be virtual on Monday\, September 30 at 7pm via Zom \nRegister for the virtual event on Sept. 30th: https://us05web.zoom.us/j/88202311343?pwd=02AJS9GK5vIYcvL5dLXwwa7mJARNDc.1 
URL:https://moonstoneartscenter.com/event/28th-poetry-ink-live/
LOCATION:The Rotunda\, 14014 Walnut Street\, Philadelphia\, PA\, 19104\, United States
CATEGORIES:Events,Poetry Events
ATTACH;FMTTYPE=image/png:https://moonstoneartscenter.com/wp-content/uploads/2024/09/28th-Poetry-Ink_Live_Square.png
END:VEVENT
END:VCALENDAR