BEGIN:VCALENDAR
VERSION:2.0
PRODID:-//Moonstone Arts Center - ECPv6.15.20//NONSGML v1.0//EN
CALSCALE:GREGORIAN
METHOD:PUBLISH
X-ORIGINAL-URL:https://moonstoneartscenter.com
X-WR-CALDESC:Events for Moonstone Arts Center
REFRESH-INTERVAL;VALUE=DURATION:PT1H
X-Robots-Tag:noindex
X-PUBLISHED-TTL:PT1H
BEGIN:VTIMEZONE
TZID:America/New_York
BEGIN:DAYLIGHT
TZOFFSETFROM:-0500
TZOFFSETTO:-0400
TZNAME:EDT
DTSTART:20230312T070000
END:DAYLIGHT
BEGIN:STANDARD
TZOFFSETFROM:-0400
TZOFFSETTO:-0500
TZNAME:EST
DTSTART:20231105T060000
END:STANDARD
BEGIN:DAYLIGHT
TZOFFSETFROM:-0500
TZOFFSETTO:-0400
TZNAME:EDT
DTSTART:20240310T070000
END:DAYLIGHT
BEGIN:STANDARD
TZOFFSETFROM:-0400
TZOFFSETTO:-0500
TZNAME:EST
DTSTART:20241103T060000
END:STANDARD
BEGIN:DAYLIGHT
TZOFFSETFROM:-0500
TZOFFSETTO:-0400
TZNAME:EDT
DTSTART:20250309T070000
END:DAYLIGHT
BEGIN:STANDARD
TZOFFSETFROM:-0400
TZOFFSETTO:-0500
TZNAME:EST
DTSTART:20251102T060000
END:STANDARD
END:VTIMEZONE
BEGIN:VEVENT
DTSTART;TZID=America/New_York:20241009T190000
DTEND;TZID=America/New_York:20241009T210000
DTSTAMP:20260425T114044
CREATED:20241006T155455Z
LAST-MODIFIED:20241006T155455Z
UID:19838-1728500400-1728507600@moonstoneartscenter.com
SUMMARY:Live Poetry: Mia Kang\, Allayna Nofs\, and Herman Beavers
DESCRIPTION:Moonstone Live Poetry\nWednesday October 9\, 2024 – 7pm \nLive at Fergie’s Pub\, 1214 Sansom Street and on Zoom \nRegister for Zoom access: https://us06web.zoom.us/meeting/register/tZEpceivqTIpHNL2TDUW4c3-ZEqlzjU3eIE9 \nMia Kang is the author of City Poems\, Apparent Signs and the winner of the 2023 Airlie Prize for All Empires Must. She lives in Philadelphia with two cats\, is the Executive Director of the Philadelphia Folklore Project. She holds a PhD in the history of art from Yale University\, and she has taught at Hunter College\, the Cooper Union\, University of the Arts\, and Yale College. \n  \n  \nAllayna Nofs is the author of It’s not them\, it’s me\, a collection of poetry published in 2019. She is also the sorceress behind the poetry series\, Blossoming\, which runs (almost) monthly out of West Philadelphia. If she’s not at the park admiring the trees\, she might be doing math homework by the river. A collection of her written words can be found on her Substack\, at www.allaynanofs.substack.com. \n  \n  \n  \nHerman Beavers is Professor of English and Africana Studies at the University of Pennsylvania. His most recent poems have appeared in Cleaver Magazine\, The American Arts Quarterly and been anthologized in The 2014 Anthology of Featured Poets and Obsession: Sestinas for the Twenty-First Century.   He serves as an advisory editor for The African American Review\, The Black Scholar\, and Modern Fiction Studies.
URL:https://moonstoneartscenter.com/event/live-poetry-mia-kang-allayna-nofs-and-herman-beavers/
LOCATION:Fergie’s Pub\, 1214 Sansom Street\, Philadelphia\, PA\, United States
CATEGORIES:Events,Poetry Events
ATTACH;FMTTYPE=image/png:https://moonstoneartscenter.com/wp-content/uploads/2024/10/October-6-2024.png
END:VEVENT
END:VCALENDAR