BEGIN:VCALENDAR
VERSION:2.0
PRODID:-//Moonstone Arts Center - ECPv6.15.20//NONSGML v1.0//EN
CALSCALE:GREGORIAN
METHOD:PUBLISH
X-WR-CALNAME:Moonstone Arts Center
X-ORIGINAL-URL:https://moonstoneartscenter.com
X-WR-CALDESC:Events for Moonstone Arts Center
REFRESH-INTERVAL;VALUE=DURATION:PT1H
X-Robots-Tag:noindex
X-PUBLISHED-TTL:PT1H
BEGIN:VTIMEZONE
TZID:America/New_York
BEGIN:DAYLIGHT
TZOFFSETFROM:-0500
TZOFFSETTO:-0400
TZNAME:EDT
DTSTART:20230312T070000
END:DAYLIGHT
BEGIN:STANDARD
TZOFFSETFROM:-0400
TZOFFSETTO:-0500
TZNAME:EST
DTSTART:20231105T060000
END:STANDARD
BEGIN:DAYLIGHT
TZOFFSETFROM:-0500
TZOFFSETTO:-0400
TZNAME:EDT
DTSTART:20240310T070000
END:DAYLIGHT
BEGIN:STANDARD
TZOFFSETFROM:-0400
TZOFFSETTO:-0500
TZNAME:EST
DTSTART:20241103T060000
END:STANDARD
BEGIN:DAYLIGHT
TZOFFSETFROM:-0500
TZOFFSETTO:-0400
TZNAME:EDT
DTSTART:20250309T070000
END:DAYLIGHT
BEGIN:STANDARD
TZOFFSETFROM:-0400
TZOFFSETTO:-0500
TZNAME:EST
DTSTART:20251102T060000
END:STANDARD
END:VTIMEZONE
BEGIN:VEVENT
DTSTART;TZID=America/New_York:20241103T140000
DTEND;TZID=America/New_York:20241103T150000
DTSTAMP:20260425T094448
CREATED:20241020T182727Z
LAST-MODIFIED:20241020T182727Z
UID:19905-1730642400-1730646000@moonstoneartscenter.com
SUMMARY:Virtual Reading: Our State of the Union
DESCRIPTION:DID YOU VOTE?  The State of The Nation – Get Out The Vote\nSunday November 3\, 2024 – 2pm EST – VIRTUAL \nhttps://us06web.zoom.us/meeting/register/tZUqfuuhrz0vE9NAdRMQxqD0VzHTSKiDCQts \nTHIS ELECTION IS IMPORTANT \nThings you can do to increase participation: • Remind those in your life to vote and invite them to voter education events like debates.  • Ask them to visit www.VOTE411.org to find their polling place and learn what will be on their ballot.  • Ask about their voting plan for Election Day. Research shows that by asking voters whether they have an Election Day plan (how will they get to the polls? At what time?)\, you will increase their chances of participating. • Keep it brief and friendly!  • Be helpful. Have election dates\, polling locations\, and other information at your fingertips so that you can help address any questions.  \nJoin us as poets reflect on the election\, voting\, and raising the voices of the people. 
URL:https://moonstoneartscenter.com/event/virtual-reading-our-state-of-the-union/
LOCATION:Virtual
CATEGORIES:Events,Poetry Events
ATTACH;FMTTYPE=image/png:https://moonstoneartscenter.com/wp-content/uploads/2024/10/OurStateoftheUnion_Reading.png
END:VEVENT
END:VCALENDAR