BEGIN:VCALENDAR
VERSION:2.0
PRODID:-//Moonstone Arts Center - ECPv6.15.20//NONSGML v1.0//EN
CALSCALE:GREGORIAN
METHOD:PUBLISH
X-ORIGINAL-URL:https://moonstoneartscenter.com
X-WR-CALDESC:Events for Moonstone Arts Center
REFRESH-INTERVAL;VALUE=DURATION:PT1H
X-Robots-Tag:noindex
X-PUBLISHED-TTL:PT1H
BEGIN:VTIMEZONE
TZID:America/New_York
BEGIN:DAYLIGHT
TZOFFSETFROM:-0500
TZOFFSETTO:-0400
TZNAME:EDT
DTSTART:20230312T070000
END:DAYLIGHT
BEGIN:STANDARD
TZOFFSETFROM:-0400
TZOFFSETTO:-0500
TZNAME:EST
DTSTART:20231105T060000
END:STANDARD
BEGIN:DAYLIGHT
TZOFFSETFROM:-0500
TZOFFSETTO:-0400
TZNAME:EDT
DTSTART:20240310T070000
END:DAYLIGHT
BEGIN:STANDARD
TZOFFSETFROM:-0400
TZOFFSETTO:-0500
TZNAME:EST
DTSTART:20241103T060000
END:STANDARD
BEGIN:DAYLIGHT
TZOFFSETFROM:-0500
TZOFFSETTO:-0400
TZNAME:EDT
DTSTART:20250309T070000
END:DAYLIGHT
BEGIN:STANDARD
TZOFFSETFROM:-0400
TZOFFSETTO:-0500
TZNAME:EST
DTSTART:20251102T060000
END:STANDARD
END:VTIMEZONE
BEGIN:VEVENT
DTSTART;TZID=America/New_York:20241112T183000
DTEND;TZID=America/New_York:20241112T193000
DTSTAMP:20260425T112505
CREATED:20241020T190255Z
LAST-MODIFIED:20241020T190255Z
UID:19914-1731436200-1731439800@moonstoneartscenter.com
SUMMARY:Philly Loves Poetry: Eileen D'Angelo
DESCRIPTION:Philly Loves Poetry: Eileen M. D’Angelo\nTuesday November 12\, 2024 – 6:30pm – VIRTUAL \nMoonstone Poetry @ PhillyCAM – Watch on the Phillycam website \nOr Cable 66/966HD/967 or Verizon FIOS\, 29/30 – In Philadelphia. \nPhilly Loves Poetry Interview and Readings Series \nEileen M. D’Angelo\, twice nominated for a Pennsylvania Governor’s Award in the Arts\, she received two Pushcart Prize / Best of the Small Press nominations from Verse Magazine and Schuylkill Valley Journal.  Her poetry\, essays and book reviews have been published in The Philadelphia Inquirer\, the News of Delaware County\, Rattle: Poetry for the 21st Century\, Manhattan Poetry Review\, Paterson Literary Review\, Drexel Online Journal\, Wild River Review\, Philadelphia Stories\, Philadelphia Poets\, The Independent Review\, Negative Capability\, One Trick Pony\, Odessa Poetry Journal\, The Aurealean\, Bookends\, and others.   Charles S. Carr\, Host
URL:https://moonstoneartscenter.com/event/philly-loves-poetry-eileen-dangelo/
LOCATION:PhillyCAM\, 699 Ranstead Street\, Philadelphia\, PA\, 19106\, United States
CATEGORIES:Events,Poetry Events
ATTACH;FMTTYPE=image/png:https://moonstoneartscenter.com/wp-content/uploads/2024/10/November-14-2024.png
END:VEVENT
END:VCALENDAR