BEGIN:VCALENDAR
VERSION:2.0
PRODID:-//Moonstone Arts Center - ECPv6.15.20//NONSGML v1.0//EN
CALSCALE:GREGORIAN
METHOD:PUBLISH
X-ORIGINAL-URL:https://moonstoneartscenter.com
X-WR-CALDESC:Events for Moonstone Arts Center
REFRESH-INTERVAL;VALUE=DURATION:PT1H
X-Robots-Tag:noindex
X-PUBLISHED-TTL:PT1H
BEGIN:VTIMEZONE
TZID:America/New_York
BEGIN:DAYLIGHT
TZOFFSETFROM:-0500
TZOFFSETTO:-0400
TZNAME:EDT
DTSTART:20230312T070000
END:DAYLIGHT
BEGIN:STANDARD
TZOFFSETFROM:-0400
TZOFFSETTO:-0500
TZNAME:EST
DTSTART:20231105T060000
END:STANDARD
BEGIN:DAYLIGHT
TZOFFSETFROM:-0500
TZOFFSETTO:-0400
TZNAME:EDT
DTSTART:20240310T070000
END:DAYLIGHT
BEGIN:STANDARD
TZOFFSETFROM:-0400
TZOFFSETTO:-0500
TZNAME:EST
DTSTART:20241103T060000
END:STANDARD
BEGIN:DAYLIGHT
TZOFFSETFROM:-0500
TZOFFSETTO:-0400
TZNAME:EDT
DTSTART:20250309T070000
END:DAYLIGHT
BEGIN:STANDARD
TZOFFSETFROM:-0400
TZOFFSETTO:-0500
TZNAME:EST
DTSTART:20251102T060000
END:STANDARD
END:VTIMEZONE
BEGIN:VEVENT
DTSTART;TZID=America/New_York:20241113T190000
DTEND;TZID=America/New_York:20241113T210000
DTSTAMP:20260425T112502
CREATED:20241031T151928Z
LAST-MODIFIED:20241031T153853Z
UID:19929-1731524400-1731531600@moonstoneartscenter.com
SUMMARY:Live Poetry: Thomas Devaney\, Joanna Fuhrman\, & Lauren Russell
DESCRIPTION:Live Poetry with Thomas Devaney\, Joanna Fuhrman\, & Lauren Russell\nWednesday November 13\, 2024 – 7:00pm  \nLive at Fergie’s Pub\,1214 Sansom Street \nAnd on Zoom –  Register here: https://us06web.zoom.us/meeting/register/tZAlcuygqTIjHdP11BPGj4EeBp6GLWDFSkDJ \n Thomas Devaney is a poet\, facilitator\, and educator based in Philadelphia. He is a Pew Fellow in the Arts with a focus on city building and community engagement. He wrote and co-director the film Bicentennial City with Green House Media (2020). Devaney is the author of Getting to Philadelphia (Hanging Loose Press\, 2019) and You Are the Battery (Black Square Editions\, 2019). His work is featured in Best American Poetry 2019. He teaches creative writing at Haverford College  and also works for the Lindy Institute for Urban Innovation at Drexel University. \nJoanna Fuhrman is the author of Freud in Brooklyn; Ugh Ugh Ocean; Moraine; Pageant\, winner of the Kinereth Gensler Prize from Alice James Books; The Year of Yellow Butterflies; and To a New Era. Her poetry is humorous and surreal\, mining references from pop and high culture. Writing about Fuhrman’s work for BOMBLOG\, Susie DeFord observed that Fuhrman “takes the best of the surrealist and narrative poetry\, weaving social and personal stories with extreme wit\, imagination.” She has been poetry editor for Boog City and curator of the reading series for the Saint Mark’s Church Poetry Project in New York. \n  \n \nLauren Russell is the author of A Window That Can Neither Open nor Close; Descent\, winner of the Poetry Society of America’s 2021 Anna Rabinowitz Award; and What’s Hanging on the Hush. Russell has received fellowships from the National Endowment for the Arts\, Cave Canem\, and the Wisconsin Institute for Creative Writing\, and residencies from Millay Arts\, Ucross\, Yaddo\, and MacDowell\, among others. Her work has appeared in the Academy of American Poets’ Poem-a-Day\, the New York Times Magazine\, Brooklyn Rail\, and elsewhere. She is an assistant professor in the Writing Seminars at Johns Hopkins and lives in Baltimore with her cats\, Cat Jeoffry and Lady Day.
URL:https://moonstoneartscenter.com/event/live-poetry-thomas-devaney-joanna-fuhrman-lauren-russell/
LOCATION:Fergie’s Pub\, 1214 Sansom Street\, Philadelphia\, PA\, United States
CATEGORIES:Poetry Events
ATTACH;FMTTYPE=image/png:https://moonstoneartscenter.com/wp-content/uploads/2024/10/November-13-2024.png
END:VEVENT
END:VCALENDAR