BEGIN:VCALENDAR
VERSION:2.0
PRODID:-//Moonstone Arts Center - ECPv6.15.20//NONSGML v1.0//EN
CALSCALE:GREGORIAN
METHOD:PUBLISH
X-WR-CALNAME:Moonstone Arts Center
X-ORIGINAL-URL:https://moonstoneartscenter.com
X-WR-CALDESC:Events for Moonstone Arts Center
REFRESH-INTERVAL;VALUE=DURATION:PT1H
X-Robots-Tag:noindex
X-PUBLISHED-TTL:PT1H
BEGIN:VTIMEZONE
TZID:America/New_York
BEGIN:DAYLIGHT
TZOFFSETFROM:-0500
TZOFFSETTO:-0400
TZNAME:EDT
DTSTART:20230312T070000
END:DAYLIGHT
BEGIN:STANDARD
TZOFFSETFROM:-0400
TZOFFSETTO:-0500
TZNAME:EST
DTSTART:20231105T060000
END:STANDARD
BEGIN:DAYLIGHT
TZOFFSETFROM:-0500
TZOFFSETTO:-0400
TZNAME:EDT
DTSTART:20240310T070000
END:DAYLIGHT
BEGIN:STANDARD
TZOFFSETFROM:-0400
TZOFFSETTO:-0500
TZNAME:EST
DTSTART:20241103T060000
END:STANDARD
BEGIN:DAYLIGHT
TZOFFSETFROM:-0500
TZOFFSETTO:-0400
TZNAME:EDT
DTSTART:20250309T070000
END:DAYLIGHT
BEGIN:STANDARD
TZOFFSETFROM:-0400
TZOFFSETTO:-0500
TZNAME:EST
DTSTART:20251102T060000
END:STANDARD
END:VTIMEZONE
BEGIN:VEVENT
DTSTART;TZID=America/New_York:20241120T190000
DTEND;TZID=America/New_York:20241120T210000
DTSTAMP:20260425T094449
CREATED:20241031T153502Z
LAST-MODIFIED:20241031T153823Z
UID:19937-1732129200-1732136400@moonstoneartscenter.com
SUMMARY:Live Poetry: Anisha Bhat\, Jiordan Castle\, & Alison Lubar
DESCRIPTION:Live Poetry with Anisha Bhat\, Jiordan Castle\, & Alison Lubar\nWednesday November 20\, 2024 – 7:00pm  \nLive at Fergie’s Pub\, 1214 Sansom Street Philadelphia \nAnd on Zoom: Register here: https://us06web.zoom.us/meeting/register/tZ0lduGsrjgrHNCcGHTb5NF348kiwGXgbFsk \n  Anisha Bhat\, originally from Chicago\, Illinois\, is a writer and staff member at Temple University where she directs research and creative programs for undergraduates. She has an MPhil in World History from the University of Cambridge and an MA in History from Northwestern University. In her free time she can be found buying too many books at used book stores\, eating at the same five restaurants in South Philly\, or working on her first poetry chapbook. \nJiordan Castle is the author of Disappearing Act\, a memoir in verse. Her writing has appeared in The New Yorker\, The Rumpus\, The Millions\, and elsewhere. Her poetry and nonfiction are forthcoming in the anthologies Best New Poets (2024) and What My Father and I Don’t Talk About (2025). She received her MFA in poetry from Hunter College and currently lives in Philadelphia with her husband and their dog. \nAlison Lubar teaches high school English by day and yoga by night. They are a queer\, nonbinary\, mixed-race femme whose life work (aside from wordsmithing) has evolved into bringing mindfulness practices\, and sometimes even poetry\, to young people.  Their work has been nominated for both the Pushcart & Best of the Net\, and they’re the author four chapbooks: Philosophers Know Nothing About Love (Thirty West Publishing House\, 2022)\, queer feast (Bottlecap Press\, 2022)\, sweet euphemism (CLASH!\, Spring 2023)\, and it skips a generation (Stanchion\, Fall 2023). You can find out more at http://www.alisonlubar.com/ or on Twitter @theoriginalison. \nSean Hanrahan\, Host – Open Reading Follows
URL:https://moonstoneartscenter.com/event/live-poetry-anisha-bhat-jiordan-castle-alison-lubar/
LOCATION:Fergie’s Pub\, 1214 Sansom Street\, Philadelphia\, PA\, United States
CATEGORIES:Poetry Events
ATTACH;FMTTYPE=image/png:https://moonstoneartscenter.com/wp-content/uploads/2024/10/Nov-20-2024.png
END:VEVENT
END:VCALENDAR