BEGIN:VCALENDAR
VERSION:2.0
PRODID:-//Moonstone Arts Center - ECPv6.15.20//NONSGML v1.0//EN
CALSCALE:GREGORIAN
METHOD:PUBLISH
X-WR-CALNAME:Moonstone Arts Center
X-ORIGINAL-URL:https://moonstoneartscenter.com
X-WR-CALDESC:Events for Moonstone Arts Center
REFRESH-INTERVAL;VALUE=DURATION:PT1H
X-Robots-Tag:noindex
X-PUBLISHED-TTL:PT1H
BEGIN:VTIMEZONE
TZID:America/New_York
BEGIN:DAYLIGHT
TZOFFSETFROM:-0500
TZOFFSETTO:-0400
TZNAME:EDT
DTSTART:20230312T070000
END:DAYLIGHT
BEGIN:STANDARD
TZOFFSETFROM:-0400
TZOFFSETTO:-0500
TZNAME:EST
DTSTART:20231105T060000
END:STANDARD
BEGIN:DAYLIGHT
TZOFFSETFROM:-0500
TZOFFSETTO:-0400
TZNAME:EDT
DTSTART:20240310T070000
END:DAYLIGHT
BEGIN:STANDARD
TZOFFSETFROM:-0400
TZOFFSETTO:-0500
TZNAME:EST
DTSTART:20241103T060000
END:STANDARD
BEGIN:DAYLIGHT
TZOFFSETFROM:-0500
TZOFFSETTO:-0400
TZNAME:EDT
DTSTART:20250309T070000
END:DAYLIGHT
BEGIN:STANDARD
TZOFFSETFROM:-0400
TZOFFSETTO:-0500
TZNAME:EST
DTSTART:20251102T060000
END:STANDARD
END:VTIMEZONE
BEGIN:VEVENT
DTSTART;TZID=America/New_York:20241215T140000
DTEND;TZID=America/New_York:20241215T160000
DTSTAMP:20260425T075457
CREATED:20241215T163430Z
LAST-MODIFIED:20241215T163430Z
UID:19987-1734271200-1734278400@moonstoneartscenter.com
SUMMARY:Human Rights Day
DESCRIPTION:VIRTUAL EVENT \nMeeting Link: https://us06web.zoom.us/meeting/register/tZwkd-6srTItHNIPpFXO_9kEzg40jpTJAkA8 \nSeventy-five years ago\, the United Nations adopted the Universal Declaration of Human Rights (UDHR) in response to the horrors of World War II and the Holocaust. The first document of its kind\, developed by people from diverse backgrounds from around the world\, declares that “all human beings are born free and equal in dignity and rights.” The declaration’s 30 articles outline essential freedoms for a just society—from education and medical care to food and participation in elections. \nWe take this opportunity to Resist State Sponsored Violence. Violence comes in many forms: physical violence\, verbal violence (including hate speech)\, psychological violence\, and socio-economic violence. In 2023 police killed 1352 victims in the United States. \nWe became involved because Eddie Irizanni was killed in Philadelphia by police officer Mark Dial on August 14\, 2023\, but the issue of state sponsored violence goes beyond murder\, it includes the lack of educational opportunity and medical care\, and all 30 elements in the Universal Declaration of Human Rights.
URL:https://moonstoneartscenter.com/event/human-rights-day/
LOCATION:PA
CATEGORIES:Poetry Events
ATTACH;FMTTYPE=image/jpeg:https://moonstoneartscenter.com/wp-content/uploads/2024/12/Human-Rights-Day_Square.jpg
END:VEVENT
END:VCALENDAR