BEGIN:VCALENDAR
VERSION:2.0
PRODID:-//Moonstone Arts Center - ECPv6.15.20//NONSGML v1.0//EN
CALSCALE:GREGORIAN
METHOD:PUBLISH
X-WR-CALNAME:Moonstone Arts Center
X-ORIGINAL-URL:https://moonstoneartscenter.com
X-WR-CALDESC:Events for Moonstone Arts Center
REFRESH-INTERVAL;VALUE=DURATION:PT1H
X-Robots-Tag:noindex
X-PUBLISHED-TTL:PT1H
BEGIN:VTIMEZONE
TZID:America/New_York
BEGIN:DAYLIGHT
TZOFFSETFROM:-0500
TZOFFSETTO:-0400
TZNAME:EDT
DTSTART:20240310T070000
END:DAYLIGHT
BEGIN:STANDARD
TZOFFSETFROM:-0400
TZOFFSETTO:-0500
TZNAME:EST
DTSTART:20241103T060000
END:STANDARD
BEGIN:DAYLIGHT
TZOFFSETFROM:-0500
TZOFFSETTO:-0400
TZNAME:EDT
DTSTART:20250309T070000
END:DAYLIGHT
BEGIN:STANDARD
TZOFFSETFROM:-0400
TZOFFSETTO:-0500
TZNAME:EST
DTSTART:20251102T060000
END:STANDARD
BEGIN:DAYLIGHT
TZOFFSETFROM:-0500
TZOFFSETTO:-0400
TZNAME:EDT
DTSTART:20260308T070000
END:DAYLIGHT
BEGIN:STANDARD
TZOFFSETFROM:-0400
TZOFFSETTO:-0500
TZNAME:EST
DTSTART:20261101T060000
END:STANDARD
END:VTIMEZONE
BEGIN:VEVENT
DTSTART;TZID=America/New_York:20250330T140000
DTEND;TZID=America/New_York:20250330T160000
DTSTAMP:20260424T114210
CREATED:20250202T182303Z
LAST-MODIFIED:20250202T182309Z
UID:20113-1743343200-1743350400@moonstoneartscenter.com
SUMMARY:Conflict & Poetry: An Interactive Workshop
DESCRIPTION:Conflict & Poetry: An Interactive Workshop\nSunday\, March 30th at 2PM EST\nLive at The Rotunda\, 4014 Walnut St.\, Philadelphia\, PA 19104 \nRegister for the live event \n\n\n\nIn a time fraught with political strife and armed conflict\, how can we reframe\, heal\, and continue to live in the midst of destruction\, chaos\, and loss? We seem to have forgotten that we are all human beings. Where is our empathy? How do we reconcile? How do we survive? In an effort to inspire people embroiled in conflict (all of us)\, to meet and create dialogue across differences for the sake of resolving heartbreak\, damage and personal or cultural loss. \nAustralian authors\, David B. Moore and Alike Vernon\, writers of Setting Relations Right in Restorative Practice\, have provided the backgrounds and the methods for humane ways to make peace. They will share knowledge on the possibilities occasioned by people seeking repair and resolution. \n\n\n\n\nRestorative practice uses deliberative decision-making processes to: \n\nrespond to harm with healing in justice system programs;\nmanage relationships in educational\, workplace\, and other communities; &\nlink individual healing with institutional reform in redress schemes.\n\nDr David Moore and Dr Alikki Vernon are Australian ‘pracademics’\, who remain actively engaged with fellow educators and researchers while working as facilitators in each of these applications. \nIn their 2024 book Setting Relations Right in Restorative Practice\, they explain how: \n\nrestorative processes support people to learn\, heal\, and work together to improve their circumstances;\ntechniques from restorative practice can also assist citizens’ assemblies to develop socially acceptable and appropriately complex policies for government.\n\nThe reforming potential of restorative practice is great. The need for further restorative reform urgent. Practical skills are essential for that reform. \nDr Moore and Dr Vernon will describe: \n\ncore skills for facilitating different restorative processes;\nprograms that apply these skills\, to work with people to set relations right.\n\nThe audience and poets will participate with Moore and Vernon to consider pathways out of the impasses that inhibit our creativity as humans. \n\n\nRegister for the interactive workshop.\n\n\nSubmit to our Chaos/Crises/Conflict anthology here by March 9th. 
URL:https://moonstoneartscenter.com/event/conflict-poetry-an-interactive-workshop/
LOCATION:The Rotunda\, 14014 Walnut Street\, Philadelphia\, PA\, 19104\, United States
ATTACH;FMTTYPE=image/png:https://moonstoneartscenter.com/wp-content/uploads/2025/02/Conflict-and-Poetry_Eventbrite.png
END:VEVENT
END:VCALENDAR