BEGIN:VCALENDAR
VERSION:2.0
PRODID:-//Moonstone Arts Center - ECPv6.15.20//NONSGML v1.0//EN
CALSCALE:GREGORIAN
METHOD:PUBLISH
X-ORIGINAL-URL:https://moonstoneartscenter.com
X-WR-CALDESC:Events for Moonstone Arts Center
REFRESH-INTERVAL;VALUE=DURATION:PT1H
X-Robots-Tag:noindex
X-PUBLISHED-TTL:PT1H
BEGIN:VTIMEZONE
TZID:America/New_York
BEGIN:DAYLIGHT
TZOFFSETFROM:-0500
TZOFFSETTO:-0400
TZNAME:EDT
DTSTART:20240310T070000
END:DAYLIGHT
BEGIN:STANDARD
TZOFFSETFROM:-0400
TZOFFSETTO:-0500
TZNAME:EST
DTSTART:20241103T060000
END:STANDARD
BEGIN:DAYLIGHT
TZOFFSETFROM:-0500
TZOFFSETTO:-0400
TZNAME:EDT
DTSTART:20250309T070000
END:DAYLIGHT
BEGIN:STANDARD
TZOFFSETFROM:-0400
TZOFFSETTO:-0500
TZNAME:EST
DTSTART:20251102T060000
END:STANDARD
BEGIN:DAYLIGHT
TZOFFSETFROM:-0500
TZOFFSETTO:-0400
TZNAME:EDT
DTSTART:20260308T070000
END:DAYLIGHT
BEGIN:STANDARD
TZOFFSETFROM:-0400
TZOFFSETTO:-0500
TZNAME:EST
DTSTART:20261101T060000
END:STANDARD
END:VTIMEZONE
BEGIN:VEVENT
DTSTART;TZID=America/New_York:20250402T190000
DTEND;TZID=America/New_York:20250402T210000
DTSTAMP:20260424T114256
CREATED:20250329T163517Z
LAST-MODIFIED:20250329T164222Z
UID:20219-1743620400-1743627600@moonstoneartscenter.com
SUMMARY:Live Poetry: Courtney Bambrick\, Caroline M. Mar\, Hayden Saunier\, and Robert Zaller
DESCRIPTION:   Wednesday April 2\, 2025 – 7:00pm – LIVE \nLive at Fergie’s Pub\,1214 Sansom Street \nOn Zoom – Register here:  https://us06web.zoom.us/meeting/register/IMJG5oarQqGAkXCjjv6H6A \nCourtney Bambrick\, author of World Without\,   teaches writing at Thomas Jefferson University’s East Falls\, was poetry editor at Philadelphia Stories. \n  \n  \n  \n  \nCaroline M. Mar\, author of Water Guest\, Special Education\, and Dream of the Lake\, a member of Rabble Collective\, and serves on the board of Friends of Writers. \n  \n  \n  \n  \nHayden Saunier is the author of six poetry collections including her new book\, Wheel\, awards include a Pushcart Prize\, Pablo Neruda Award\, and Rattle Poetry Prize. \n  \n  \n  \nRobert Zaller is Distinguished University Professor Emeritus at Drexel University.  Poet\, critic\, and historian\, his books of verse include Speaking to Power and The Dresden Zoo.
URL:https://moonstoneartscenter.com/event/live-poetry-courtney-bambrick-caroline-m-mar-hayden-saunier-and-robert-zaller/
LOCATION:Fergie’s Pub\, 1214 Sansom Street\, Philadelphia\, PA\, United States
CATEGORIES:Events,Poetry Events
ATTACH;FMTTYPE=image/png:https://moonstoneartscenter.com/wp-content/uploads/2025/03/April-2-2025.png
END:VEVENT
END:VCALENDAR