BEGIN:VCALENDAR
VERSION:2.0
PRODID:-//Moonstone Arts Center - ECPv6.15.20//NONSGML v1.0//EN
CALSCALE:GREGORIAN
METHOD:PUBLISH
X-ORIGINAL-URL:https://moonstoneartscenter.com
X-WR-CALDESC:Events for Moonstone Arts Center
REFRESH-INTERVAL;VALUE=DURATION:PT1H
X-Robots-Tag:noindex
X-PUBLISHED-TTL:PT1H
BEGIN:VTIMEZONE
TZID:America/New_York
BEGIN:DAYLIGHT
TZOFFSETFROM:-0500
TZOFFSETTO:-0400
TZNAME:EDT
DTSTART:20240310T070000
END:DAYLIGHT
BEGIN:STANDARD
TZOFFSETFROM:-0400
TZOFFSETTO:-0500
TZNAME:EST
DTSTART:20241103T060000
END:STANDARD
BEGIN:DAYLIGHT
TZOFFSETFROM:-0500
TZOFFSETTO:-0400
TZNAME:EDT
DTSTART:20250309T070000
END:DAYLIGHT
BEGIN:STANDARD
TZOFFSETFROM:-0400
TZOFFSETTO:-0500
TZNAME:EST
DTSTART:20251102T060000
END:STANDARD
BEGIN:DAYLIGHT
TZOFFSETFROM:-0500
TZOFFSETTO:-0400
TZNAME:EDT
DTSTART:20260308T070000
END:DAYLIGHT
BEGIN:STANDARD
TZOFFSETFROM:-0400
TZOFFSETTO:-0500
TZNAME:EST
DTSTART:20261101T060000
END:STANDARD
END:VTIMEZONE
BEGIN:VEVENT
DTSTART;TZID=America/New_York:20250408T183000
DTEND;TZID=America/New_York:20250408T203000
DTSTAMP:20260424T114256
CREATED:20250331T163025Z
LAST-MODIFIED:20250331T163338Z
UID:20239-1744137000-1744144200@moonstoneartscenter.com
SUMMARY:Live Broadcast: Grady Chambers
DESCRIPTION:Tuesday April 8\, 2025 – 6:30pm – Live Broadcast \nCan be viewed on the Phillycam website Or Cable 66/966HD/967 or Verizon FIOS\, 29/30 In Philadelphia. \nPhilly Loves Poetry Interview and Readings Series \nGrady Chambers is the author of the novel Great Disasters and the poetry collection North American Stadiums\, selected by Henri Cole as the winner of the Max Ritvo Poetry Prize. His poems and stories can be found in The Atlantic\, The Paris Review\, American Poetry Review\, Ploughshares\, Poetry Magazine\, The Sun\, Joyland\, Image\, The Kenyon Review\, and elsewhere. \nCharles S. Carr\, Host
URL:https://moonstoneartscenter.com/event/live-broadcast-grady-chambers/
LOCATION:virtual
CATEGORIES:Poetry Events
ATTACH;FMTTYPE=image/jpeg:https://moonstoneartscenter.com/wp-content/uploads/2025/03/Grady-Chambers_Square.jpg
END:VEVENT
END:VCALENDAR