BEGIN:VCALENDAR
VERSION:2.0
PRODID:-//Moonstone Arts Center - ECPv6.15.20//NONSGML v1.0//EN
CALSCALE:GREGORIAN
METHOD:PUBLISH
X-ORIGINAL-URL:https://moonstoneartscenter.com
X-WR-CALDESC:Events for Moonstone Arts Center
REFRESH-INTERVAL;VALUE=DURATION:PT1H
X-Robots-Tag:noindex
X-PUBLISHED-TTL:PT1H
BEGIN:VTIMEZONE
TZID:America/New_York
BEGIN:DAYLIGHT
TZOFFSETFROM:-0500
TZOFFSETTO:-0400
TZNAME:EDT
DTSTART:20240310T070000
END:DAYLIGHT
BEGIN:STANDARD
TZOFFSETFROM:-0400
TZOFFSETTO:-0500
TZNAME:EST
DTSTART:20241103T060000
END:STANDARD
BEGIN:DAYLIGHT
TZOFFSETFROM:-0500
TZOFFSETTO:-0400
TZNAME:EDT
DTSTART:20250309T070000
END:DAYLIGHT
BEGIN:STANDARD
TZOFFSETFROM:-0400
TZOFFSETTO:-0500
TZNAME:EST
DTSTART:20251102T060000
END:STANDARD
BEGIN:DAYLIGHT
TZOFFSETFROM:-0500
TZOFFSETTO:-0400
TZNAME:EDT
DTSTART:20260308T070000
END:DAYLIGHT
BEGIN:STANDARD
TZOFFSETFROM:-0400
TZOFFSETTO:-0500
TZNAME:EST
DTSTART:20261101T060000
END:STANDARD
END:VTIMEZONE
BEGIN:VEVENT
DTSTART;TZID=America/New_York:20250517T140000
DTEND;TZID=America/New_York:20250517T140000
DTSTAMP:20260424T095635
CREATED:20250505T193608Z
LAST-MODIFIED:20250505T200842Z
UID:20317-1747490400-1747490400@moonstoneartscenter.com
SUMMARY:New Voices: Virtual Reading on Zoom
DESCRIPTION:New Voices: Spring 2025\nA series for emerging poets between the ages of 10 and 25. A bi-annual publication which strives to bring together younger poets from various communities.\nJoin us as contributors read their poems\nSaturday May 17th\, 2025 – No matter where you live\, please join us virtually\nVIRTUAL at 2pm EDT on Zoom
URL:https://moonstoneartscenter.com/event/new-voices-virtual-reading-on-zoom/
LOCATION:PA
CATEGORIES:Poetry Events
ATTACH;FMTTYPE=image/png:https://moonstoneartscenter.com/wp-content/uploads/2025/05/Blue-and-White-Gradient-Modern-Minimalist-Church-Service-Instagram-Post-1.png
END:VEVENT
END:VCALENDAR