BEGIN:VCALENDAR
VERSION:2.0
PRODID:-//Moonstone Arts Center - ECPv6.15.20//NONSGML v1.0//EN
CALSCALE:GREGORIAN
METHOD:PUBLISH
X-ORIGINAL-URL:https://moonstoneartscenter.com
X-WR-CALDESC:Events for Moonstone Arts Center
REFRESH-INTERVAL;VALUE=DURATION:PT1H
X-Robots-Tag:noindex
X-PUBLISHED-TTL:PT1H
BEGIN:VTIMEZONE
TZID:America/New_York
BEGIN:DAYLIGHT
TZOFFSETFROM:-0500
TZOFFSETTO:-0400
TZNAME:EDT
DTSTART:20240310T070000
END:DAYLIGHT
BEGIN:STANDARD
TZOFFSETFROM:-0400
TZOFFSETTO:-0500
TZNAME:EST
DTSTART:20241103T060000
END:STANDARD
BEGIN:DAYLIGHT
TZOFFSETFROM:-0500
TZOFFSETTO:-0400
TZNAME:EDT
DTSTART:20250309T070000
END:DAYLIGHT
BEGIN:STANDARD
TZOFFSETFROM:-0400
TZOFFSETTO:-0500
TZNAME:EST
DTSTART:20251102T060000
END:STANDARD
BEGIN:DAYLIGHT
TZOFFSETFROM:-0500
TZOFFSETTO:-0400
TZNAME:EDT
DTSTART:20260308T070000
END:DAYLIGHT
BEGIN:STANDARD
TZOFFSETFROM:-0400
TZOFFSETTO:-0500
TZNAME:EST
DTSTART:20261101T060000
END:STANDARD
END:VTIMEZONE
BEGIN:VEVENT
DTSTART;TZID=America/New_York:20250518T140000
DTEND;TZID=America/New_York:20250518T140000
DTSTAMP:20260424T095633
CREATED:20250505T200913Z
LAST-MODIFIED:20250505T200913Z
UID:20320-1747576800-1747576800@moonstoneartscenter.com
SUMMARY:29th Annual Poetry Ink: LIVE at the Rotunda
DESCRIPTION:29th Annual Poetry Ink\nWe want everyone: published poets\, unpublished poets\, academic poets\, street poets\, poets\nwho write Sonnet\, Villanelle\, Haiku\, Ekphrastic Poems\, Concrete Poems\, Epitaph\, Elegy\,\nEpigram\, Limerick\, Ballad\, Ode\, Free Verse.\nJoin us for our 29th year of presenting 71 poets reading in alphabetical order\nSunday May 18\, 2025 – If you live near Philadelphia please join us live\nLIVE at 2:00pm EDT
URL:https://moonstoneartscenter.com/event/29th-annual-poetry-ink-live-at-the-rotunda/
LOCATION:The Rotunda\, 14014 Walnut Street\, Philadelphia\, PA\, 19104\, United States
CATEGORIES:Poetry Events
ATTACH;FMTTYPE=image/png:https://moonstoneartscenter.com/wp-content/uploads/2025/05/Brown-and-Black-World-Poetry-Day-Instagram-Post-1-1.png
END:VEVENT
END:VCALENDAR