BEGIN:VCALENDAR
VERSION:2.0
PRODID:-//Moonstone Arts Center - ECPv6.15.20//NONSGML v1.0//EN
CALSCALE:GREGORIAN
METHOD:PUBLISH
X-ORIGINAL-URL:https://moonstoneartscenter.com
X-WR-CALDESC:Events for Moonstone Arts Center
REFRESH-INTERVAL;VALUE=DURATION:PT1H
X-Robots-Tag:noindex
X-PUBLISHED-TTL:PT1H
BEGIN:VTIMEZONE
TZID:America/New_York
BEGIN:DAYLIGHT
TZOFFSETFROM:-0500
TZOFFSETTO:-0400
TZNAME:EDT
DTSTART:20240310T070000
END:DAYLIGHT
BEGIN:STANDARD
TZOFFSETFROM:-0400
TZOFFSETTO:-0500
TZNAME:EST
DTSTART:20241103T060000
END:STANDARD
BEGIN:DAYLIGHT
TZOFFSETFROM:-0500
TZOFFSETTO:-0400
TZNAME:EDT
DTSTART:20250309T070000
END:DAYLIGHT
BEGIN:STANDARD
TZOFFSETFROM:-0400
TZOFFSETTO:-0500
TZNAME:EST
DTSTART:20251102T060000
END:STANDARD
BEGIN:DAYLIGHT
TZOFFSETFROM:-0500
TZOFFSETTO:-0400
TZNAME:EDT
DTSTART:20260308T070000
END:DAYLIGHT
BEGIN:STANDARD
TZOFFSETFROM:-0400
TZOFFSETTO:-0500
TZNAME:EST
DTSTART:20261101T060000
END:STANDARD
END:VTIMEZONE
BEGIN:VEVENT
DTSTART;TZID=America/New_York:20250611T190000
DTEND;TZID=America/New_York:20250611T210000
DTSTAMP:20260424T063322
CREATED:20250608T162155Z
LAST-MODIFIED:20250608T162155Z
UID:20436-1749668400-1749675600@moonstoneartscenter.com
SUMMARY:The Beast in the Pines: A Horror Novel Launch Party
DESCRIPTION:The Beast in the Pines: A Horror Novel – Launch Party\nWednesday June 11\, 2025 – 7pm\nLive at Ferge’s Pub\, 1214 Sansom Street \nIn October of 2003\, a 19 year old named Cody considers joining the Army to fight in the Iraq War so that he can escape the boredom of small town Woodville\, New Jersey. He finds a mysterious book that a strange man leaves behind at his mother’s job. The book is about the Jersey Devil\, a legendary demonic creature that haunts the Pine Barrens\, a desolate wilderness that spans the middle of the state. The book inspires Cody to explore the Pine Barrens in search of the Jersey Devil. What he ends up finding changes his perception of reality. The Beast in the Pines is a disturbing novel that delves deep into the human psyche and bridges the gap between the psychological and supernatural horror genres. \nSean W. Lynch is a writer and editor who lives in Philadelphia. He is the author of five books of poetry including\, the city of your mind\, Broad Street Line\, 100 Haiku\, On Violence\, and Halo Nest: Poems on Grief. He has been the editor of various magazines\, journals\, anthologies\, and books\, including Rocky Wilson’s The Last Bus to Camden\, Chidi Ezeobi’s Remind the World: Poems from Prison\, and Beyond the White Stone Lions by Lamont Steptoe. He’s worked for non-profit organizations such as Moonstone Arts Center and the Nick Virgilio Haiku Association. \nC.A. Bryson is living in South Philly and has written pieces focusing on working-class issues\, which have been featured in Whirlwind Press\, Toho Journal\, The Industrial Worker\, Castlejackle\, Weird Visions Society\, and Bohemians FC Matchday Program. He previously contributed to a monthly labor organizing bulletin for the Teamsters Airline Division. He has a self-published chapbook which was released in 2020. \nJ Johnson (JJ\, they/them) is the author of Janky Materiality: Artifice & Interface (punctum books\, 2025)\, The Book / Or / The Woods (punctum books\, 2021)\, and Trouble Songs: A Musicological Poetics (punctum books\, 2018). JJ co-edits the horror poetics journal Cul-de-sac of Blood\, is a staff writer at MovieJawn\, and lives in Philadelphia. \nBuy a copy on Ingram here. 
URL:https://moonstoneartscenter.com/event/the-beast-in-the-pines-a-horror-novel-launch-party/
LOCATION:Fergie’s Pub\, 1214 Sansom Street\, Philadelphia\, PA\, United States
CATEGORIES:Events
ATTACH;FMTTYPE=image/png:https://moonstoneartscenter.com/wp-content/uploads/2020/08/Wednesday-June-11-2025-–-7pm-Launch-Party.png
END:VEVENT
END:VCALENDAR