BEGIN:VCALENDAR
VERSION:2.0
PRODID:-//Moonstone Arts Center - ECPv6.15.20//NONSGML v1.0//EN
CALSCALE:GREGORIAN
METHOD:PUBLISH
X-WR-CALNAME:Moonstone Arts Center
X-ORIGINAL-URL:https://moonstoneartscenter.com
X-WR-CALDESC:Events for Moonstone Arts Center
REFRESH-INTERVAL;VALUE=DURATION:PT1H
X-Robots-Tag:noindex
X-PUBLISHED-TTL:PT1H
BEGIN:VTIMEZONE
TZID:America/New_York
BEGIN:DAYLIGHT
TZOFFSETFROM:-0500
TZOFFSETTO:-0400
TZNAME:EDT
DTSTART:20240310T070000
END:DAYLIGHT
BEGIN:STANDARD
TZOFFSETFROM:-0400
TZOFFSETTO:-0500
TZNAME:EST
DTSTART:20241103T060000
END:STANDARD
BEGIN:DAYLIGHT
TZOFFSETFROM:-0500
TZOFFSETTO:-0400
TZNAME:EDT
DTSTART:20250309T070000
END:DAYLIGHT
BEGIN:STANDARD
TZOFFSETFROM:-0400
TZOFFSETTO:-0500
TZNAME:EST
DTSTART:20251102T060000
END:STANDARD
BEGIN:DAYLIGHT
TZOFFSETFROM:-0500
TZOFFSETTO:-0400
TZNAME:EDT
DTSTART:20260308T070000
END:DAYLIGHT
BEGIN:STANDARD
TZOFFSETFROM:-0400
TZOFFSETTO:-0500
TZNAME:EST
DTSTART:20261101T060000
END:STANDARD
END:VTIMEZONE
BEGIN:VEVENT
DTSTART;TZID=America/New_York:20250625T190000
DTEND;TZID=America/New_York:20250625T190000
DTSTAMP:20260424T063323
CREATED:20250614T173636Z
LAST-MODIFIED:20250614T173636Z
UID:20451-1750878000-1750878000@moonstoneartscenter.com
SUMMARY:June 25 - LIVE Poetry Reading at Fergie's Pub
DESCRIPTION:Wednesday June 25\, 2025 – 7pm – LIVE \nLive at Fergie’s Pub\, 1214 Sansom Street \nChristian Bufo is a Philadelphia-based photographer\, editor\, and poet. He is a member of Poet’s Row\, a collective that hosts readings and publishes physical & online poetry journals. Sophia Tempest is a poet who lives in Philadelphia. Her full length collection\, WHEN I GET TO HEAVEN\, was released in Ghost City Press in 2022. She also hosts Discount Guillotine’s Philadelphia reading series. \nAmy Saul-Zerby Host – Open Reading Follo
URL:https://moonstoneartscenter.com/event/june-25-live-poetry-reading-at-fergies-pub/
LOCATION:Fergie’s Pub\, 1214 Sansom Street\, Philadelphia\, PA\, United States
CATEGORIES:Events,Poetry,Poetry Events
ATTACH;FMTTYPE=image/png:https://moonstoneartscenter.com/wp-content/uploads/2025/06/Pink-Yellow-Green-Illustrated-Flowers-Cute-Artist-Logo.png
END:VEVENT
END:VCALENDAR