BEGIN:VCALENDAR
VERSION:2.0
PRODID:-//Moonstone Arts Center - ECPv6.15.20//NONSGML v1.0//EN
CALSCALE:GREGORIAN
METHOD:PUBLISH
X-ORIGINAL-URL:https://moonstoneartscenter.com
X-WR-CALDESC:Events for Moonstone Arts Center
REFRESH-INTERVAL;VALUE=DURATION:PT1H
X-Robots-Tag:noindex
X-PUBLISHED-TTL:PT1H
BEGIN:VTIMEZONE
TZID:America/New_York
BEGIN:DAYLIGHT
TZOFFSETFROM:-0500
TZOFFSETTO:-0400
TZNAME:EDT
DTSTART:20240310T070000
END:DAYLIGHT
BEGIN:STANDARD
TZOFFSETFROM:-0400
TZOFFSETTO:-0500
TZNAME:EST
DTSTART:20241103T060000
END:STANDARD
BEGIN:DAYLIGHT
TZOFFSETFROM:-0500
TZOFFSETTO:-0400
TZNAME:EDT
DTSTART:20250309T070000
END:DAYLIGHT
BEGIN:STANDARD
TZOFFSETFROM:-0400
TZOFFSETTO:-0500
TZNAME:EST
DTSTART:20251102T060000
END:STANDARD
BEGIN:DAYLIGHT
TZOFFSETFROM:-0500
TZOFFSETTO:-0400
TZNAME:EDT
DTSTART:20260308T070000
END:DAYLIGHT
BEGIN:STANDARD
TZOFFSETFROM:-0400
TZOFFSETTO:-0500
TZNAME:EST
DTSTART:20261101T060000
END:STANDARD
END:VTIMEZONE
BEGIN:VEVENT
DTSTART;TZID=America/New_York:20250715T170000
DTEND;TZID=America/New_York:20250715T183000
DTSTAMP:20260424T081228
CREATED:20250622T155749Z
LAST-MODIFIED:20250712T151631Z
UID:20485-1752598800-1752604200@moonstoneartscenter.com
SUMMARY:LIVE - BETRAYED: Violence Against Women
DESCRIPTION:Tuesday July 15\, 2025 – 5pm – LIVE – BETRAYED: Violence Against Women \nCentral Free Library\, Skyline Room (4th Floor)\, 901 Vine Street \nFeaturing Meg Groff\, author of Not If I Can Help It: A Family Lawyer’s Battles for Justice for Victims of Domestic Violence and the Poor ($22.95\, Rivertowns Books) \nIn a rare\, starred review\, Kirkus Reviews says:  “The cases she recounts range from harrowing to infuriating: The police shrugged away potential murders as suicides\, children were left unsupervised with dangerous fathers with devastating results\, doctors assumed that struggling young mothers must be alcoholics. Each episode carries a tremendous punch\, as well as a searing lesson about the failings of society to help those in need. . . . Despite such heavy details and subject matter\, Groff balances her book with warmth and humor.” Books will be available.
URL:https://moonstoneartscenter.com/event/live-betrayed-violence-against-women/
LOCATION:Parkway Central Library\, 1901 Vine St
CATEGORIES:Events,Poetry Events
ATTACH;FMTTYPE=image/png:https://moonstoneartscenter.com/wp-content/uploads/2025/06/July-15-2025.png
END:VEVENT
END:VCALENDAR