BEGIN:VCALENDAR
VERSION:2.0
PRODID:-//Moonstone Arts Center - ECPv6.15.20//NONSGML v1.0//EN
CALSCALE:GREGORIAN
METHOD:PUBLISH
X-WR-CALNAME:Moonstone Arts Center
X-ORIGINAL-URL:https://moonstoneartscenter.com
X-WR-CALDESC:Events for Moonstone Arts Center
REFRESH-INTERVAL;VALUE=DURATION:PT1H
X-Robots-Tag:noindex
X-PUBLISHED-TTL:PT1H
BEGIN:VTIMEZONE
TZID:America/New_York
BEGIN:DAYLIGHT
TZOFFSETFROM:-0500
TZOFFSETTO:-0400
TZNAME:EDT
DTSTART:20240310T070000
END:DAYLIGHT
BEGIN:STANDARD
TZOFFSETFROM:-0400
TZOFFSETTO:-0500
TZNAME:EST
DTSTART:20241103T060000
END:STANDARD
BEGIN:DAYLIGHT
TZOFFSETFROM:-0500
TZOFFSETTO:-0400
TZNAME:EDT
DTSTART:20250309T070000
END:DAYLIGHT
BEGIN:STANDARD
TZOFFSETFROM:-0400
TZOFFSETTO:-0500
TZNAME:EST
DTSTART:20251102T060000
END:STANDARD
BEGIN:DAYLIGHT
TZOFFSETFROM:-0500
TZOFFSETTO:-0400
TZNAME:EDT
DTSTART:20260308T070000
END:DAYLIGHT
BEGIN:STANDARD
TZOFFSETFROM:-0400
TZOFFSETTO:-0500
TZNAME:EST
DTSTART:20261101T060000
END:STANDARD
END:VTIMEZONE
BEGIN:VEVENT
DTSTART;TZID=America/New_York:20250817T140000
DTEND;TZID=America/New_York:20250817T160000
DTSTAMP:20260424T043927
CREATED:20250731T204411Z
LAST-MODIFIED:20250731T204411Z
UID:20556-1755439200-1755446400@moonstoneartscenter.com
SUMMARY:Virtual Poetry: Julia Bouwsma\, Hiram Larew\, Peter E. Murphy\, and Scott W. Williams
DESCRIPTION:Sunday August 17\, 2025 – 2pm EDT – VIRTUAL \nhttps://us06web.zoom.us/meeting/register/s2XRWbF_Q2C7hQaK6Bf0PQ \nJulia Bouwsma lives off-the-grid in the mountains of western Maine where she works as a poet\, homesteader\, editor\, teacher\, and small-town librarian. She is Maine’s sixth Poet Laureate and is the author of Death Fluorescence\, Midden\, and Work by Bloodlight. Bouwsma’s honors include a 2024 Poet Laureate Fellowship from the Academy of American Poets and two Maine Literary Awards. Her work can be found in Ecotone\, Green Mountains Review\, Kenyon Review\, Plume\, Poetry Daily\, and others. She has taught in the Creative Writing the University of Maine (Farmington)\, serves on the Community Advisory Board for the Maine Writers & Publishers Alliance\, and works as the Library Director for Webster Library. \nHiram Larew’s poems have received the Louisiana Literature Prize\, the Washington review poetry blue ribbon\, and have been nominated for four Pushcarts.  His work has appeared in Poetry Scotland\, Poetry South\, The Brown Critique\, Contemporary American Voices\, Honest Ulsterman\, Amsterdam Quarterly and others.  He’s received an artists’ grants from Arts Councils as well as the United Nations for his Poetry X Hunger initiative which encourages poets to contribute to anti-hunger efforts\, founded the Voices of Woodlawn\, a powerful program of poetry\, music and art that explores America’s tragic history of slavery\, is a Courtesy Faculty at five U. S. universities. \nPeter E. Murphy has published a dozen books of nonfiction and poetry\, has appeared in hundreds of journals\, anthologies and textbooks including The Sun\, The Shakespeare Quarterly\, Teachers & Writers Guide to Frederick Douglass\, The Michigan Quarterly Review\, Guernica\, Harpur Palate\, The Literary Review and The New Welsh Reader. For more than forty years Peter has led workshops for thousands of writers in the United States and abroad. He has been a consultant to The Corporation for Public Broadcasting\, Educational Testing Service\, Arts Horizons\, AtlantiCare Health System\, The Geraldine R. Dodge Foundation\, The New Jersey Councils for the Arts and the Humanities\, The New Jersey Department of Education\, and countless school districts from coast to coast. \nScott W. Williams (University of Buffalo Mathematics Professor Emeritus) is a traveling poet and author of short stories. He is author of The Gamblers Woods: Poetry from Baltimore’s Wilson Park\, (Moonstone Press) and six other books. Scott edits the syfy poetry&flash-fiction anthology series\, A Flash of Dark and A Flash of Dark vol 2\, and hosts workshops of the poetic forms Ghazal\, Haiku and Senryu and co-hosts the series Second Stage Writers and Poets Soup).
URL:https://moonstoneartscenter.com/event/virtual-poetry-julia-bouwsma-hiram-larew-peter-e-murphy-and-scott-w-williams/
LOCATION:virtual
CATEGORIES:Poetry Events
ATTACH;FMTTYPE=image/jpeg:https://moonstoneartscenter.com/wp-content/uploads/2025/07/August-17th_Square.jpg
END:VEVENT
END:VCALENDAR