BEGIN:VCALENDAR
VERSION:2.0
PRODID:-//Moonstone Arts Center - ECPv6.15.20//NONSGML v1.0//EN
CALSCALE:GREGORIAN
METHOD:PUBLISH
X-ORIGINAL-URL:https://moonstoneartscenter.com
X-WR-CALDESC:Events for Moonstone Arts Center
REFRESH-INTERVAL;VALUE=DURATION:PT1H
X-Robots-Tag:noindex
X-PUBLISHED-TTL:PT1H
BEGIN:VTIMEZONE
TZID:America/New_York
BEGIN:DAYLIGHT
TZOFFSETFROM:-0500
TZOFFSETTO:-0400
TZNAME:EDT
DTSTART:20240310T070000
END:DAYLIGHT
BEGIN:STANDARD
TZOFFSETFROM:-0400
TZOFFSETTO:-0500
TZNAME:EST
DTSTART:20241103T060000
END:STANDARD
BEGIN:DAYLIGHT
TZOFFSETFROM:-0500
TZOFFSETTO:-0400
TZNAME:EDT
DTSTART:20250309T070000
END:DAYLIGHT
BEGIN:STANDARD
TZOFFSETFROM:-0400
TZOFFSETTO:-0500
TZNAME:EST
DTSTART:20251102T060000
END:STANDARD
BEGIN:DAYLIGHT
TZOFFSETFROM:-0500
TZOFFSETTO:-0400
TZNAME:EDT
DTSTART:20260308T070000
END:DAYLIGHT
BEGIN:STANDARD
TZOFFSETFROM:-0400
TZOFFSETTO:-0500
TZNAME:EST
DTSTART:20261101T060000
END:STANDARD
END:VTIMEZONE
BEGIN:VEVENT
DTSTART;TZID=America/New_York:20251113T173000
DTEND;TZID=America/New_York:20251113T183000
DTSTAMP:20260423T225448
CREATED:20250928T170026Z
LAST-MODIFIED:20250928T192916Z
UID:20672-1763055000-1763058600@moonstoneartscenter.com
SUMMARY:Peace like War is Waged: Reading with Jan Barry and W.D. Ehrhart
DESCRIPTION:Peace like War is Waged\nA Discussion and Reading with Jan Barry and W.D. Ehrhart\nThursday\, November 13th @ 5:30pm\nLive Poetry @ Central Free Library\, 1901 Vine Street\, History Department on 2nd Floor\n“One Jan Barry’s most characteristic beliefs comes from a poem called “The Peacemaker” by Walker Knight: “Peace\, like war\, is waged.” Jan Barry has been actively and energetically waging peace since he turned away from an appointment to the US Military Academy and chose a very different path into his own future. \nAll through the book\, I encounter over and over again Jan’s refusal to give in to despair\, his unwavering belief that good will eventually come of good-willed people acting together. He challenges Americans to protest and resist the agenda of the “tyrannical head of state” now occupying the White House. He urges all of us to vigorously and actively support federal employees\, LGBTQ rights\, immigrant rights\, Palestinian self-determination\, and a free and independent Ukraine. \nHere\, in a few words\, is what Jan Barry taught me: take that rage and pain and frustration and do something constructive with it.” – W. D. Ehrhart \nWaging Peace: From Vietnam to Volgograd ($30.00 – 2025) is a collection of essays\, poetry and art by Jan Barry\, a Veterans For Peace Poet Laureate and cofounder of Vietnam Veterans Against the War. The memoir conveys memorable stories about the transformation of soldiers in war zones into communities of peace activists. Jan Barry is the author of Waging Art: Tackling Grief and Trauma with Creative Arts\, among other works. \nSmart Fish Don’t Bite ($22.00 – 2025) by W. D. Ehrhart\, a Marine Corps veteran of both the Vietnam War and Vietnam Veterans Against the War. The author of multiple books of both prose and poetry\, including Vietnam-Perkasie: a Combat Marine Memoir\, and Thank You for Your Service: Collected Poems. As the poems in this most recent collection demonstrate\, he is a writer who fought in Vietnam\, not a Vietnam writer.
URL:https://moonstoneartscenter.com/event/peace-like-war-is-waged-reading-with-jan-barry-and-w-d-ehrhart/
LOCATION:The Free Library of Philadelphia\, 1901 Vine Street\, 1901 Vine Street\, Philadelphia\, PA\, 19104\, United States
CATEGORIES:Events,Poetry Events
ATTACH;FMTTYPE=image/png:https://moonstoneartscenter.com/wp-content/uploads/2025/09/Peace-like-War-is-Waged-A-Discussion-and-Reading-with-Jan-Barry-and-W.D.-Ehrhart.png
END:VEVENT
END:VCALENDAR