BEGIN:VCALENDAR
VERSION:2.0
PRODID:-//Moonstone Arts Center - ECPv6.15.20//NONSGML v1.0//EN
CALSCALE:GREGORIAN
METHOD:PUBLISH
X-ORIGINAL-URL:https://moonstoneartscenter.com
X-WR-CALDESC:Events for Moonstone Arts Center
REFRESH-INTERVAL;VALUE=DURATION:PT1H
X-Robots-Tag:noindex
X-PUBLISHED-TTL:PT1H
BEGIN:VTIMEZONE
TZID:America/New_York
BEGIN:DAYLIGHT
TZOFFSETFROM:-0500
TZOFFSETTO:-0400
TZNAME:EDT
DTSTART:20240310T070000
END:DAYLIGHT
BEGIN:STANDARD
TZOFFSETFROM:-0400
TZOFFSETTO:-0500
TZNAME:EST
DTSTART:20241103T060000
END:STANDARD
BEGIN:DAYLIGHT
TZOFFSETFROM:-0500
TZOFFSETTO:-0400
TZNAME:EDT
DTSTART:20250309T070000
END:DAYLIGHT
BEGIN:STANDARD
TZOFFSETFROM:-0400
TZOFFSETTO:-0500
TZNAME:EST
DTSTART:20251102T060000
END:STANDARD
BEGIN:DAYLIGHT
TZOFFSETFROM:-0500
TZOFFSETTO:-0400
TZNAME:EDT
DTSTART:20260308T070000
END:DAYLIGHT
BEGIN:STANDARD
TZOFFSETFROM:-0400
TZOFFSETTO:-0500
TZNAME:EST
DTSTART:20261101T060000
END:STANDARD
END:VTIMEZONE
BEGIN:VEVENT
DTSTART;TZID=America/New_York:20251119T190000
DTEND;TZID=America/New_York:20251119T210000
DTSTAMP:20260423T225449
CREATED:20251116T180033Z
LAST-MODIFIED:20251116T180340Z
UID:20787-1763578800-1763586000@moonstoneartscenter.com
SUMMARY:Live Poetry: Magnus Mateo\, Jane Edna Mohler\, & Louisa Schnaithmann
DESCRIPTION:Live Poetry: Magnus Mateo\, Jane Edna Mohler\, & Louisa Schnaithmann\nLive @ Fergies Pub\, 1214 Sansom Street \nMagnus Mateo is a genderfluid\, neurodivergent poet\, performer\, and event organizer based in the Lehigh Valley. In addition to their debut chapbook\, She’s Jealous of my Purple Sky\, Magnus has been published in various literary magazines and poetry anthologies. When he’s not writing and performing\, Magnus is the main host and event organizer of Noble Quills in Easton and of IceHouse Literary Arts Committee in Bethlehem. \nJane Edna Mohler is a Bucks County Poet Laureate (PA) emeritus\, and winner of the Main Street Voices. She was nominated multiple times for a Pushcart Prize and once for Best of the Net. Recent publications include Gargoyle\, One Art\, and Verse Virtual. Her collections\, Broken Umbrellas and Autumn Clears  are both from Kelsay Books. She is Poetry Editor of the Schuylkill Valley Journal. www.janeednamohler.com \nLouisa Schnaithmann is the author of the poetry chapbook Plague Love and the consulting editor for ONE ART: a journal of poetry. Her poems have appeared in Cultural Daily\, Gargoyle\, The Mantle\, SWWIM\, and the Summerset Review. She lives in southeastern Pennsylvania. \nSean Hanrahan Host\, Open Reading Follows
URL:https://moonstoneartscenter.com/event/live-poetry-magnus-mateo-jane-edna-mohler-louisa-schnaithmann/
LOCATION:Fergie’s Pub\, 1214 Sansom Street\, Philadelphia\, PA\, United States
CATEGORIES:Events,Poetry Events
ATTACH;FMTTYPE=image/png:https://moonstoneartscenter.com/wp-content/uploads/2025/11/November-19-2025-1.png
END:VEVENT
END:VCALENDAR