BEGIN:VCALENDAR
VERSION:2.0
PRODID:-//Moonstone Arts Center - ECPv6.15.20//NONSGML v1.0//EN
CALSCALE:GREGORIAN
METHOD:PUBLISH
X-WR-CALNAME:Moonstone Arts Center
X-ORIGINAL-URL:https://moonstoneartscenter.com
X-WR-CALDESC:Events for Moonstone Arts Center
REFRESH-INTERVAL;VALUE=DURATION:PT1H
X-Robots-Tag:noindex
X-PUBLISHED-TTL:PT1H
BEGIN:VTIMEZONE
TZID:America/New_York
BEGIN:DAYLIGHT
TZOFFSETFROM:-0500
TZOFFSETTO:-0400
TZNAME:EDT
DTSTART:20240310T070000
END:DAYLIGHT
BEGIN:STANDARD
TZOFFSETFROM:-0400
TZOFFSETTO:-0500
TZNAME:EST
DTSTART:20241103T060000
END:STANDARD
BEGIN:DAYLIGHT
TZOFFSETFROM:-0500
TZOFFSETTO:-0400
TZNAME:EDT
DTSTART:20250309T070000
END:DAYLIGHT
BEGIN:STANDARD
TZOFFSETFROM:-0400
TZOFFSETTO:-0500
TZNAME:EST
DTSTART:20251102T060000
END:STANDARD
BEGIN:DAYLIGHT
TZOFFSETFROM:-0500
TZOFFSETTO:-0400
TZNAME:EDT
DTSTART:20260308T070000
END:DAYLIGHT
BEGIN:STANDARD
TZOFFSETFROM:-0400
TZOFFSETTO:-0500
TZNAME:EST
DTSTART:20261101T060000
END:STANDARD
END:VTIMEZONE
BEGIN:VEVENT
DTSTART;TZID=America/New_York:20251202T173000
DTEND;TZID=America/New_York:20251202T193000
DTSTAMP:20260423T212014
CREATED:20251117T201548Z
LAST-MODIFIED:20251117T202723Z
UID:20802-1764696600-1764703800@moonstoneartscenter.com
SUMMARY:New Voices: Live at Parkway Central Library
DESCRIPTION:New Voices: Fall 2025\nA series for emerging poets between the ages of 10 and 25. This bi-annual publication invites poets to voice their experiences\, introduce their new ways of thinking\, and create the next generation of poetry. New Voices brings diverse voices and perspectives to print\, from varied ethnic\, gender\, and class backgrounds.\nJoin us as contributors read their poems!\nTuesday\, December 2nd\, 2025 – If you live near Philadelphia please join us live.\nLIVE at 5:30 EDT – Central Library\, 1901 Vine St.
URL:https://moonstoneartscenter.com/event/new-voices-live-at-parkway-central-library-2/
LOCATION:PA
CATEGORIES:Events,Poetry Events
ATTACH;FMTTYPE=image/png:https://moonstoneartscenter.com/wp-content/uploads/2025/11/wordpress-graphic.png
END:VEVENT
BEGIN:VEVENT
DTSTART;TZID=America/New_York:20251202T183000
DTEND;TZID=America/New_York:20251202T200000
DTSTAMP:20260423T212014
CREATED:20251117T204650Z
LAST-MODIFIED:20251117T204650Z
UID:20806-1764700200-1764705600@moonstoneartscenter.com
SUMMARY:Philly Loves Poetry Interview and Readings Series - Live Broadcast
DESCRIPTION:Moonstone Poetry @ PhillyCAM: Can be viewed on the Phillycam website Or Cable 66/966HD/967 or Verizon FIOS\, 29/30. In Philadelphia. \nLeonard Gontarek is the author of eight books of poems\, his poems have appeared in American Poetry Review\, Field\, Poet Lore\, Fence\, and in the anthologies\, The Best American Poetry among others. He coordinates The Philadelphia Poetry Festival\, Peace/Works: Poetry Readings for Peace\, the Green Line Café Reading and Interview Series\, and Poetry In Common.  Since 2006 he has conducted 1000 poetry workshops in venues including\, The Moonstone Arts Center\, Musehouse\, The Kelly Writers House\, University City Arts League\, Free Library of Philadelphia\, Mad Poets Society\, Philadelphia Arts in Education Partnership\, and a weekly Saturday workshop from his home in West Philadelphia.  In 2014 he created the first Philly Poetry Day. \nCharles S. Carr\, Host
URL:https://moonstoneartscenter.com/event/philly-loves-poetry-interview-and-readings-series-live-broadcast-4/
LOCATION:PA
CATEGORIES:Events,Poetry Events
ATTACH;FMTTYPE=image/png:https://moonstoneartscenter.com/wp-content/uploads/2020/08/Your-paragraph-text-1.png
END:VEVENT
END:VCALENDAR