BEGIN:VCALENDAR
VERSION:2.0
PRODID:-//Moonstone Arts Center - ECPv6.15.20//NONSGML v1.0//EN
CALSCALE:GREGORIAN
METHOD:PUBLISH
X-WR-CALNAME:Moonstone Arts Center
X-ORIGINAL-URL:https://moonstoneartscenter.com
X-WR-CALDESC:Events for Moonstone Arts Center
REFRESH-INTERVAL;VALUE=DURATION:PT1H
X-Robots-Tag:noindex
X-PUBLISHED-TTL:PT1H
BEGIN:VTIMEZONE
TZID:America/New_York
BEGIN:DAYLIGHT
TZOFFSETFROM:-0500
TZOFFSETTO:-0400
TZNAME:EDT
DTSTART:20250309T070000
END:DAYLIGHT
BEGIN:STANDARD
TZOFFSETFROM:-0400
TZOFFSETTO:-0500
TZNAME:EST
DTSTART:20251102T060000
END:STANDARD
BEGIN:DAYLIGHT
TZOFFSETFROM:-0500
TZOFFSETTO:-0400
TZNAME:EDT
DTSTART:20260308T070000
END:DAYLIGHT
BEGIN:STANDARD
TZOFFSETFROM:-0400
TZOFFSETTO:-0500
TZNAME:EST
DTSTART:20261101T060000
END:STANDARD
BEGIN:DAYLIGHT
TZOFFSETFROM:-0500
TZOFFSETTO:-0400
TZNAME:EDT
DTSTART:20270314T070000
END:DAYLIGHT
BEGIN:STANDARD
TZOFFSETFROM:-0400
TZOFFSETTO:-0500
TZNAME:EST
DTSTART:20271107T060000
END:STANDARD
END:VTIMEZONE
BEGIN:VEVENT
DTSTART;TZID=America/New_York:20260211T190000
DTEND;TZID=America/New_York:20260211T210000
DTSTAMP:20260423T180157
CREATED:20260208T174129Z
LAST-MODIFIED:20260208T175134Z
UID:20940-1770836400-1770843600@moonstoneartscenter.com
SUMMARY:House Poet: Dead Presidents Club with Von Wise\, Blake Melvine & DJ Donald Khaleel Mason
DESCRIPTION:House Poet #27: Dead Presidents Club\n\n\nWednesday\, February 11\, 2026 at 7 p.m. at Fergie’s Pub.\nfeaturing: Von Wise\, Blake Melvine and resident DJ Donald Khaleel Mason\nVon Wise received his MFA for Creative Writing from Florida International University and is the author of Grow a Cowboy\, winner of the 2025 Beyond Words Poetry Chapbook Awards. His poetry and prose have been published and anthologized by Lucky Jefferson\, Inverted Syntax\, Gulf Stream Literary Magazine\, Philadelphia Stories\, Red Ogre Review\, and elsewhere. He teaches English and Creative Writing in Philadelphia\, where he lives. \n\n\n\nBlake Melvin aka “Baby” is a combination of raw vulnerability\, charming confidence \, and Pure Honesty. Lead by his “three keys” Bold/OPEN/Truth\, Blake is sure to deliver an entertaining and impactful performance. \n\n\n\n\nKhaleel Mason is a 40-year+ veteran of servicing the world with house music\, home and abroad. He performed on the show “Welcome to Our House” for 10 years on 105.3 WDAS FM. An organizer\, producer\, and DJ\, Khaleel serves up some of the grooviest beats in Philadelphia’s most welcoming and inclusive spaces.
URL:https://moonstoneartscenter.com/event/house-poet-dead-presidents-club-with-von-wise-blake-melvine-dj-donald-khaleel-mason/
LOCATION:Fergie’s Pub\, 1214 Sansom Street\, Philadelphia\, PA\, United States
ATTACH;FMTTYPE=image/png:https://moonstoneartscenter.com/wp-content/uploads/2026/02/house-poet-feb-2026.png
END:VEVENT
END:VCALENDAR