BEGIN:VCALENDAR
VERSION:2.0
PRODID:-//Moonstone Arts Center - ECPv6.15.20//NONSGML v1.0//EN
CALSCALE:GREGORIAN
METHOD:PUBLISH
X-WR-CALNAME:Moonstone Arts Center
X-ORIGINAL-URL:https://moonstoneartscenter.com
X-WR-CALDESC:Events for Moonstone Arts Center
REFRESH-INTERVAL;VALUE=DURATION:PT1H
X-Robots-Tag:noindex
X-PUBLISHED-TTL:PT1H
BEGIN:VTIMEZONE
TZID:America/New_York
BEGIN:DAYLIGHT
TZOFFSETFROM:-0500
TZOFFSETTO:-0400
TZNAME:EDT
DTSTART:20250309T070000
END:DAYLIGHT
BEGIN:STANDARD
TZOFFSETFROM:-0400
TZOFFSETTO:-0500
TZNAME:EST
DTSTART:20251102T060000
END:STANDARD
BEGIN:DAYLIGHT
TZOFFSETFROM:-0500
TZOFFSETTO:-0400
TZNAME:EDT
DTSTART:20260308T070000
END:DAYLIGHT
BEGIN:STANDARD
TZOFFSETFROM:-0400
TZOFFSETTO:-0500
TZNAME:EST
DTSTART:20261101T060000
END:STANDARD
BEGIN:DAYLIGHT
TZOFFSETFROM:-0500
TZOFFSETTO:-0400
TZNAME:EDT
DTSTART:20270314T070000
END:DAYLIGHT
BEGIN:STANDARD
TZOFFSETFROM:-0400
TZOFFSETTO:-0500
TZNAME:EST
DTSTART:20271107T060000
END:STANDARD
END:VTIMEZONE
BEGIN:VEVENT
DTSTART;TZID=America/New_York:20260412T150000
DTEND;TZID=America/New_York:20260412T170000
DTSTAMP:20260423T141441
CREATED:20260328T154355Z
LAST-MODIFIED:20260328T154355Z
UID:21102-1776006000-1776013200@moonstoneartscenter.com
SUMMARY:Sunday April 12 - LIVE
DESCRIPTION:Sunday April 12\, 2026 – LIVE at Fergie’s Pub @ 3pm\nFeaturing: Joseph Chelius\, Lee Stockdale\, Anne-Adele Wight\, and Aaron Perry as Host \nJoseph Chelius is the author of five collections of poems and is a former Bucks County\, Pennsylvania Poet. \nLee Stockdale has won the United Kingdom National Poetry Prize\, Montana Prize for Humor\, Sidney Lanier Poetry Prize\, and others. \nAnne-Adele Wight is the author of An Internet of Containment\, The Age of Greenhouses\, Opera House Arterial\, and Sidestep Catapult\, all from BlazeVOX. \nAaron Perry Host – Open Reading Follows
URL:https://moonstoneartscenter.com/event/sunday-april-12-live/
LOCATION:Fergie’s Pub\, 1214 Sansom Street\, Philadelphia\, PA\, United States
CATEGORIES:Events,Poetry Events
ATTACH;FMTTYPE=image/png:https://moonstoneartscenter.com/wp-content/uploads/2026/03/April-12-2026-LIVE.png
END:VEVENT
END:VCALENDAR