BEGIN:VCALENDAR
VERSION:2.0
PRODID:-//Moonstone Arts Center - ECPv6.15.20//NONSGML v1.0//EN
CALSCALE:GREGORIAN
METHOD:PUBLISH
X-ORIGINAL-URL:https://moonstoneartscenter.com
X-WR-CALDESC:Events for Moonstone Arts Center
REFRESH-INTERVAL;VALUE=DURATION:PT1H
X-Robots-Tag:noindex
X-PUBLISHED-TTL:PT1H
BEGIN:VTIMEZONE
TZID:America/New_York
BEGIN:DAYLIGHT
TZOFFSETFROM:-0500
TZOFFSETTO:-0400
TZNAME:EDT
DTSTART:20240310T070000
END:DAYLIGHT
BEGIN:STANDARD
TZOFFSETFROM:-0400
TZOFFSETTO:-0500
TZNAME:EST
DTSTART:20241103T060000
END:STANDARD
BEGIN:DAYLIGHT
TZOFFSETFROM:-0500
TZOFFSETTO:-0400
TZNAME:EDT
DTSTART:20250309T070000
END:DAYLIGHT
BEGIN:STANDARD
TZOFFSETFROM:-0400
TZOFFSETTO:-0500
TZNAME:EST
DTSTART:20251102T060000
END:STANDARD
BEGIN:DAYLIGHT
TZOFFSETFROM:-0500
TZOFFSETTO:-0400
TZNAME:EDT
DTSTART:20260308T070000
END:DAYLIGHT
BEGIN:STANDARD
TZOFFSETFROM:-0400
TZOFFSETTO:-0500
TZNAME:EST
DTSTART:20261101T060000
END:STANDARD
END:VTIMEZONE
BEGIN:VEVENT
DTSTART;TZID=America/New_York:20250105T140000
DTEND;TZID=America/New_York:20250105T153000
DTSTAMP:20260425T074735
CREATED:20241221T180924Z
LAST-MODIFIED:20241221T180924Z
UID:20002-1736085600-1736091000@moonstoneartscenter.com
SUMMARY:Virtual Poetry: Remembering T. S. Eliot
DESCRIPTION:Remembering T. S. Eliot\nSunday January 5\, 2025  \n2pm EST virtual \nRegister for the Zoom: https://us06web.zoom.us/meeting/register/tZItdOuopzkpHtZMtMmL-wsKMt33Qh3uvIr- \n(26 September 1888 – 4 January 1965) was a poet\, essayist and playwright\, a leading figure in English-language Modernist poetry where he reinvigorated the art through the use of language\, writing style\, and verse structure. Also noted for his critical essays\, which often re-evaluated long-held cultural beliefs\, he wrote seven plays\, notably Murder in the Cathedral and The Cocktail Party and was awarded the 1948 Nobel Prize in Literature\, “for his outstanding\, pioneer contribution to present-day poetry”. \nPoets read from our Remembering T. S. Eliot anthology.
URL:https://moonstoneartscenter.com/event/virtual-poetry-remembering-t-s-eliot/
LOCATION:virtual
CATEGORIES:Events,Poetry Events
ATTACH;FMTTYPE=image/png:https://moonstoneartscenter.com/wp-content/uploads/2024/12/Copy-of-Remembering-TS-Eliot.png
END:VEVENT
BEGIN:VEVENT
DTSTART;TZID=America/New_York:20250108T190000
DTEND;TZID=America/New_York:20250108T210000
DTSTAMP:20260425T074735
CREATED:20241221T184108Z
LAST-MODIFIED:20241221T184726Z
UID:20011-1736362800-1736370000@moonstoneartscenter.com
SUMMARY:Live Poetry: House Poet with Mike Bagwell and Michael Ivory
DESCRIPTION:Live Poetry: House Poet with Mike Bagwell and Michael Ivory\nWednesday January 8\, 2025 – 7:00pm  \nLive at Fergie’s Pub\,1214 Sansom Street \nOn Zoom –  Register here: https://us06web.zoom.us/meeting/register/tZMpdu-spzsiEtHWlYze5LmC-S7s1MFjVGdK \nHouse Poet @ Fergie’s Pub – Since March 2022\, House Poet has strived to bring together writers\, dancers\, DJs\, and musicians. Join us as we bring that energy to Moonstone’s Poetry Nights at Fergies\, which features an open reading\, featured readers\, live music\, and a soundtrack you can dance to. \nMike Bagwell is a debris language and a writer in Philly. He’s deep into a multimedia Gilgamesh translation that’ll be hundreds of thousands of pages and take 200 years to complete. Recent work appears in Action Spectacle\, ITERANT\, Sprung Formal\, Annulet\, Tyger Quarterly\, THRUSH\, and others. He runs the Ghost Harmonics reading series. Find him at mikebagwell.me\, @low_gh0st\, or playing dragons with his daughters \nMichael Ivory is a Miami\, FL native whose journeys have led him to Philadelphia. A preacher’s kid by birth and a magician in his daydreams\, his writing has been an unending journey to share the magic he feels in the everyday with others. Whether it’s the wonder of water\, the anointing that is queerness\, or the way-making power of Black folks\, he wants to help people marvel at it. His work can be read in Waterproof: Evidence of a Miami Worth Remembering and heard in the forthcoming Audio-Anthology: Who We Are is Made\, both published with O\, Miami. Michael holds an MFA in Fiction from North Carolina State University and can be found using his spare time becoming a Pokemon master or laughing way too loudly. \nLindsay Hargrave\, Warren Longmire – Hosts – Open Reading Follows
URL:https://moonstoneartscenter.com/event/live-poetry-house-poet-with-mike-bagwell-and-michael-ivory/
LOCATION:Fergie’s Pub\, 1214 Sansom Street\, Philadelphia\, PA\, United States
CATEGORIES:Events,Poetry Events
ATTACH;FMTTYPE=image/png:https://moonstoneartscenter.com/wp-content/uploads/2024/12/HousePoet_Jan_8_2025.png
END:VEVENT
BEGIN:VEVENT
DTSTART;TZID=America/New_York:20250115T190000
DTEND;TZID=America/New_York:20250115T210000
DTSTAMP:20260425T074735
CREATED:20241222T140803Z
LAST-MODIFIED:20241222T141321Z
UID:20015-1736967600-1736974800@moonstoneartscenter.com
SUMMARY:Live Poetry: Jon Lawrence\, MJ McGinn\, VA Smith\, and Amy Beth Sission
DESCRIPTION:Live Poetry with Jon Lawrence\, MJ McGinn\, VA Smith\, and Amy Beth Sission\nWednesday January 15\, 2025 – 7:00pm  \nLive at Fergie’s Pub\,1214 Sansom Street \nOr register for Zoom here: https://us06web.zoom.us/meeting/register/tZEscOiprj4vHN0alIAMAjPkfzE1D9sbPaZe \nJon Lawrence currently teaches high school English and Creative Writing in his hometown of Bethlehem\, Pennsylvania. He received an MFA in Creative Writing at the Maslow Family Graduate Program in Creative Writing at Wilkes University. He is the author of the chapbook A Phrase Which Becomes Us (Bottlecap Press\, 2024) and his poetry and reviews have been published in Newfound\, American Writers Review\, The Bangalore Review\, Wild Roof Journal\, and others. \nMJ McGinn received his MFA from Adelphi University and was a VCCA resident in 2019. His work has been included in the Wigleaf 50 best very short stories and has previously appeared in the Guernica/PEN Flash Series\, Necessary Fiction\, Lost Balloon\, X-R-A-Y Literary Magazine\, LIT Magazine\, and elsewhere. He lives and teaches middle school in Philadelphia. \nVA Smith\, author of Biking Through the Stone Age and American Daughters\, is a frequent Pushcart and Best of the Net nominee. Her work has appeared in several anthologies and in dozens of literary journals\, among them: Southern Review\, Calyx\, Crab Creek Review\, West Trade Review and Burningword Literary Journal. A former Liberal Arts Teaching Excellence awardee at Penn State University as a Professor of Teaching in The Department of English\, VA gigs now as Poetry Editor at River Heron Review. \nAmy Beth Sisson lives near the skunk cabbages in a town outside of Philly. Her poetry has appeared in Cleaver Magazine\, The Night Heron Barks\, Ran Off With the Star Bassoon\, Philadelphia Stories\, The Shoutflower\, Hot Pink Magazine\, and others. She received her MFA in poetry from Rutgers University Camden in 2023 and was a 2024 Peter Taylor Fellow with the Kenyon Review Writing Workshops. She is an Associate Artist with the Institute for the Study of Global Racial Justice and is an Editorial and Special Projects Assistant for Fence Publishers. \nSean Hanrahan Host – Open Reading Follows
URL:https://moonstoneartscenter.com/event/live-poetry-jon-lawrence-mj-mcginn-va-smith-and-amy-beth-sission/
LOCATION:Fergie’s Pub\, 1214 Sansom Street\, Philadelphia\, PA\, United States
CATEGORIES:Events,Poetry Events
ATTACH;FMTTYPE=image/png:https://moonstoneartscenter.com/wp-content/uploads/2024/12/Jan-15-2025.png
END:VEVENT
BEGIN:VEVENT
DTSTART;TZID=America/New_York:20250122T190000
DTEND;TZID=America/New_York:20250122T210000
DTSTAMP:20260425T074735
CREATED:20241222T143014Z
LAST-MODIFIED:20241222T143014Z
UID:20018-1737572400-1737579600@moonstoneartscenter.com
SUMMARY:Live Poetry: Terri Lyons\, Debrah Morkun\, and J. C. Todd
DESCRIPTION:Live Poetry: Terri Lyons\, Debrah Morkun\, and J. C. Todd\nWednesday January 22\, 2025 – 7:00pm  \nLive at Fergie’s Pub\,1214 Sansom Street \nFor Zoom\, register here: https://us06web.zoom.us/meeting/register/tZIlfuirpzwsG9x38xszu1yyCB6qJwrpYsAr \nTerri Lyons is a Philadelphia based poet and playwright who has collaborated with a variety of urban initiatives to support cultural and historical enrichment. Her latest book is Light of the August Moon\, highlighting the black excursion through the 20th century. She instigates joy and savors truth with her spoken word collection while inspiring our youth to understand the value of history and recognize their own potential. Terri has received numerous awards including citations from the City of Philadelphia\, the State of Pennsylvania\, and the 14th and 35th District of Philadelphia Police Department. She has had several successful performances of her play\, When the Truth Comes Out\, highlighting the silent architects of the modern civil rights movement. (Photo credit Cleo Townsend) \nDebrah Morkun believes in near death experiences and prays to the old gods.  She practices magic and the coin toss\, hoping to synthesize the two into holy orders.  She is the author of The Ida Pingala and Projection Machine\, as well as several chapbooks. \nJ. C. Todd’s most recent books include a bilingual (English/Lithuanian collection\, What Kept Me Awake?/Kas neleido uzmigti?\, Beyond Repair\, and The Damages of Morning\,. She is a co-editor of the anthology Convergence: Poetry on Environmental Impacts of War\, forthcoming from Scarlet Tanager Press in 2025. Winner of the Rita Dove Prize and twice a finalist for Poetry Society of America awards\, JC holds fellowships from the Pew Center for Arts and Heritage and Pennsylvania Council on the Arts. Poems have appeared in the Beloit Poetry Journal\, The Paris Review\, The Night Heron Barks and other journals. \nAnne-Adele Wight Host – Open Reading Follows
URL:https://moonstoneartscenter.com/event/live-poetry-terri-lyons-debrah-morkun-and-j-c-todd/
LOCATION:Fergie’s Pub\, 1214 Sansom Street\, Philadelphia\, PA\, United States
CATEGORIES:Events,Poetry Events
ATTACH;FMTTYPE=image/png:https://moonstoneartscenter.com/wp-content/uploads/2024/12/January-22-2025.png
END:VEVENT
BEGIN:VEVENT
DTSTART;TZID=America/New_York:20250129T190000
DTEND;TZID=America/New_York:20250129T210000
DTSTAMP:20260425T074735
CREATED:20250102T181619Z
LAST-MODIFIED:20250128T160747Z
UID:20026-1738177200-1738184400@moonstoneartscenter.com
SUMMARY:Live Poetry: Ernest Hilbert\, Dennis Hinrichsen\, and Sheleen McElhinney
DESCRIPTION:For Zoom\, register here: https://us06web.zoom.us/meeting/register/tZAtdumgqDsuGdAWcqR8ZcE1s8-QCdemDt6n \nErnest Hilbert it the author of the poetry collections Sixty Sonnets\, All of You on the Good Earth\, Caligulan—selected as winner of the 2017 Poets’ Prize—Last One Out\, and Storm Swimmer\, selected by Rowan Ricardo Phillips as the winner of the 2022 Vassar Miller Prize. Visit him at www.ernesthilbert.com \nDennis Hinrichsen is the author is eleven books of poetry. His most recent is Dominion + Selected Poems (Green Linden\, 2024). Previous books have won the Akron\, Field\, Tampa\, Michael Waters\, Grid and Wishing Jewel Poetry Prizes. New work can be found in The Indianapolis Review\, Midwest Review\, South Florida Poetry Journal\, Swing and Third Coast. \nSheleen McElhinney is the author of Every Little Vanishing\, the winner of the 2021 Write Bloody Publishing book award. Her work has also appeared or is forthcoming in Lily Poetry Review\, Bayou Magazine\, Slant\, Free State Review\, and elsewhere. She currently teaches poetry to adults in recovery from substance abuse. She lives in Bucks County\, Pa\, where she was born and raised. \nOpen Reading Follows
URL:https://moonstoneartscenter.com/event/live-poetry-ernest-hilbert-dennis-hinrichsen-and-sheleen-mcelhinney/
LOCATION:Fergie’s Pub\, 1214 Sansom Street\, Philadelphia\, PA\, United States
CATEGORIES:Poetry Events
ATTACH;FMTTYPE=image/png:https://moonstoneartscenter.com/wp-content/uploads/2024/12/Jan-29-2025.png
END:VEVENT
END:VCALENDAR