BEGIN:VCALENDAR
VERSION:2.0
PRODID:-//Moonstone Arts Center - ECPv6.15.20//NONSGML v1.0//EN
CALSCALE:GREGORIAN
METHOD:PUBLISH
X-WR-CALNAME:Moonstone Arts Center
X-ORIGINAL-URL:https://moonstoneartscenter.com
X-WR-CALDESC:Events for Moonstone Arts Center
REFRESH-INTERVAL;VALUE=DURATION:PT1H
X-Robots-Tag:noindex
X-PUBLISHED-TTL:PT1H
BEGIN:VTIMEZONE
TZID:America/New_York
BEGIN:DAYLIGHT
TZOFFSETFROM:-0500
TZOFFSETTO:-0400
TZNAME:EDT
DTSTART:20240310T070000
END:DAYLIGHT
BEGIN:STANDARD
TZOFFSETFROM:-0400
TZOFFSETTO:-0500
TZNAME:EST
DTSTART:20241103T060000
END:STANDARD
BEGIN:DAYLIGHT
TZOFFSETFROM:-0500
TZOFFSETTO:-0400
TZNAME:EDT
DTSTART:20250309T070000
END:DAYLIGHT
BEGIN:STANDARD
TZOFFSETFROM:-0400
TZOFFSETTO:-0500
TZNAME:EST
DTSTART:20251102T060000
END:STANDARD
BEGIN:DAYLIGHT
TZOFFSETFROM:-0500
TZOFFSETTO:-0400
TZNAME:EDT
DTSTART:20260308T070000
END:DAYLIGHT
BEGIN:STANDARD
TZOFFSETFROM:-0400
TZOFFSETTO:-0500
TZNAME:EST
DTSTART:20261101T060000
END:STANDARD
END:VTIMEZONE
BEGIN:VEVENT
DTSTART;TZID=America/New_York:20250122T190000
DTEND;TZID=America/New_York:20250122T210000
DTSTAMP:20260425T073652
CREATED:20241222T143014Z
LAST-MODIFIED:20241222T143014Z
UID:20018-1737572400-1737579600@moonstoneartscenter.com
SUMMARY:Live Poetry: Terri Lyons\, Debrah Morkun\, and J. C. Todd
DESCRIPTION:Live Poetry: Terri Lyons\, Debrah Morkun\, and J. C. Todd\nWednesday January 22\, 2025 – 7:00pm  \nLive at Fergie’s Pub\,1214 Sansom Street \nFor Zoom\, register here: https://us06web.zoom.us/meeting/register/tZIlfuirpzwsG9x38xszu1yyCB6qJwrpYsAr \nTerri Lyons is a Philadelphia based poet and playwright who has collaborated with a variety of urban initiatives to support cultural and historical enrichment. Her latest book is Light of the August Moon\, highlighting the black excursion through the 20th century. She instigates joy and savors truth with her spoken word collection while inspiring our youth to understand the value of history and recognize their own potential. Terri has received numerous awards including citations from the City of Philadelphia\, the State of Pennsylvania\, and the 14th and 35th District of Philadelphia Police Department. She has had several successful performances of her play\, When the Truth Comes Out\, highlighting the silent architects of the modern civil rights movement. (Photo credit Cleo Townsend) \nDebrah Morkun believes in near death experiences and prays to the old gods.  She practices magic and the coin toss\, hoping to synthesize the two into holy orders.  She is the author of The Ida Pingala and Projection Machine\, as well as several chapbooks. \nJ. C. Todd’s most recent books include a bilingual (English/Lithuanian collection\, What Kept Me Awake?/Kas neleido uzmigti?\, Beyond Repair\, and The Damages of Morning\,. She is a co-editor of the anthology Convergence: Poetry on Environmental Impacts of War\, forthcoming from Scarlet Tanager Press in 2025. Winner of the Rita Dove Prize and twice a finalist for Poetry Society of America awards\, JC holds fellowships from the Pew Center for Arts and Heritage and Pennsylvania Council on the Arts. Poems have appeared in the Beloit Poetry Journal\, The Paris Review\, The Night Heron Barks and other journals. \nAnne-Adele Wight Host – Open Reading Follows
URL:https://moonstoneartscenter.com/event/live-poetry-terri-lyons-debrah-morkun-and-j-c-todd/
LOCATION:Fergie’s Pub\, 1214 Sansom Street\, Philadelphia\, PA\, United States
CATEGORIES:Events,Poetry Events
ATTACH;FMTTYPE=image/png:https://moonstoneartscenter.com/wp-content/uploads/2024/12/January-22-2025.png
END:VEVENT
END:VCALENDAR