BEGIN:VCALENDAR
VERSION:2.0
PRODID:-//Moonstone Arts Center - ECPv6.15.20//NONSGML v1.0//EN
CALSCALE:GREGORIAN
METHOD:PUBLISH
X-ORIGINAL-URL:https://moonstoneartscenter.com
X-WR-CALDESC:Events for Moonstone Arts Center
REFRESH-INTERVAL;VALUE=DURATION:PT1H
X-Robots-Tag:noindex
X-PUBLISHED-TTL:PT1H
BEGIN:VTIMEZONE
TZID:America/New_York
BEGIN:DAYLIGHT
TZOFFSETFROM:-0500
TZOFFSETTO:-0400
TZNAME:EDT
DTSTART:20240310T070000
END:DAYLIGHT
BEGIN:STANDARD
TZOFFSETFROM:-0400
TZOFFSETTO:-0500
TZNAME:EST
DTSTART:20241103T060000
END:STANDARD
BEGIN:DAYLIGHT
TZOFFSETFROM:-0500
TZOFFSETTO:-0400
TZNAME:EDT
DTSTART:20250309T070000
END:DAYLIGHT
BEGIN:STANDARD
TZOFFSETFROM:-0400
TZOFFSETTO:-0500
TZNAME:EST
DTSTART:20251102T060000
END:STANDARD
BEGIN:DAYLIGHT
TZOFFSETFROM:-0500
TZOFFSETTO:-0400
TZNAME:EDT
DTSTART:20260308T070000
END:DAYLIGHT
BEGIN:STANDARD
TZOFFSETFROM:-0400
TZOFFSETTO:-0500
TZNAME:EST
DTSTART:20261101T060000
END:STANDARD
END:VTIMEZONE
BEGIN:VEVENT
DTSTART;TZID=America/New_York:20250810T140000
DTEND;TZID=America/New_York:20250810T170000
DTSTAMP:20260424T093536
CREATED:20250731T203550Z
LAST-MODIFIED:20250731T203550Z
UID:20553-1754834400-1754845200@moonstoneartscenter.com
SUMMARY:National Book Lovers Day
DESCRIPTION:Sunday August 10\, 2025 – 2pm EDT – VIRTUAL – National Book Lovers Day \nhttps://us06web.zoom.us/meeting/register/6vfdhJLjQ_q5lAr_bMgtuQ \nFrom clay tablets to today’s eBooks\, literature has played a crucial role in preserving cultures\, educating the masses\, and storytelling. Thanks to Johannes Gutenberg’s 15th-century printing press\, anyone\, not just royalty\, monks or landed gentry\, could read and own books. \nWith time\, printing on woodblocks also became the go-to way of reproducing books in China. The ancient scrolls dating back to the 4th century B.C. are considered the first ‘books\,’ but by today’s definition\, the oldest surviving compiled book is “The Diamond Sutra” which was published in China on May 11\, 868.
URL:https://moonstoneartscenter.com/event/national-book-lovers-day/
LOCATION:virtual
CATEGORIES:Poetry Events
ATTACH;FMTTYPE=image/jpeg:https://moonstoneartscenter.com/wp-content/uploads/2025/07/National-Book-Lover-Day.jpg
END:VEVENT
END:VCALENDAR