BEGIN:VCALENDAR
VERSION:2.0
PRODID:-//Moonstone Arts Center - ECPv6.15.20//NONSGML v1.0//EN
CALSCALE:GREGORIAN
METHOD:PUBLISH
X-WR-CALNAME:Moonstone Arts Center
X-ORIGINAL-URL:https://moonstoneartscenter.com
X-WR-CALDESC:Events for Moonstone Arts Center
REFRESH-INTERVAL;VALUE=DURATION:PT1H
X-Robots-Tag:noindex
X-PUBLISHED-TTL:PT1H
BEGIN:VTIMEZONE
TZID:America/New_York
BEGIN:DAYLIGHT
TZOFFSETFROM:-0500
TZOFFSETTO:-0400
TZNAME:EDT
DTSTART:20240310T070000
END:DAYLIGHT
BEGIN:STANDARD
TZOFFSETFROM:-0400
TZOFFSETTO:-0500
TZNAME:EST
DTSTART:20241103T060000
END:STANDARD
BEGIN:DAYLIGHT
TZOFFSETFROM:-0500
TZOFFSETTO:-0400
TZNAME:EDT
DTSTART:20250309T070000
END:DAYLIGHT
BEGIN:STANDARD
TZOFFSETFROM:-0400
TZOFFSETTO:-0500
TZNAME:EST
DTSTART:20251102T060000
END:STANDARD
BEGIN:DAYLIGHT
TZOFFSETFROM:-0500
TZOFFSETTO:-0400
TZNAME:EDT
DTSTART:20260308T070000
END:DAYLIGHT
BEGIN:STANDARD
TZOFFSETFROM:-0400
TZOFFSETTO:-0500
TZNAME:EST
DTSTART:20261101T060000
END:STANDARD
END:VTIMEZONE
BEGIN:VEVENT
DTSTART;TZID=America/New_York:20251221T140000
DTEND;TZID=America/New_York:20251221T150000
DTSTAMP:20260423T235832
CREATED:20251214T170146Z
LAST-MODIFIED:20251214T170146Z
UID:20840-1766325600-1766329200@moonstoneartscenter.com
SUMMARY:Virtual: Bill of Rights 2025 Anthology
DESCRIPTION:Virtual: Bill of Rights 2025\nSunday December 21\, 2pm EST\nRegister for Zoom here: https://us06web.zoom.us/meeting/register/oYNfQ0_WTCSJj2p4dFC62Q \nThe United States’ Bill of Rights was ratified on December 15\, 1791\, meant to guarantee civil rights and liberties. Below is a reminder of the rights included in the ratification. \n\nOur last anthology of the year – What happened to our rights?\n\nJoin us and reflect on the founding of the United States. \n  \nFree and open to everyone; not all poets will be reading  \nVirginia Alcott \nPatricia Bailey \nA. C. Blake \nLinda M. Crate \nJeanne DiGrazio \nFrancis Flavin \nWilliam Scott Galasso \nMarjorie Gowdy \nBruce Grossberg \nSteven Halpern \nAnnie Hartford \nValdez Hill \nJones Irwin \nAnnie Lanzillotto \nLynn Lipinski \nGeorge Schaefer \nJennifer Schneider \nKaramo Muchuri Sulieman \nEike Waltz
URL:https://moonstoneartscenter.com/event/virtual-bill-of-rights-2025-anthology/
LOCATION:Virtual
CATEGORIES:Events,Poetry Events
ATTACH;FMTTYPE=image/png:https://moonstoneartscenter.com/wp-content/uploads/2025/12/Bill-of-Rights-2025.png
END:VEVENT
END:VCALENDAR