BEGIN:VCALENDAR
VERSION:2.0
PRODID:-//Moonstone Arts Center - ECPv6.15.20//NONSGML v1.0//EN
CALSCALE:GREGORIAN
METHOD:PUBLISH
X-WR-CALNAME:Moonstone Arts Center
X-ORIGINAL-URL:https://moonstoneartscenter.com
X-WR-CALDESC:Events for Moonstone Arts Center
REFRESH-INTERVAL;VALUE=DURATION:PT1H
X-Robots-Tag:noindex
X-PUBLISHED-TTL:PT1H
BEGIN:VTIMEZONE
TZID:America/New_York
BEGIN:DAYLIGHT
TZOFFSETFROM:-0500
TZOFFSETTO:-0400
TZNAME:EDT
DTSTART:20170312T070000
END:DAYLIGHT
BEGIN:STANDARD
TZOFFSETFROM:-0400
TZOFFSETTO:-0500
TZNAME:EST
DTSTART:20171105T060000
END:STANDARD
BEGIN:DAYLIGHT
TZOFFSETFROM:-0500
TZOFFSETTO:-0400
TZNAME:EDT
DTSTART:20180311T070000
END:DAYLIGHT
BEGIN:STANDARD
TZOFFSETFROM:-0400
TZOFFSETTO:-0500
TZNAME:EST
DTSTART:20181104T060000
END:STANDARD
BEGIN:DAYLIGHT
TZOFFSETFROM:-0500
TZOFFSETTO:-0400
TZNAME:EDT
DTSTART:20190310T070000
END:DAYLIGHT
BEGIN:STANDARD
TZOFFSETFROM:-0400
TZOFFSETTO:-0500
TZNAME:EST
DTSTART:20191103T060000
END:STANDARD
BEGIN:DAYLIGHT
TZOFFSETFROM:-0500
TZOFFSETTO:-0400
TZNAME:EDT
DTSTART:20200308T070000
END:DAYLIGHT
BEGIN:STANDARD
TZOFFSETFROM:-0400
TZOFFSETTO:-0500
TZNAME:EST
DTSTART:20201101T060000
END:STANDARD
BEGIN:DAYLIGHT
TZOFFSETFROM:-0500
TZOFFSETTO:-0400
TZNAME:EDT
DTSTART:20210314T070000
END:DAYLIGHT
BEGIN:STANDARD
TZOFFSETFROM:-0400
TZOFFSETTO:-0500
TZNAME:EST
DTSTART:20211107T060000
END:STANDARD
BEGIN:DAYLIGHT
TZOFFSETFROM:-0500
TZOFFSETTO:-0400
TZNAME:EDT
DTSTART:20220313T070000
END:DAYLIGHT
BEGIN:STANDARD
TZOFFSETFROM:-0400
TZOFFSETTO:-0500
TZNAME:EST
DTSTART:20221106T060000
END:STANDARD
BEGIN:DAYLIGHT
TZOFFSETFROM:-0500
TZOFFSETTO:-0400
TZNAME:EDT
DTSTART:20230312T070000
END:DAYLIGHT
BEGIN:STANDARD
TZOFFSETFROM:-0400
TZOFFSETTO:-0500
TZNAME:EST
DTSTART:20231105T060000
END:STANDARD
BEGIN:DAYLIGHT
TZOFFSETFROM:-0500
TZOFFSETTO:-0400
TZNAME:EDT
DTSTART:20240310T070000
END:DAYLIGHT
BEGIN:STANDARD
TZOFFSETFROM:-0400
TZOFFSETTO:-0500
TZNAME:EST
DTSTART:20241103T060000
END:STANDARD
END:VTIMEZONE
BEGIN:VEVENT
DTSTART;TZID=America/New_York:20230809T190000
DTEND;TZID=America/New_York:20230809T210000
DTSTAMP:20260423T202729
CREATED:20230723T152256Z
LAST-MODIFIED:20230723T152256Z
UID:18777-1691607600-1691614800@moonstoneartscenter.com
SUMMARY:Poetry From the Ukraine: Live Reading
DESCRIPTION:Poetry from the Ukraine: Live Poetry Reading\nWednesday\, August 9 @ 7pm ET \nFeaturing: David Acosta\, Sibelan Forrester\, Sean Hanrahan\, Olga Livshin\, Lynn Levin\, and Warren C. Longmire \nLive at Fergies Pub – 1214 Sansom Street \nAnd on Zoom: https://us02web.zoom.us/meeting/register/tZUrfuuoqjgjGNM2meg9Y-c3Zh8hI-tcRU5M \nMoonstone is selling book bundles for the featured Ukrainian poets on our website. All profits will be donated to Ukraine TrustChain. Books are sold online and at the event. \nToday is a Different War by Lyudmyla Khersonska \nTranslated by Olga Livshin\, Andrew Janco\, Maya Chhabra\, and Lev Fridman – $18.00\, Arrowsmith Press – A portrayal of life from inside war-torn Ukraine. No other volume of poems captures the duality of fear and bravery\, anger and love\, despair and hope\, as well as the numbness and deep feeling of what it means to be Ukrainian in these unthinkable times. If you want to know what’s in the heart of the Ukrainian people\, look no further than this stunning volume of poems. Lyudmyla Khersonska is a poet and translator from Odesa\, Ukraine. She is the author of four poetry collections in Russian. Khersonska was recently included in the list\, “33 International Women Writers Who are Bold for Change.” Olga Livshin is the author of A Life Replaced: Poems with Translations from Anna Akhmatova and Vladimir Gandelsman and her poems appear in various journals.   \n  \nIn the Hour of War: Poetry from Ukraine – Edited by Carolyn Forché & Ilya Kaminsky $22.00\, Arrowsmith – “… Indeed\, we have heard the barrage on the 6 o’clock news\, but now we engage the war’s most apt witnesses who command the human heart through images and rhythms of language. These poems written primarily in Ukrainian\, and then translated into English\, refuse to glorify gore\, but instead render reflection. Have we grown numb to body counts? Poets of the Ukraine deliver a reckoning\, and the souls of a people are laid bare. … Such surrealism bears not only blinding terror\, but also moments of natural beauty. … some fight even with their hands tied behind their backs.” -Yusef Komunyakaa\, Pulitzer Prize winning poet \n  \n“We act like children with our dead\,” Halyna Kruk writes as she struggles to come to terms with the horror unfolding around her: “confused\,/ as if none of us knew until now/ how easy it is to die.” In poem after devastating poem\, Kruk confronts what we would prefer not to see: “a person runs toward a bullet/ with a wooden shield and a warm heart…” Translated with the utmost of care by Amelia Glaser and Yulia Ilchuk\, A Crash Course in Molotov Cocktails is a guidebook to the emotional combat in Ukraine.
URL:https://moonstoneartscenter.com/event/poetry-from-the-ukraine-live-reading/
LOCATION:Fergie’s Pub\, 1214 Sansom Street\, Philadelphia\, PA\, United States
CATEGORIES:Events,Fundraiser,Poetry Events
ATTACH;FMTTYPE=image/png:https://moonstoneartscenter.com/wp-content/uploads/2020/08/August-9.png
END:VEVENT
BEGIN:VEVENT
DTSTART;TZID=America/New_York:20181110T180000
DTEND;TZID=America/New_York:20181110T230000
DTSTAMP:20260423T202729
CREATED:20181025T182228Z
LAST-MODIFIED:20181025T184408Z
UID:13007-1541872800-1541890800@moonstoneartscenter.com
SUMMARY:Sounds & Words: A Fundraiser for The Moonstone Arts Center
DESCRIPTION:Sounds & Words: A Fundraiser for the Moonstone Arts Center\nwith Music\, Poetry\, Food\, Cash Bar\, Exhibits\, Book Sales \nFor 35 years\, Moonstone Arts Center has brought Philadelphia the best in the performance and publication of poetry. To support this Philadelphia treasure\, 11 poets and 2 bands will come together on one evening to remind you of why Moonstone is at the epicenter of the City’s literary scene.  \nMusic with Bobby Zankel’s Wonderful Sound 4\, featuring Sumi Tonooka and Richard Hill and Elliot Levin & Friends \nPoetry by: Siduri Beckman\, Jamar Hall\, Ryan Eckes\, Jeffrey Ethan Lee\, Michelle Myers\, Joe Roarty\, Bethlehem Robertson\, Sonia Sanchez\, Kirwyn Sutherland\, Kimmika Williams-Witherspoon\, Sekai Afua Zankel \nEmcees Warren Longmire & Elijah Pringle
URL:https://moonstoneartscenter.com/event/sounds-words-a-fundraiser-for-the-moonstone-arts-center/
LOCATION:1199C Hospital Workers Union Headquarters\, 1319 Locust Street\, Philadelphia\, PA\, United States
CATEGORIES:Events,Fundraiser,Poetry,Poetry Events
END:VEVENT
END:VCALENDAR