BEGIN:VCALENDAR
VERSION:2.0
PRODID:-//Moonstone Arts Center - ECPv6.15.20//NONSGML v1.0//EN
CALSCALE:GREGORIAN
METHOD:PUBLISH
X-ORIGINAL-URL:https://moonstoneartscenter.com
X-WR-CALDESC:Events for Moonstone Arts Center
REFRESH-INTERVAL;VALUE=DURATION:PT1H
X-Robots-Tag:noindex
X-PUBLISHED-TTL:PT1H
BEGIN:VTIMEZONE
TZID:America/New_York
BEGIN:DAYLIGHT
TZOFFSETFROM:-0500
TZOFFSETTO:-0400
TZNAME:EDT
DTSTART:20230312T070000
END:DAYLIGHT
BEGIN:STANDARD
TZOFFSETFROM:-0400
TZOFFSETTO:-0500
TZNAME:EST
DTSTART:20231105T060000
END:STANDARD
BEGIN:DAYLIGHT
TZOFFSETFROM:-0500
TZOFFSETTO:-0400
TZNAME:EDT
DTSTART:20240310T070000
END:DAYLIGHT
BEGIN:STANDARD
TZOFFSETFROM:-0400
TZOFFSETTO:-0500
TZNAME:EST
DTSTART:20241103T060000
END:STANDARD
BEGIN:DAYLIGHT
TZOFFSETFROM:-0500
TZOFFSETTO:-0400
TZNAME:EDT
DTSTART:20250309T070000
END:DAYLIGHT
BEGIN:STANDARD
TZOFFSETFROM:-0400
TZOFFSETTO:-0500
TZNAME:EST
DTSTART:20251102T060000
END:STANDARD
END:VTIMEZONE
BEGIN:VEVENT
DTSTART;TZID=America/New_York:20240911T190000
DTEND;TZID=America/New_York:20240911T210000
DTSTAMP:20260425T120348
CREATED:20240907T155607Z
LAST-MODIFIED:20240907T155607Z
UID:19782-1726081200-1726088400@moonstoneartscenter.com
SUMMARY:Live Reading: Justin Ryan\, James Milanesi\, Alexandra Naughton
DESCRIPTION:Live Poetry: Justin Ryan\, James Milanesi\, Alexandra Naughton\nWednesday September 11\, 2024 – 7pm  \nLive at Fergie’s Pub\,1214 Sansom Street and on Zoom \nRegistration Link https://us05web.zoom.us/j/82262171863?pwd=shO59ocZl1I7bpqxl5EGfs0b0wFY3x.1 \nJustin Ryan Fyfe is a poet in Philly. He just got fired from his job. You can read all his poems online at fromfromfrom.tumblr.com. \nJames Milanesi was born and raised in the Philadelphia area. He is an interdisciplinary poet and bartender. He has previously written a chapbook titled Momentary Sweetheart (Bottlecap Press). He is the curator and founder of a collective of poets who call themselves\, Poet’s Row. \nAlexandra Naughton is a poet\, novelist\, publisher\, and literary events producer based in Philadelphia. Her writing has been widely published on the web and in print\, and she performs regularly. Naughton’s work straddles the line between fiction and non-fiction\, prose and poetry\, and explores themes such as self-objectification\, existentialism\, the frailty of text-based communication\, and capitalism. She is the founder of Be About It Press\, established in 2010\, and co-host of the Bring A Blanket reading series. \nAmy Saul-Zerby Host – Open Reading Follows
URL:https://moonstoneartscenter.com/event/live-reading-justin-ryan-james-milanesi-alexandra-naughton/
LOCATION:Fergie’s Pub\, 1214 Sansom Street\, Philadelphia\, PA\, United States
CATEGORIES:Poetry,Poetry Events
ATTACH;FMTTYPE=image/png:https://moonstoneartscenter.com/wp-content/uploads/2024/09/Sept-11-2024.png
END:VEVENT
BEGIN:VEVENT
DTSTART;TZID=America/New_York:20240918T190000
DTEND;TZID=America/New_York:20240918T210000
DTSTAMP:20260425T120348
CREATED:20240914T145901Z
LAST-MODIFIED:20240914T154529Z
UID:19791-1726686000-1726693200@moonstoneartscenter.com
SUMMARY:Live Reading: David Ebenbach\, Elayna Mae Darcy\, Autumn Konopka\, Sean Lynch\, and Victoria Mier
DESCRIPTION:Moonstone Poetry – Prose Night\nDavid Ebenbach\, Elayna Mae Darcy\, Autumn Konopka\, Sean Lynch\, and Victoria Mier \nWednesday September 18\, 2024 – 7pm  \nLive at Fergie’s Pub\,1214 Sansom Street and on zoom –  Registration Required: https://us05web.zoom.us/j/82017815042?pwd=aLRcZOFnBsBoOfrU6001OawDPCuChe.1 \nDavid Ebenbach is the author of ten books of fiction\, poetry\, and non-fiction\, including his new novel Possible Happiness\, which author Gary Eldon Peter calls “a coming of age love letter to Philadelphia in the late 1980s and to one young man’s journey of self-discovery and self-acceptance.” A Philly native\, Ebenbach lives with his family in Washington\, DC. You can find out more at davidebenbach.com \nElayna Mae Darcy (they/she) is a queer poet\, YA author\, and filmmaker from Philadelphia. They aren’t sure what they love more—writing\, or their cat\, Bean. (Ok yeah it’s definitely the cat.) She is the author of the short story\, CONTINUUM and has had poems published in just femme & dandy\, and Impostor Lit\, among others. They are the author of a poetry duology that includes UNRAVELING LIGHT  and DARKNESS UNDONE as well as the YA fantasy novel in verse\, STILL THE STARS. \nAutumn Konopka is a writer\, runner\, and trauma-informed teaching artist. A former poet laureate of Montgomery County\, PA (2016)\, Autumn’s work has been published widely in literary journals\, and her poetry chapbook\, a chain of paper dolls\, was published in 2014 by the Head & the Hand Press. Her debut novel\, Pheidippides Didn’t Die (2023)\, has earned awards from the Next Generation Indie Book Awards\, the Eric Hoffer Books Awards\, and Writer’s Digest. Kirkus calls the book “a compelling adult romance that captures the complexities of trauma dynamics.” Autumn is a Book Reviews & Interviews Editor for Cleaver magazine and a volunteer and ambassador for Still I Run. \nSean Lynch is a writer and editor who’s published five books of poetry\, the city of your mind (Whirlwind Press\, 2013)\, Broad Street Line (Moonstone Press\, 2016)\, 100 Haiku (Moonstone Press\, 2017)\, On Violence (Radical Paper Press\, 2019)\, and Halo Nest (Alien Buddha Press\, 2024). He’s also the author of The Beast in the Pines\, a psychological horror novel about the Jersey Devil. \nVictoria Mier is a queer\, disabled writer and suspected changeling. Her short fiction has been published in Del Sol SFF Review\, Fifth Wheel Press\, SORTES\, and more. Earlier this year\, she released her debut novel\, Beyond the Aching Door\, an urban fantasy set in Philadelphia. Learn more at victoriamier.com. \nSean Hanrahan Host – Open Reading Follows
URL:https://moonstoneartscenter.com/event/live-reading-david-ebenbach-elayna-mae-darcy-autumn-konopka-sean-lynch-and-victoria-mier/
LOCATION:Fergie’s Pub\, 1214 Sansom Street\, Philadelphia\, PA\, United States
CATEGORIES:Poetry,Poetry Events
ATTACH;FMTTYPE=image/png:https://moonstoneartscenter.com/wp-content/uploads/2020/08/Sept-18th-2024-1.png
END:VEVENT
BEGIN:VEVENT
DTSTART;TZID=America/New_York:20240922T140000
DTEND;TZID=America/New_York:20240922T150000
DTSTAMP:20260425T120348
CREATED:20240914T155354Z
LAST-MODIFIED:20240914T160159Z
UID:19795-1727013600-1727017200@moonstoneartscenter.com
SUMMARY:Banned Books Week 2024
DESCRIPTION:Banned Books Week 2024\nSunday September 22\, 2024 \nVirtual on Zoom – 2pm \nRegistration Required: https://us05web.zoom.us/j/86935252863?pwd=8GIY87i0AJsTBbQWImX3sOVVUlx1ZO.1 \n“This is a dangerous time for readers and the public servants who provide access to reading materials. Readers\, particularly students\, are losing access to critical information\, and librarians and teachers are under attack for doing their jobs.” – Deborah Caldwell-Stone\, director of the ALA’s Office for Intellectual Freedom \nBanned Books Week celebrates the freedom to read and spotlights current and historical attempts to censor books in libraries and schools. In a time of intense political polarization\, library staff in every state are facing an unprecedented number of attempts to ban books. ALA’s Office for Intellectual Freedom ALA documented 1\,269 demands to censor library books and resources in 2022\, the highest number of attempted book bans for more than 20 years ago. The unparalleled number of reported book challenges in 2022 nearly doubles the 729 book challenges reported in 2021. Of the record 2\,571 unique titles targeted for censorship\, most were by or about LGBTQIA+ persons and Black\, Indigenous\, and people of color. Coming from the book industry Larry\, Robin’s Book Store\, and Moonstone have always fought censorship.  Join us as Poets respond to the issue of suppression and their right to write. \nOver 30 poets shared their works to combat book banning for our anthology. \nFeatured Poets\nnot all contributors will be reading \n\n\n\nAustin Alexis \nSusan Baer \nAnne Catharine Blake \nCharles Briggs \nSharnta Bullard \nAJ Chilson \nSuzanne Cooke \nLinda M. Crate \nAmber Deamer \n \nJoanne Durham \nAna Fores Tamayo \nBeejay Grob \nSteven Halpern \nJane Ellen Ibur \nJones Irwin \nMindy Kronenberg \nEelka Lampe \n \nKinard Lang \nScott Leff \nDaphne M \nCurtis Nelson \nFaith Paulsen \nElijah Pringle \nDavid Radavich \nJanet Restino \nLinda Romanowski \n \nKasey Ryman \nGeorge Schaefer \nJennifer Schneider \nKendall Snee \nKen Waldman \nEike Waltz \nKelley White \nSamantha Wright \n 
URL:https://moonstoneartscenter.com/event/banned-books-week-2024/
LOCATION:virtual
CATEGORIES:Poetry,Poetry Events
ATTACH;FMTTYPE=image/png:https://moonstoneartscenter.com/wp-content/uploads/2024/09/Banned-Books-Week-2024.png
END:VEVENT
END:VCALENDAR