BEGIN:VCALENDAR
VERSION:2.0
PRODID:-//Moonstone Arts Center - ECPv6.15.20//NONSGML v1.0//EN
CALSCALE:GREGORIAN
METHOD:PUBLISH
X-WR-CALNAME:Moonstone Arts Center
X-ORIGINAL-URL:https://moonstoneartscenter.com
X-WR-CALDESC:Events for Moonstone Arts Center
REFRESH-INTERVAL;VALUE=DURATION:PT1H
X-Robots-Tag:noindex
X-PUBLISHED-TTL:PT1H
BEGIN:VTIMEZONE
TZID:America/New_York
BEGIN:DAYLIGHT
TZOFFSETFROM:-0500
TZOFFSETTO:-0400
TZNAME:EDT
DTSTART:20240310T070000
END:DAYLIGHT
BEGIN:STANDARD
TZOFFSETFROM:-0400
TZOFFSETTO:-0500
TZNAME:EST
DTSTART:20241103T060000
END:STANDARD
BEGIN:DAYLIGHT
TZOFFSETFROM:-0500
TZOFFSETTO:-0400
TZNAME:EDT
DTSTART:20250309T070000
END:DAYLIGHT
BEGIN:STANDARD
TZOFFSETFROM:-0400
TZOFFSETTO:-0500
TZNAME:EST
DTSTART:20251102T060000
END:STANDARD
BEGIN:DAYLIGHT
TZOFFSETFROM:-0500
TZOFFSETTO:-0400
TZNAME:EDT
DTSTART:20260308T070000
END:DAYLIGHT
BEGIN:STANDARD
TZOFFSETFROM:-0400
TZOFFSETTO:-0500
TZNAME:EST
DTSTART:20261101T060000
END:STANDARD
END:VTIMEZONE
BEGIN:VEVENT
DTSTART;TZID=America/New_York:20250514T190000
DTEND;TZID=America/New_York:20250514T190000
DTSTAMP:20260424T152622
CREATED:20250505T184922Z
LAST-MODIFIED:20250505T184922Z
UID:20312-1747249200-1747249200@moonstoneartscenter.com
SUMMARY:Live Poetry: Sarah Browning\, W.D. Ehrhart\, Jack Miller
DESCRIPTION:Sarah Browning is the author of Call Me Yes\, Killing Summer\, and others\, co-host of Wild Indigo Poetry\, and teaches online with Writers in Progress. W. D. Ehrhart’s most recent books are Thank You for Your Service: Collected Poems; What We Can and Can’t Afford: Essays on Vietnam\, Patriotism\, and American Life\, and At Smedley Butler’s Grave. Jack Miller\, author of Habit: Seven Decades of Poems is a former English teacher who retired after a long career at Ocean City High School. Open Reading Follows
URL:https://moonstoneartscenter.com/event/live-poetry-sarah-browning-w-d-ehrhart-jack-miller-2/
LOCATION:Fergie’s Pub\, 1214 Sansom Street\, Philadelphia\, PA\, United States
CATEGORIES:Poetry,Poetry Events
ATTACH;FMTTYPE=image/png:https://moonstoneartscenter.com/wp-content/uploads/2025/05/Beige-Red-Gradient-Motivation-Qoute-Instagram-Post.png
END:VEVENT
BEGIN:VEVENT
DTSTART;TZID=America/New_York:20250519T190000
DTEND;TZID=America/New_York:20250519T190000
DTSTAMP:20260424T152622
CREATED:20250505T200206Z
LAST-MODIFIED:20250505T200206Z
UID:20326-1747681200-1747681200@moonstoneartscenter.com
SUMMARY:29th Annual Poetry Ink: Virtual Reading
DESCRIPTION:29th Annual Poetry Ink\nWe want everyone: published poets\, unpublished poets\, academic poets\, street poets\, poets\nwho write Sonnet\, Villanelle\, Haiku\, Ekphrastic Poems\, Concrete Poems\, Epitaph\, Elegy\,\nEpigram\, Limerick\, Ballad\, Ode\, Free Verse.\nJoin us for our 29th year of presenting 71 poets reading in alphabetical order\nMonday May 19\, 2025 – No matter where you live\, please join us virtually\nVIRTUAL at 7:00pm EDT on Zoom
URL:https://moonstoneartscenter.com/event/29th-annual-poetry-ink-virtual-reading/
LOCATION:PA
CATEGORIES:Poetry,Poetry Events
ATTACH;FMTTYPE=image/png:https://moonstoneartscenter.com/wp-content/uploads/2025/05/Minimalist-Gradient-Flyer-1.png
END:VEVENT
BEGIN:VEVENT
DTSTART;TZID=America/New_York:20250525T140000
DTEND;TZID=America/New_York:20250525T170000
DTSTAMP:20260424T152622
CREATED:20250522T180137Z
LAST-MODIFIED:20250522T180137Z
UID:20336-1748181600-1748192400@moonstoneartscenter.com
SUMMARY:Support Ukraine
DESCRIPTION:  \nRussia invaded Ukraine on February 24\, 2022. The Office of the United Nations High Commissioner for Human Rights (OHCHR) verified over 12\,600 civilian deaths as of January 2025. The war has resulted in a humanitarian crisis\, as thousands of Ukrainians were internally displaced or fled abroad. From a population of 41 million\, about 8 million Ukrainians have been internally displaced and more than 8.2 million have fled the country\, creating Europe’s largest refugee crisis since World War II. \nJoin as poets respond!
URL:https://moonstoneartscenter.com/event/support-ukraine/
LOCATION:virtual
CATEGORIES:Events,Poetry,Poetry Events
ATTACH;FMTTYPE=image/png:https://moonstoneartscenter.com/wp-content/uploads/2020/08/Support-Ukraine-ZOOM-Flyer-Sam-Irvin.png
END:VEVENT
BEGIN:VEVENT
DTSTART;TZID=America/New_York:20250525T170000
DTEND;TZID=America/New_York:20250525T170000
DTSTAMP:20260424T152622
CREATED:20250522T175347Z
LAST-MODIFIED:20250522T175347Z
UID:20338-1748192400-1748192400@moonstoneartscenter.com
SUMMARY:Book launch for Jane-Rebecca Cannarella's Long Island Sad Poems(Serotonin Press)
DESCRIPTION:  \nJane-Rebecca Cannarella is a writer and editor living in West Philadelphia. She edits HOOT Review\, a magazine published on postcards\, Meow Meow Pow Pow Lit\, a broadside press\, and was an editor for Lunch Ticket from 2015 to 2017. \nKrystle Griffin is an Aquarian alien who emerged from the depths of the Delaware River. A writer\, actor\, artist\, and Swiss army knife of all trades\, trying to spin brain bees and nightmares into something shiny. Anne-Adele Wight is the author of An Internet of Containment\, The Age of Greenhouses\, Opera House Arterial\, and Sidestep Catapult. Sean Lynch Host – Open Reading Follows
URL:https://moonstoneartscenter.com/event/book-launch-for-jane-rebecca-cannarellas-long-island-sad-poemsserotonin-press/
LOCATION:Sueño Restaurant\, 114 S 12th St\, Philadelphia\, PA\, 19107\, United States
CATEGORIES:Events,Poetry,Poetry Events
ATTACH;FMTTYPE=image/png:https://moonstoneartscenter.com/wp-content/uploads/2025/05/MAY-25TH-JANE-REBECCA-BOOK-LAUNCH-FLYER.png
END:VEVENT
BEGIN:VEVENT
DTSTART;TZID=America/New_York:20250528T190000
DTEND;TZID=America/New_York:20250528T190000
DTSTAMP:20260424T152622
CREATED:20250522T184303Z
LAST-MODIFIED:20250522T184303Z
UID:20342-1748458800-1748458800@moonstoneartscenter.com
SUMMARY:Poetry Reading by Love McTiernan\, Myles Matunis\, Adiah Siler
DESCRIPTION:Love McTiernan feels an obsession with the natural world and thus tends to write about clouds\, trees\, and Earth’s other unknown beasts. \nMyles Matunis work has been published by Expat Press and the Bitchin Kitsch\, featured on public radio\, and nominated for the Best of the Net. \nAdiah Siler is an east coaster through and through and so excited to be back in Philly for the show. Mac Chandler Host\, Open Reading Follows \n 
URL:https://moonstoneartscenter.com/event/poetry-reading-by-love-mctiernan-myles-matunis-adiah-siler/
LOCATION:Fergie’s Pub\, 1214 Sansom Street\, Philadelphia\, PA\, United States
CATEGORIES:Events,Poetry,Poetry Events
ATTACH;FMTTYPE=image/png:https://moonstoneartscenter.com/wp-content/uploads/2020/08/Wed-May-28-FERGIES-PUB.png
END:VEVENT
END:VCALENDAR