BEGIN:VCALENDAR
VERSION:2.0
PRODID:-//Moonstone Arts Center - ECPv6.15.20//NONSGML v1.0//EN
CALSCALE:GREGORIAN
METHOD:PUBLISH
X-ORIGINAL-URL:https://moonstoneartscenter.com
X-WR-CALDESC:Events for Moonstone Arts Center
REFRESH-INTERVAL;VALUE=DURATION:PT1H
X-Robots-Tag:noindex
X-PUBLISHED-TTL:PT1H
BEGIN:VTIMEZONE
TZID:America/New_York
BEGIN:DAYLIGHT
TZOFFSETFROM:-0500
TZOFFSETTO:-0400
TZNAME:EDT
DTSTART:20160313T070000
END:DAYLIGHT
BEGIN:STANDARD
TZOFFSETFROM:-0400
TZOFFSETTO:-0500
TZNAME:EST
DTSTART:20161106T060000
END:STANDARD
BEGIN:DAYLIGHT
TZOFFSETFROM:-0500
TZOFFSETTO:-0400
TZNAME:EDT
DTSTART:20170312T070000
END:DAYLIGHT
BEGIN:STANDARD
TZOFFSETFROM:-0400
TZOFFSETTO:-0500
TZNAME:EST
DTSTART:20171105T060000
END:STANDARD
BEGIN:DAYLIGHT
TZOFFSETFROM:-0500
TZOFFSETTO:-0400
TZNAME:EDT
DTSTART:20180311T070000
END:DAYLIGHT
BEGIN:STANDARD
TZOFFSETFROM:-0400
TZOFFSETTO:-0500
TZNAME:EST
DTSTART:20181104T060000
END:STANDARD
BEGIN:DAYLIGHT
TZOFFSETFROM:-0500
TZOFFSETTO:-0400
TZNAME:EDT
DTSTART:20190310T070000
END:DAYLIGHT
BEGIN:STANDARD
TZOFFSETFROM:-0400
TZOFFSETTO:-0500
TZNAME:EST
DTSTART:20191103T060000
END:STANDARD
END:VTIMEZONE
BEGIN:VEVENT
DTSTART;TZID=America/New_York:20180516T190000
DTEND;TZID=America/New_York:20180516T210000
DTSTAMP:20260425T135605
CREATED:20180502T183840Z
LAST-MODIFIED:20180502T192622Z
UID:12893-1526497200-1526504400@moonstoneartscenter.com
SUMMARY:Thinking Green with Jacob Russell\, Paul Siegell & Anne-Adele Wight
DESCRIPTION:Moonstone Poetry @ Fergie’s Pub\n1214 Sansom Street\nWednesday May 16\, 2018 – 7pm\nThinking Green with \nJacob Russell\, Paul Siegell & Anne-Adele Wight\nJacob\, Willard and Goby work together as a creative collective. Writing under the name\, Jacob Russell\, they have published three chapbooks\, many poems\, and have four books of poetry searching for publishers. He is also author of the novel Ari Figue’s Cat. Since 2012\, they have been making visual art\, signed with the name on their birth certificate—Willard. In recent years\, Jacob\, Willard and Goby (their most recent go-to name) have been writing serial poems\, interconnected\, but in no particular order\, or rather—ordered to the mood of the occasion—as will be the case at this reading. \nPaul Siegell is the author of Take Out Delivery (Spuyten Duyvil\, 2018)\, as well as wild life rifle fire\, jambandbootleg and Poemergency Room. He is a senior editor at Painted Bride Quarterly and has contributed to American Poetry Review\, Black Warrior Review\, Rattle\, and many other fine journals. Kindly find more of his work – and concrete poetry t-shirts – at ReVeLeR @ eYeLeVeL (http://paulsiegell.blogspot.com) and @paulsiegell. \nAnne-Adele Wight is the author of The Age of Greenhouses (2016)\, Opera House Arterial (2013)\, and Sidestep Catapult (2011)\, all from BlazeVOX. Her work has appeared in diverse publications including American Writing\, Philadelphia Poets\, Mad Poets Review\, Apiary\, Fairies in America\, Jupiter 88\, Luna Luna\, The Philadelphia Inquirer\, and Bedfellows. Anne-Adele’s work has received awards from Philadelphia Poets Magazine\, the Philadelphia Writers’ Conference\, and the Sandy Crimmins Poetry Competition. \nHost\, Suzan Jivan \nAn open mic will follow the featured readers.
URL:https://moonstoneartscenter.com/event/thinking-green-with-jacob-russell-paul-siegell-anne-adele-wight/
LOCATION:Fergie’s Pub\, 1214 Sansom Street\, Philadelphia\, PA\, United States
CATEGORIES:Events,Poetry,Poetry Events
END:VEVENT
BEGIN:VEVENT
DTSTART;TZID=America/New_York:20180513T140000
DTEND;TZID=America/New_York:20180513T160000
DTSTAMP:20260425T135605
CREATED:20180502T174846Z
LAST-MODIFIED:20180502T192654Z
UID:12881-1526220000-1526227200@moonstoneartscenter.com
SUMMARY:Soldier Poets--W.D. Ehrhart\, Bill Wunder\, & Members of Warrior Writers
DESCRIPTION:South Philadelphia Free Library\n1700 S. Broad Street (Morris Street)\nSunday May 13\, 2018 – 2pm\nW.D. Ehrhart\, Bill Wunder\, &\nMembers of Warrior Writers \nW. D. Ehrhart joined the US Marines in 1966 at the age of 17\, serving three years including 13 months in Vietnam. He was wounded in combat\, and earned the rank of sergeant and an honorable discharge. He is also a veteran of Vietnam Veterans Against the War\, and has received awards from both Vietnam Veterans of America and Veterans for Peace. A 1983 Bucks County Poet Laureate and a 1993 Pew Fellow in the Arts\, he teaches English and history at the Haverford School in suburb Philadelphia. His most recent books are Praying at the Altar (Adastra Press) and W. D. Ehrhart in Conversation: Vietnam\, America\, and the Written Word (McFarland)\, both published in 2017. \nBill Wunder is the author of Pointing at the Moon\, Hands Turning the Earth\, and Kingdom of Heaven. In 2004\, he was named Poet Laureate of Bucks County\, Pennsylvania. His poems have been widely published\, and he has twice been nominated for the Pushcart Prize in poetry. Bill has been a finalist for the T. S. Eliot Prize and the Allen Ginsberg Poetry Award. In 2010\, he was nominated for a Pew Fellowship in the Arts. He has read and lectured in local schools\, colleges\, festivals\, book stores\, libraries\, and on public television. Bill\, a Vietnam veteran\, serves as Poetry Editor of The Schuylkill Valley Journal\, and lives with his two black labs in the wilds of Bucks County. \nWarrior Writers is a national non-profit. Our mission is to create a culture that articulates veterans’ experiences\, build a collaborative community for artistic expression\, and bear witness to war and the full range of military experiences. We value Respect for ourselves\, each other\, our experiences\, and our creative community; Honesty; Transformation; and Pride in our work and our experiences. Our goals include providing opportunities for veterans to engage in artistic expression\, creating visibility for veteran artists and their work\, supporting veterans in the discovery of the arts as a transformative tool\, and tell the truths about veterans’ experiences.
URL:https://moonstoneartscenter.com/event/soldier-poets-w-d-ehrhart-bill-wunder-members-of-warrior-writers/
LOCATION:South Philadelphia Free Library\, 1700 S. Broad Street (Morris Street)\, Philadelphia\, PA\, 19145\, United States
CATEGORIES:Events,Poetry,Poetry Events
END:VEVENT
BEGIN:VEVENT
DTSTART;TZID=America/New_York:20180509T190000
DTEND;TZID=America/New_York:20180509T210000
DTSTAMP:20260425T135605
CREATED:20180502T181209Z
LAST-MODIFIED:20180502T192726Z
UID:12886-1525892400-1525899600@moonstoneartscenter.com
SUMMARY:Featured Readers: Julia Blumenreich & Therése Halscheid
DESCRIPTION:Moonstone Poetry @ Fergie’s Pub\n1214 Sansom Street\nWednesday May 9\, 2018 – 7pm\nJulia Blumenreich & Therése Halscheid\nJulia Blumenreich is a recipient of a Pennsylvania Arts Council grant for her poetry. She is a founding member of 6ix: a literary journal devoted to cutting edge work\, edited by six Philadelphia area women. She was a finalist for the 2016 Brittany Noakes Poetry Award. She has read her work in various venues including the University of Pennsylvania\, Brown University\, and Muse House in Philadelphia. In 2012\, she collaborated with the visual artist\, Wendy Osterweil\, on ‘Reforesting: An Homage to Gil Ott’ a poetry/ sculptural installation/print show at The Painted Bride Art Center. Four of her poems have been set to music composed by Kyle Smith and were performed as part of “Lyric Fest” in 2014. Her recent work has been published in “The Whirlwind Review\, “Philadelphia Stories\,” and in “An Anthology of Philadelphia Poets\,” edited by Valerie Fox and translated into Romanian by Daniel Dragomirescu. She has published three chapbooks: Meeting Tessie and Artificial Memory and most recently\, Blue Angel of a Day. \nTherése Halscheid’s latest poetry collection Frozen Latitudes (Press 53) received an Eric Hoffer Book Award. Other collections include Uncommon Geography\, Without Home\, Powertalk\, and a chapbook award by Pudding House Publications. Her poetry and lyric essays have appeared in such magazines as Gettysburg Review\, Tampa Review\, Sou’wester\, Natural Bridge. Recent contest awards include Welcome Table Press’s Essaying the Body contest. She is an itinerant writer by way of house-sitting. Her photography chronicles her nomadic lifestyle. She teaches for Atlantic Cape Community College and also in unusual locales\, such as Eskimo village in northern Alaska\, and the Ural Mountains of Russia. www.ThereseHalscheid.com \nDave Worrell \, Host\nAn open mic will follow the featured readers. The event is free and 21+.
URL:https://moonstoneartscenter.com/event/featured-readers-julia-blumenreich-therese-halscheid/
LOCATION:Fergie’s Pub\, 1214 Sansom Street\, Philadelphia\, PA\, United States
CATEGORIES:Events,Poetry,Poetry Events
END:VEVENT
BEGIN:VEVENT
DTSTART;TZID=America/New_York:20180506T140000
DTEND;TZID=America/New_York:20180506T160000
DTSTAMP:20260425T135605
CREATED:20180502T165901Z
LAST-MODIFIED:20180502T170437Z
UID:12870-1525615200-1525622400@moonstoneartscenter.com
SUMMARY:The Atheist in the Attic
DESCRIPTION:Moonstone Poetry  @ the Pub \nFergie’s Pub\, 1214 Sansom Street \nSunday May 6\, 2018\, 2pm \nSamuel R. Delany\n \nThe Atheist in the Attic\n$14.00\, Books will be available to purchase and autographed \n  \n “A talent very close to time travel—or magic.” —Locus \n“The most remarkable prose stylist to have emerged from the culture of American science fiction.” —William Gibson \n“I consider Delany not only one of the most important science fiction writ- ers of the present generation\, but a fascinating writer in general who has invented a new style.” —Umberto Eco \n  \nThe title novella\, “The Atheist in the Attic\,” appearing here in book form    for the first time\, is a suspenseful and vivid historical narrative\, recreating the top-secret meeting between the mathematical genius Leibniz and the philosopher Spinoza caught between the horrors of the cannibalistic Dutch Rampjaar and the brilliant “big bang” of the Enlightenment. \nPlus: equal parts history\, confession\, complaint\, gossip\, and personal tri- umph\, Delany’s “Racism and Science Fiction” combines scholarly research and personal experience in the unique true story of the first major African American author in the genre. And featuring: a bibliography\, an author biography\, and our candid\, uncompromising\, and customary Outspoken Interview. \nABOUT THE AUTHOR\nBorn into a distinguished Harlem family\, Samuel R. Delany was a success at nineteen\, changing the tone\, the content\, and the very shape of modern science fiction with his acclaimed novels and stories that bridged the ap- parent gap between science and fantasy to explore gay sexuality\, racial and class consciousness\, and the limits of imagination and memory. His vast body of work includes memoir\, comics\, space adventure\, mainstream novels\, homosexual erotica\, and literary criticism of a high order. Until     his recent retirement he was a professor of English and creative writing at Temple University. \n 
URL:https://moonstoneartscenter.com/event/12870/
LOCATION:Fergie’s Pub\, 1214 Sansom Street\, Philadelphia\, PA\, United States
CATEGORIES:Events,Poetry,Poetry Events
END:VEVENT
BEGIN:VEVENT
DTSTART;TZID=America/New_York:20171017T190000
DTEND;TZID=America/New_York:20171017T210000
DTSTAMP:20260425T135605
CREATED:20170920T185459Z
LAST-MODIFIED:20170920T190042Z
UID:12356-1508266800-1508274000@moonstoneartscenter.com
SUMMARY:Moonstone Poetry @ Toast Café featuring Christopher Bernard and . Luke Stromberg
DESCRIPTION:Christopher Bernard is author of A Spy in the Ruins\, Voyage to a Phantom City\, Dangerous Stories for Boys and others. He is co-editor of Caveat Lector and a regular contributor to Synchronized Chaos. Bernard writes fiction\, poetry\, essays\, plays\, and criticism.. He lives in San Francisco. Luke Stromberg has published work in Rotary Dial\, Victorian Violet Journal\, Tower Journal\, Shot Glass Journal\, Lucid Rhythms\, Philadelphia Stories\, Think Journal\, Mid-America Poetry Review\, and on Ernest Hilbert’s blog E-Verse Radio.
URL:https://moonstoneartscenter.com/event/moonstone-poetry-toast-cafe-featuring-christopher-bernard-and-luke-stromberg/
LOCATION:Toast Café\, 1201 Spruce Street\, Philadelphia\, PA\, United States
CATEGORIES:Events,Poetry,Poetry Events
END:VEVENT
END:VCALENDAR