BEGIN:VCALENDAR
VERSION:2.0
PRODID:-//Moonstone Arts Center - ECPv6.15.20//NONSGML v1.0//EN
CALSCALE:GREGORIAN
METHOD:PUBLISH
X-WR-CALNAME:Moonstone Arts Center
X-ORIGINAL-URL:https://moonstoneartscenter.com
X-WR-CALDESC:Events for Moonstone Arts Center
REFRESH-INTERVAL;VALUE=DURATION:PT1H
X-Robots-Tag:noindex
X-PUBLISHED-TTL:PT1H
BEGIN:VTIMEZONE
TZID:America/New_York
BEGIN:DAYLIGHT
TZOFFSETFROM:-0500
TZOFFSETTO:-0400
TZNAME:EDT
DTSTART:20250309T070000
END:DAYLIGHT
BEGIN:STANDARD
TZOFFSETFROM:-0400
TZOFFSETTO:-0500
TZNAME:EST
DTSTART:20251102T060000
END:STANDARD
BEGIN:DAYLIGHT
TZOFFSETFROM:-0500
TZOFFSETTO:-0400
TZNAME:EDT
DTSTART:20260308T070000
END:DAYLIGHT
BEGIN:STANDARD
TZOFFSETFROM:-0400
TZOFFSETTO:-0500
TZNAME:EST
DTSTART:20261101T060000
END:STANDARD
BEGIN:DAYLIGHT
TZOFFSETFROM:-0500
TZOFFSETTO:-0400
TZNAME:EDT
DTSTART:20270314T070000
END:DAYLIGHT
BEGIN:STANDARD
TZOFFSETFROM:-0400
TZOFFSETTO:-0500
TZNAME:EST
DTSTART:20271107T060000
END:STANDARD
END:VTIMEZONE
BEGIN:VEVENT
DTSTART;TZID=America/New_York:20260318T190000
DTEND;TZID=America/New_York:20260329T210000
DTSTAMP:20260423T175513
CREATED:20260307T170840Z
LAST-MODIFIED:20260315T165340Z
UID:21069-1773860400-1774818000@moonstoneartscenter.com
SUMMARY:Wednesday March 18\, 2026 - LIVE at Fergie's Pub
DESCRIPTION:Wednesday March 18\, 2026 – LIVE at Fergie’s\nFeaturing: Vincent Bush\, Demetra De’Vine\, William E. Heston\, Matthew Klauber\, and Sean Hanrahan as Host \nVincent Bush is a Philadelphia-based mixed media artist and poet. Through his chosen mediums\, Vincent explores healing\, identity\, and the power of love\, often using the heart as a universal symbol that transcends culture\, religion\, and background. \nDemetra De’Vine moved on to poetry in middle school. Not published yet but she’s currently working on her first book. She’s performed for open mics and other events in the city. She writes about her experiences as a black queer person born and raised in the lovely city of Philadelphia. \nWilliam E. Heston is a poet\, painter\, musician\, and filmmaker whose art focuses on the personal drama of working class life-whether it’s through the lens of gritty realism\, low fantasy\, or surrealism. \nMatthew Klauber is a writer and educator based in the Philadelphia area. A longtime devotee of the Moonstone Arts Center\, his work has been published in The Literary Hatchet\, Orchards\, Calliope\, and elsewhere. \nSean Hanrahan Host – Open Reading Follows
URL:https://moonstoneartscenter.com/event/wednesday-march-18-2026-live-at-fergies-pub/
LOCATION:Fergie’s Pub\, 1214 Sansom Street\, Philadelphia\, PA\, United States
CATEGORIES:Events,Poetry Events
ATTACH;FMTTYPE=image/png:https://moonstoneartscenter.com/wp-content/uploads/2026/03/March-18-Live.png
END:VEVENT
BEGIN:VEVENT
DTSTART;TZID=America/New_York:20260322T140000
DTEND;TZID=America/New_York:20260322T160000
DTSTAMP:20260423T175513
CREATED:20260305T174656Z
LAST-MODIFIED:20260307T192200Z
UID:21055-1774188000-1774195200@moonstoneartscenter.com
SUMMARY:Sunday March 22\, 2026 - World Poetry Day - Virtual
DESCRIPTION:Sunday March 22\, 2026 World Poetry Day – Virtual\nRegister Here: World Poetry Day – Virtual\nWorld Poetry Day is celebrated on March 21st\, and was declared by UNESCO (The United Nations Educational\, Scientific\, and Cultural Organization) in 1999\, ”with the aim of supporting linguistic diversity through poetic expression and increasing the opportunity for endangered languages to be heard”. Its purpose is to promote the reading\, writing\, publishing\, and teaching of poetry throughout the world\, and as the original UNESCO declaration says\, ”to give fresh recognition and impetus to national\, regional\, and international poetry movements”.
URL:https://moonstoneartscenter.com/event/world-poetry-day-virtual-event/
LOCATION:PA
CATEGORIES:Events,Poetry Events
ATTACH;FMTTYPE=image/png:https://moonstoneartscenter.com/wp-content/uploads/2026/03/March-22-World-Poetry-Virtual.png
END:VEVENT
BEGIN:VEVENT
DTSTART;TZID=America/New_York:20260401T190000
DTEND;TZID=America/New_York:20260401T210000
DTSTAMP:20260423T175513
CREATED:20260328T145100Z
LAST-MODIFIED:20260328T153052Z
UID:21093-1775070000-1775077200@moonstoneartscenter.com
SUMMARY:Wednesday April 1\, 2026 - LIVE
DESCRIPTION:Wednesday April 1\, 2026 – Live at Fergie’s Pub @ 7pm\nFeaturing: Peter Baroth\, Courtney Bambrick\, Emiliano Martin\, and Liz Allen as Host \nPeter Baroth is a writer\, artist\, and musician based in the Philadelphia area. He has published a novel\, Long Green and his most recent chapbook is Ski Oklahoma. \, he is on the editorial board of Philadelphia Stories magazine. \nCourtney Bambrick was poetry editor at Philadelphia Stories\, her poems appear in American Poetry Review\, Spotlong\, Mom Egg Review\, Landlocked\, Clockhouse\, Pinhole\, Thimble\, SWWIM Everyday\, New York Quarterly\, Invisible City\, and more. \nEmiliano Martin is a bilingual poet originally from Spain. Martín served as President of “Círculo Español”\, was the founding director of the “Philadelphia Poetry Forum”\, Executive Director of the Latin American Guild for the Arts in Philadelphia and President of the Pennsylvania Poetry Society. \nLiz Allen Host – Open Reading Follows
URL:https://moonstoneartscenter.com/event/wednesday-april-1-2026-live/
LOCATION:Fergie’s Pub\, 1214 Sansom Street\, Philadelphia\, PA\, United States
CATEGORIES:Events,Poetry Events
ATTACH;FMTTYPE=image/png:https://moonstoneartscenter.com/wp-content/uploads/2026/03/April-1-2026-Live-at-Fergies-Pub-1.png
END:VEVENT
BEGIN:VEVENT
DTSTART;TZID=America/New_York:20260408T190000
DTEND;TZID=America/New_York:20260408T210000
DTSTAMP:20260423T175513
CREATED:20260328T152025Z
LAST-MODIFIED:20260328T153039Z
UID:21098-1775674800-1775682000@moonstoneartscenter.com
SUMMARY:Wednesday April 8 - LIVE
DESCRIPTION:Wednesday April 8\, 2026 – Live at Fergie’s Pub @ 7pm\nFeaturing: John Wall Barger\, Mac Chandler\, Ernest Hilbert\, and Sean Lynch as Host \nJohn Wall Barger\, author of Praise for Resurrection Pie\, is a contract editor for Frontenac House\, lives in Vermont\, and lectures in the Writing Program at Dartmouth College. \nMac Chandler is a writer from West Philly who has been published in some places and not in others. They currently host quarterly shows for Moonstone Arts\, and recently self-published their first collection of poetry\, There Is A Thing Haunting Me I Could Grow To Love. \nErnest Hilbert founded the Oxford Quarterly and E-Verse Radio. He has also served as editor of both the Contemporary Poetry Review and Random House’s magazine Bold Type. \nSean Lynch as Host – Open Reading Follows
URL:https://moonstoneartscenter.com/event/wednesday-april-8-live/
LOCATION:Fergie’s Pub\, 1214 Sansom Street\, Philadelphia\, PA\, United States
CATEGORIES:Events,Poetry Events
ATTACH;FMTTYPE=image/png:https://moonstoneartscenter.com/wp-content/uploads/2026/03/April-8-2026-Live-at-Fergies-1.png
END:VEVENT
BEGIN:VEVENT
DTSTART;TZID=America/New_York:20260411T080000
DTEND;TZID=America/New_York:20260411T170000
DTSTAMP:20260423T175513
CREATED:20260411T175338Z
LAST-MODIFIED:20260411T175338Z
UID:21135-1775894400-1775926800@moonstoneartscenter.com
SUMMARY:Sunday April 26\, 2026
DESCRIPTION:Sunday April 26\, 2026 – VIRTUAL at 2pm\nMoonstone Chapbook Contest 2025 – Reading Featuring: \nThe Winning Manuscript: All at Once by Lucia Owen \nHigh Honorable Mention: Tarifa Moon by Bill O’Connell \nHonorable Mention: Bright Clatter by Susan Coppock \nHonorable Mention: Shadow House by Ada Lowenthal \n  \nPLUS These Exceptional Poets \nAliyah Cotton\, author of The Lungs Remember Breath  \nAnne Greenhaigh\, author of Half sun\, half shade: a sequence of sestinas  \nVincent Hostak\, author of The Strangest Fire \nStacie Kiner\, author of Abby Road  \nBrandy Reinke\, author of Remnants of the Injury of Finding the Known  \nMeri Tumanyan\, author of Why I Pray in Armenian  \nRegister Here!
URL:https://moonstoneartscenter.com/event/sunday-april-26-2026/
LOCATION:PA
CATEGORIES:Events,Poetry Events
ATTACH;FMTTYPE=image/png:https://moonstoneartscenter.com/wp-content/uploads/2026/04/April-26-2026.png
END:VEVENT
BEGIN:VEVENT
DTSTART;TZID=America/New_York:20260412T150000
DTEND;TZID=America/New_York:20260412T170000
DTSTAMP:20260423T175513
CREATED:20260328T154355Z
LAST-MODIFIED:20260328T154355Z
UID:21102-1776006000-1776013200@moonstoneartscenter.com
SUMMARY:Sunday April 12 - LIVE
DESCRIPTION:Sunday April 12\, 2026 – LIVE at Fergie’s Pub @ 3pm\nFeaturing: Joseph Chelius\, Lee Stockdale\, Anne-Adele Wight\, and Aaron Perry as Host \nJoseph Chelius is the author of five collections of poems and is a former Bucks County\, Pennsylvania Poet. \nLee Stockdale has won the United Kingdom National Poetry Prize\, Montana Prize for Humor\, Sidney Lanier Poetry Prize\, and others. \nAnne-Adele Wight is the author of An Internet of Containment\, The Age of Greenhouses\, Opera House Arterial\, and Sidestep Catapult\, all from BlazeVOX. \nAaron Perry Host – Open Reading Follows
URL:https://moonstoneartscenter.com/event/sunday-april-12-live/
LOCATION:Fergie’s Pub\, 1214 Sansom Street\, Philadelphia\, PA\, United States
CATEGORIES:Events,Poetry Events
ATTACH;FMTTYPE=image/png:https://moonstoneartscenter.com/wp-content/uploads/2026/03/April-12-2026-LIVE.png
END:VEVENT
BEGIN:VEVENT
DTSTART;TZID=America/New_York:20260414T183000
DTEND;TZID=America/New_York:20260414T190000
DTSTAMP:20260423T175513
CREATED:20260328T160607Z
LAST-MODIFIED:20260328T161009Z
UID:21107-1776191400-1776193200@moonstoneartscenter.com
SUMMARY:Tuesday April 14\, 2026 - LIVE on PhillyCam
DESCRIPTION:Tuesday April 14\, 2026 – LIVE BROADCAST on PhillyCam @ 6:30pm\nMoonstone Poetry @ PhillyCAM\, Can be viewed on the \nPhillycam website: PhillyCam Philly Loves Poetry\nOr Cable 66/966HD/967 or Verizon FIOS\, 29/30 In Philadelphia. \nPhilly Loves Poetry Interview and Readings Series \nAnne-Adele Wight is the author of An Internet of Containment\, The Age of Greenhouses\, Opera House Arterial\, and Sidestep Catapult\, all from BlazeVOX. Her work has appeared in Poets and Writers\, Luna Luna\, Adroit Journal\, and other publications. She lives and writes in Philadelphia. \nCharles S. Carr\, Host
URL:https://moonstoneartscenter.com/event/tuesday-april-14-2026-live-on-phillycam/
LOCATION:PA
CATEGORIES:Events,Poetry Events
ATTACH;FMTTYPE=image/png:https://moonstoneartscenter.com/wp-content/uploads/2026/03/Live-on-PhillyCam-April-14-@-630pm.png
END:VEVENT
BEGIN:VEVENT
DTSTART;TZID=America/New_York:20260415T190000
DTEND;TZID=America/New_York:20260415T210000
DTSTAMP:20260423T175513
CREATED:20260328T163036Z
LAST-MODIFIED:20260328T163036Z
UID:21113-1776279600-1776286800@moonstoneartscenter.com
SUMMARY:Wednesday April 15\, 2026 - LIVE
DESCRIPTION:Wedsnesday April 15\, 2026 – Live at Fergie’s Pub @ 7pm\nFeaturing: C.M. Crockford\, Chris DeMento\, John Fadely\, Alison Lubar\, and Sean Hanrahan as Host \nC.M. Crockford poems\, essays\, and stories have been featured in Vastarien\, Nobody Magazine\, Be About It Press\, and The Cleveland Review of Books among many others. \nChris DeMento hosts Poetry Night in collaboration with the cafe Char & Stave\, featuring some of the most impressive voices from the PHL region and beyond. \nJohn Fadely won the 2025 Trail to Table Book Award in Poetry for his debut collection\, Before Leaving the Island\, which will be published on April 21. \nAlison Lubar is a Nikkei poet and educator who teaches literature to teenagers\, writing to adults\, and yoga to all ages. Alison writes about biracial identity\, queer love\, transgenerational healing\, and common moths; they are also a board member for Philadelphia’s Blue Stoop. \nSean Hanrahan Host – Open Reading Follows
URL:https://moonstoneartscenter.com/event/wednesday-april-15-2026-live/
LOCATION:Fergie’s Pub\, 1214 Sansom Street\, Philadelphia\, PA\, United States
CATEGORIES:Events,Poetry Events
ATTACH;FMTTYPE=image/png:https://moonstoneartscenter.com/wp-content/uploads/2026/03/Live-at-Fergies-April-15-@-7pm.png
END:VEVENT
BEGIN:VEVENT
DTSTART;TZID=America/New_York:20260419T140000
DTEND;TZID=America/New_York:20260419T160000
DTSTAMP:20260423T175513
CREATED:20260305T175940Z
LAST-MODIFIED:20260328T164128Z
UID:21059-1776607200-1776614400@moonstoneartscenter.com
SUMMARY:Sunday April 19\, 2026 - Haiku Poetry Day - Virtual
DESCRIPTION: Sunday April 19\, 2026 – Haiku Poetry Day – Virtual\nRegister Here: Haiku Poetry Day Virtual Reading\nNational Haiku Day\, an initiative of the Haiku Foundation\, celebrates the art form every April 17th. A haiku is an ancient form of Japanese poetry that consists of three lines with the sentence structure ”five-seven-five”- although this is contested for being a western way of teaching the haiku. Japanese haikus also count sounds\, not only syllables. Haikus typically revolve around nature\, the passing of seasons\, or ephemeral beauty. At the risk of sounding like your high school English teacher\, they rely more on images than metaphors. They’re also very concise\, due to their short length.
URL:https://moonstoneartscenter.com/event/national-haiku-poetry-day-virtual-event/
LOCATION:PA
CATEGORIES:Events,Poetry Events
ATTACH;FMTTYPE=image/png:https://moonstoneartscenter.com/wp-content/uploads/2026/03/April-19-2026-Haiku-Day-Virtual.png
END:VEVENT
BEGIN:VEVENT
DTSTART;TZID=America/New_York:20260422T190000
DTEND;TZID=America/New_York:20260422T210000
DTSTAMP:20260423T175513
CREATED:20260411T173148Z
LAST-MODIFIED:20260411T173441Z
UID:21130-1776884400-1776891600@moonstoneartscenter.com
SUMMARY:Wednesday April 22 - LIVE
DESCRIPTION:Wednseday April 22\, 2026 – LIVE at Fergie’s Pub @ 7pm\nFeaturing: Grace Bauer\, Sean Hanrahan\, Gina Myers\, and Anne-Adele Wight as Host \nGrace Bauer has published six books of poems and co-edited the anthology Nasty Women Poets: An Unapologetic Anthology of Subversive Verse. \nSean Hanrahan is author of Headless\, has taught classes titled A Chapbook in 49 Days\, Ekphrastic Poetry\, Poetry Embodied and has hosted and read at poetry events throughout Philadelphia. \nGina Myers is the author A Model Year  and Hold It Down\, she coedits the tiny with Gabriella Torres andruns the Accidental Player reading series. \nAnne-Adele Wight Host\, Open Reading Follows
URL:https://moonstoneartscenter.com/event/wednesday-april-22-live/
LOCATION:Fergie’s Pub\, 1214 Sansom Street\, Philadelphia\, PA\, United States
CATEGORIES:Events,Poetry Events
ATTACH;FMTTYPE=image/png:https://moonstoneartscenter.com/wp-content/uploads/2026/04/April-22-2026.png
END:VEVENT
BEGIN:VEVENT
DTSTART;TZID=America/New_York:20260429T190000
DTEND;TZID=America/New_York:20260429T210000
DTSTAMP:20260423T175513
CREATED:20260418T152801Z
LAST-MODIFIED:20260418T152801Z
UID:21140-1777489200-1777496400@moonstoneartscenter.com
SUMMARY:Wednesday April 29 - LIVE
DESCRIPTION:Wednesday April 29\, 2026 – LIVE at Fergie’s Pub @7pm\nFeaturing: Shannon Frost Greenstein\, Emily Rose Reed. With Hosts Warren Longmire & Lindsay Hargrave \nShannon Frost Greenstein resides near Philadelphia with her family and cats. She is the author of Through the Lens of Time\, and “These Are a Few of My Least Favorite Things. Shannon is a former Ph.D. candidate in Continental Philosophy and a multi-time Pushcart Prize and BOTN nominee. Her work has appeared in McSweeney’s Internet Tendency\, Pithead Chapel\, Nimrod Journal\, Bending Genres\, Parentheses Journal\, Litro Mag\, Philadelphia Stories\, and elsewhere. Shannon’s passions include Friedrich Nietzsche\, anti-racism\, the Seven Summits\, the Hamilton Soundtrack\, motherhood\, and acquiring more cats. \nEmily Rose Reed is a queer trans chaotic mess of a DIY musician\, writer\, and all around sweetie from Philly/South Jersey who makes music under the name How I Became Invisible. If you have a band she’s probably in it\, and she might also be your girlfriend. Find her music at howibecameinvisible.com\, and everywhere except Spotify because they’re a garbage company. \nWarren Longmire & Lindsay Hargrave Hosts – Open Reading Follows
URL:https://moonstoneartscenter.com/event/wednesday-april-29-live/
LOCATION:Fergie’s Pub\, 1214 Sansom Street\, Philadelphia\, PA\, United States
CATEGORIES:Events,Poetry Events
ATTACH;FMTTYPE=image/png:https://moonstoneartscenter.com/wp-content/uploads/2020/08/Wednesday-April-29-@-7pm.png
END:VEVENT
BEGIN:VEVENT
DTSTART;TZID=America/New_York:20260503T150000
DTEND;TZID=America/New_York:20260503T170000
DTSTAMP:20260423T175513
CREATED:20260418T155147Z
LAST-MODIFIED:20260419T183132Z
UID:21143-1777820400-1777827600@moonstoneartscenter.com
SUMMARY:Sunday\, May 3 - LIVE AND VIRTUAL - 3pm
DESCRIPTION:Remembering Hal Sirowitz\nSunday May 3\, 2026 – LIVE at Fergie’s Pub AND Virtual\nHal Sirowitz (March 6\, 1949- October 17\, 2025) was an American and internationally known poet\, who first began to attract attention at the Nuyorican Poets Cafe where he was a frequent competitor in their Friday Night Poetry Slam. He eventually made the 1993 Nuyorican Poetry Slam team and competed in the 1993 National Poetry Slam along with his Nuyorican teammates Maggie Estep\, Tracie Morris\, and Regie Cabico. \nHe would later perform his poetry on stages across the country\, and on television programs such as MTV’s Spoken Word: Unplugged and PBS’s The United States of Poetry. He wrote five books of poetry: Mother Said\, My Therapist Said\, Father Said\, During and After\, and Stray Cat Blues. He was the best-selling translated poet in Norway\, where Mother Said has been adapted for the stage and turned into a series of animated cartoons. He has been translated into thirteen languages. \nSirowitz was a 1994 recipient of an NEA Fellowship in Poetry and was the Poet Laureate of Queens. He worked as a special education teacher in the New York public school system for 23 years and was married to the writer Minter Krotzer\, who will be attending. \nTom Devaney and Jeff Lee as Hosts \n  \nPurchase the anthology featuring over 30 poets honoring Hal and his legacy.  \nRegister Here for Virtual
URL:https://moonstoneartscenter.com/event/sunday-may-3-live-and-virtual-3pm/
LOCATION:Fergie’s Pub\, 1214 Sansom Street\, Philadelphia\, PA\, United States
CATEGORIES:Events,Poetry Events
ATTACH;FMTTYPE=image/png:https://moonstoneartscenter.com/wp-content/uploads/2026/04/Sunday-May-3-2026-@-3pm-1.png
END:VEVENT
BEGIN:VEVENT
DTSTART;TZID=America/New_York:20260506T190000
DTEND;TZID=America/New_York:20260506T210000
DTSTAMP:20260423T175513
CREATED:20260418T162809Z
LAST-MODIFIED:20260418T162809Z
UID:21146-1778094000-1778101200@moonstoneartscenter.com
SUMMARY:Wednesday May 6\, 2026 - 7pm – LIVE
DESCRIPTION:Wednesday May 6\, 2026 – 7pm – LIVE at Fergie’s Pub\nFeaturing: Dilruba (Ruba) Ahmed\, Barbara Siegel Carlson\, Raina J. León\, ariel rosé \nDilruba (Ruba) Ahmed is the author of Bring Now the Angels (Pitt Poetry)\, with poems featured in New York Times Magazine\, The Slowdown\, and Poetry Unbound. Her poems have appeared in Kenyon Review\, New England Review\, Ploughshares\, and Virginia Quarterly Review.  Her work has also been anthologized in Best American Poetry; Halal If You Hear Me; New Moons: Contemporary Writing by North American Muslims; They Rise Like A Wave: An Anthology of Asian American Women Poets; and elsewhere. \nBarbara Siegel Carlson is the author of four books of poetry\, most recently Current published by Lily Poetry Review Books\, 2026. Her poetry and translations have appeared in Verse Daily\, Cortland Review\, Mid-American Review\, Salamander\, 2River\, The Poetry Porch and others. Her poems have been nominated for Best of the Net and the Pushcart Prize. Carlson is a Poetry in Translation Editor of Solstice: A Magazine of Diverse Voices. \nRaina J. León\, PhD\, 2026-2027 Philadelphia Poet Laureate\, is a Black\, Afro-Boricua poet\, writer\, and educator from southwest Philadelphia (Lenni Lenape ancestral lands). Her work is grounded in collective action and community engagement\, centering storytelling\, memory\, and the liberatory practice of humanizing education across poetry\, visual art\, and archival practice. She is the author of black god mother this body\, Canticle of Idols\, Boogeyman Dawn\, sombra : (dis)locate\, and several chapbooks\, and is the founding editor of The Acentos Review\, an international journal dedicated to the promotion and publication of Latinx arts. \nariel rosé is a trans gender / androgynous / queer poet\, essayist\, and illustrator originally from Poland\, resident of Norway\, a nomad. Ariel is coming to the United States to read from Both Sides Face East. Durable Words\,  that they edited: well as their latest poetry collection\, morze nocą jest mięśniem serca (the sea at night is a muscle of the heart) nominated for the Orfeusz Award\, and Północ. They were for the Most Beautiful Book Award for their illustrations for Jarosław Iwaszkiewicz’s Kocia Książka (Cat Book).
URL:https://moonstoneartscenter.com/event/wednesday-may-6-2026-7pm-live/
LOCATION:Fergie’s Pub\, 1214 Sansom Street\, Philadelphia\, PA\, United States
CATEGORIES:Events,Poetry Events
ATTACH;FMTTYPE=image/png:https://moonstoneartscenter.com/wp-content/uploads/2020/08/Wednesday-May-6.png
END:VEVENT
END:VCALENDAR