BEGIN:VCALENDAR
VERSION:2.0
PRODID:-//Moonstone Arts Center - ECPv6.15.20//NONSGML v1.0//EN
CALSCALE:GREGORIAN
METHOD:PUBLISH
X-ORIGINAL-URL:https://moonstoneartscenter.com
X-WR-CALDESC:Events for Moonstone Arts Center
REFRESH-INTERVAL;VALUE=DURATION:PT1H
X-Robots-Tag:noindex
X-PUBLISHED-TTL:PT1H
BEGIN:VTIMEZONE
TZID:America/New_York
BEGIN:DAYLIGHT
TZOFFSETFROM:-0500
TZOFFSETTO:-0400
TZNAME:EDT
DTSTART:20250309T070000
END:DAYLIGHT
BEGIN:STANDARD
TZOFFSETFROM:-0400
TZOFFSETTO:-0500
TZNAME:EST
DTSTART:20251102T060000
END:STANDARD
BEGIN:DAYLIGHT
TZOFFSETFROM:-0500
TZOFFSETTO:-0400
TZNAME:EDT
DTSTART:20260308T070000
END:DAYLIGHT
BEGIN:STANDARD
TZOFFSETFROM:-0400
TZOFFSETTO:-0500
TZNAME:EST
DTSTART:20261101T060000
END:STANDARD
BEGIN:DAYLIGHT
TZOFFSETFROM:-0500
TZOFFSETTO:-0400
TZNAME:EDT
DTSTART:20270314T070000
END:DAYLIGHT
BEGIN:STANDARD
TZOFFSETFROM:-0400
TZOFFSETTO:-0500
TZNAME:EST
DTSTART:20271107T060000
END:STANDARD
END:VTIMEZONE
BEGIN:VEVENT
DTSTART;TZID=America/New_York:20260512T183000
DTEND;TZID=America/New_York:20260512T193000
DTSTAMP:20260425T114549
CREATED:20260425T154250Z
LAST-MODIFIED:20260425T154250Z
UID:21158-1778610600-1778614200@moonstoneartscenter.com
SUMMARY:Tuesday May 12 - PhillyCAM - Philly Loves Poetry
DESCRIPTION:Tuesday May 12\, 2026 @ 6:30pm – LIVE BROADCAST\nMoonstone Poetry @ PhillyCAM \nCan be viewed on the Phillycam website \nOr Cable 66/966HD/967 or Verizon FIOS\, 29/30 \nIn Philadelphia. \nPhilly Loves Poetry Interview and Readings Series \nSean Hanrahan (he\, him\, his) is a Philadelphian poet originally hailing from Dale City\, Virginia. He is the author of Headless (Collapse Press)\, the full-length collections Safer Behind Popcorn (2019 Cajun Mutt) and Ghost Signs (2023 Alien Buddha)\, and the chapbooks Hardened Eyes on the Scan (2018 Moonstone) and Gay Cake (2020 Toho). His work has also been included in various anthologies and journals. He has taught classes titled A Chapbook in 49 Days\, Ekphrastic Poetry\, Poetry Embodied\, and has hosted and read at poetry events throughout Philadelphia. He can be found on Instagram as gaycakepoet. Sean Hanrahan\, author of Headless\, Safer Behind Popcorn and Ghost Signs\, Hardened Eyes on the Scan and Gay Cake. His work has also been included in various anthologies and journals.. \nCharles S. Carr\, Host
URL:https://moonstoneartscenter.com/event/tuesday-may-12-phillycam-philly-loves-poetry/
LOCATION:PA
CATEGORIES:Events,Poetry Events
ATTACH;FMTTYPE=image/png:https://moonstoneartscenter.com/wp-content/uploads/2026/04/Tuesday-May-12-2026-LIVE-BROADCAST-@-630pm.png
END:VEVENT
END:VCALENDAR