BEGIN:VCALENDAR
VERSION:2.0
PRODID:-//Moonstone Arts Center - ECPv6.15.20//NONSGML v1.0//EN
CALSCALE:GREGORIAN
METHOD:PUBLISH
X-ORIGINAL-URL:https://moonstoneartscenter.com
X-WR-CALDESC:Events for Moonstone Arts Center
REFRESH-INTERVAL;VALUE=DURATION:PT1H
X-Robots-Tag:noindex
X-PUBLISHED-TTL:PT1H
BEGIN:VTIMEZONE
TZID:America/New_York
BEGIN:DAYLIGHT
TZOFFSETFROM:-0500
TZOFFSETTO:-0400
TZNAME:EDT
DTSTART:20230312T070000
END:DAYLIGHT
BEGIN:STANDARD
TZOFFSETFROM:-0400
TZOFFSETTO:-0500
TZNAME:EST
DTSTART:20231105T060000
END:STANDARD
BEGIN:DAYLIGHT
TZOFFSETFROM:-0500
TZOFFSETTO:-0400
TZNAME:EDT
DTSTART:20240310T070000
END:DAYLIGHT
BEGIN:STANDARD
TZOFFSETFROM:-0400
TZOFFSETTO:-0500
TZNAME:EST
DTSTART:20241103T060000
END:STANDARD
BEGIN:DAYLIGHT
TZOFFSETFROM:-0500
TZOFFSETTO:-0400
TZNAME:EDT
DTSTART:20250309T070000
END:DAYLIGHT
BEGIN:STANDARD
TZOFFSETFROM:-0400
TZOFFSETTO:-0500
TZNAME:EST
DTSTART:20251102T060000
END:STANDARD
END:VTIMEZONE
BEGIN:VEVENT
DTSTART;TZID=America/New_York:20240714T140000
DTEND;TZID=America/New_York:20240714T150000
DTSTAMP:20260425T183748
CREATED:20240713T182227Z
LAST-MODIFIED:20240713T182227Z
UID:19652-1720965600-1720969200@moonstoneartscenter.com
SUMMARY:Virtual Poetry: Freedom Anthology
DESCRIPTION:Freedom 2024 Anthology Reading\nSunday July 14\, 2024\n2pm on Zoom\nZoom Meeting ID 829 9128 3645 – Passcode 060433 \nRegistration Link – https://us02web.zoom.us/meeting/register/tZYkfuiqpjgsHtFxxxyjfTkHXjIJkgSPg2tA  \n             \nFreedom \nThe United States celebrates Independence on July 4 \nFrance celebrates Bastille Day on July 14 \nThe struggle for freedom and independence is universal. \nWhat does Freedom mean to you? \nIt is used as a rallying call across the political spectrum \nOur Poets Responded \n  \nNot All Poets Will Be Reading  \n\n\n\nMary Anne Abdo \nM. Tonita Austin \nSarwa Azeez \nSusan Baer \nJeff Bien \nA.C. Blake \nCharles Briggs \nChristopher Butters \nFrancisco Carrasco \nAJ Chilson \nShaheen Dil \nElinor Donahue \nAnna Dunlap \n \nSahar Fathi \nFrancis Flavin \nAna Fores Tamayo \nDeborah Fries \nWilliam Galasso \nLinda Goss \nPamela Haines \nAnnie Hartford \nKathleen Herrmann \nKayla Howe \nJones Irwin \nRalph La Rosa \nKelly Lynn\nDara Marsh \nJohn Mason \nMatt McGarvey \nAurora McKee \nMharlyn Merriitt \nLeslie Perry \nClaire Petersen \nNader Rahimi \nJanet Restino \nLinda Romanowski \nRobert Eugene Rubino \nCarla Schick \nEvan Schneider \n \nJennifer Schneider \nAmeerah Shabazz \nWoody Shiflett \nMiki Simic \nRobert Lavett Smith \nKaramo Muchuri Sulieman \nLaura Sweeney \nEike Waltz \nGail Wasserman \nKelley White \nDaniel Williams \nSamantha Wright \nDaniel Zehner
URL:https://moonstoneartscenter.com/event/virtual-poetry-freedom-anthology/
LOCATION:Virtual
CATEGORIES:Poetry Events
ATTACH;FMTTYPE=image/png:https://moonstoneartscenter.com/wp-content/uploads/2020/08/Freedom-1.png
END:VEVENT
BEGIN:VEVENT
DTSTART;TZID=America/New_York:20240717T190000
DTEND;TZID=America/New_York:20240717T200000
DTSTAMP:20260425T183748
CREATED:20240713T184028Z
LAST-MODIFIED:20240713T184407Z
UID:19656-1721242800-1721246400@moonstoneartscenter.com
SUMMARY:Live Poetry: Kate Carey\, M. Elizabeth Hershey\, & Miriam Kramer
DESCRIPTION:Live Poetry: Kate Carey\, M. Elizabeth Hershey\, & Miriam Kramer\nWednesday July 17\, 2024 – 7pm \nLive at Fergie’s Pub\,1214 Sansom Street and on Zoom\nRegister for Zoom at this link: https://us02web.zoom.us/meeting/register/tZUrdumsqDouGNAKNM1JQj7MAr8zap6egOwL \nKate Carey (she/her) is a fat queer polyamorous slut who sometimes spends whole days in bed crying because feelings are hard. Through deeply personal poetry and creative nonfiction\, she touches on issues relating to trauma\, fat liberation\, mental illness and sexuality. December 2022’s Hot Poet in the Bullshit Lit x Olney magazine Hot Poets calendar and producer of Philadelphia’s Slutty Poems Night\, you can find more about her & her work at https://www.katemcarey.com. \nM. Elizabeth Hershey is a writer and artist based out of South Philadelphia where she has lived off and on for the last 20 years (but would never purport to be from Philly). She graduated from Brown University with a degree in Visual Arts where she cross-studied at the Rhode Island School of Design. She has published one chapbook\, Look to the North and continues to write both poetry and prose in memoir form. Hershey grew up performing Shakespeare\, reading V.C. Andrews in the dark\, and worshipping the fellow Hoosier Kurt Vonnegut. She is a photographer by trade\, loves a good Phillies game and has an active appreciation of jazz and blues music. Her most recent work centers around the ideas of addiction\, grief\, and the befuddling life of Tinder dates as one approaches middle age.” \nMiriam Kramer is a queer\, Jewish poet residing in New Jersey with her partner\, daughter\, and two cats. She majored in Creative Writing at Pacific University and currently works at an educational nonprofit. She was the winner of the 2023 Jack McCarthy Book Prize. Her poetry has appeared in Variant Literature\, So to Speak Journal\, FreezeRay Poetry\, and others. She is the author of three chapbooks. Her debut full length collection\, Built by Storms\, was published by Write Bloody Publishing and nominated for The Lambda Literary Prize and The New Writers Award\, Great Lakes College Association. \nSean Hanahan Host\, Open Reading Follows
URL:https://moonstoneartscenter.com/event/live-poetry-kate-carey-m-elizabeth-hershey-miriam-kramer/
LOCATION:Fergie’s Pub\, 1214 Sansom Street\, Philadelphia\, PA\, United States
CATEGORIES:Poetry Events
ATTACH;FMTTYPE=image/png:https://moonstoneartscenter.com/wp-content/uploads/2024/07/July-17-2024.png
END:VEVENT
BEGIN:VEVENT
DTSTART;TZID=America/New_York:20240724T190000
DTEND;TZID=America/New_York:20240724T200000
DTSTAMP:20260425T183748
CREATED:20240716T150903Z
LAST-MODIFIED:20240716T155418Z
UID:19666-1721847600-1721851200@moonstoneartscenter.com
SUMMARY:Live Poetry: Anisha Bhat\, Lester Mobley\, Joe Roarty & Pat Rodgers
DESCRIPTION:Wednesday July 24\, 2024 – 7pm \n\nLive at Fergie’s Pub\,1214 Sansom Street and on zoom \nRegister for Zoom at this link: https://us02web.zoom.us/meeting/register/tZ0pduqgrDwsGdJz84QTuvTvY7eeqbamGw7V \nAnisha Bhat\, originally from Chicago\, Illinois\, is a writer and staff member\nat Temple University where she directs research and creative programs for\nundergraduates. She has an MPhil in World History from the University of\nCambridge and an MA in History from Northwestern University. In her free\ntime she can be found buying too many books at used book stores\, eating at\nthe same five restaurants in South Philly\, or working on her first poetry\nchapbook.\nLester Norman Mobley was born on Long Island New York before moving\nto Philadelphia at the age of 18 where he has remained ever since. He is a\nretired union construction worker who has dabbled on and off with poetry as\nfar back to elementary school. His favorite poets whose style he attempts to\nemulate in his writing are Charles Bukowski and Walt Whitman. Everyone\nelse\, as he would always maintain\, remain respectfully peripheral.\nJoe Roarty won Moonstone’s first chapbook contest in 2015 for\nMoritat\, German for "street ballad." Poetry of high-octane energy\,\npassionate intelligence\, supercharged\, insistent blues\, jazz &\nheightened speech rhythms. His chapbook Showtunes was published\nin 2023 by Iniquity Press.\nPat Rodgers is a poet based in West Philadelphia. His published work can be\nfound in Neptune and several Moonstone anthologies. Recall is the title of\nhis first chapbook\nAlina Macneal & Jennifer Hook Hosts\, Open Reading Follows
URL:https://moonstoneartscenter.com/event/live-poetry-anisha-bhat-lester-mobley-joe-roarty-pat-rodgers/
LOCATION:Fergie’s Pub\, 1214 Sansom Street\, Philadelphia\, PA\, United States
END:VEVENT
BEGIN:VEVENT
DTSTART;TZID=America/New_York:20240728T153000
DTEND;TZID=America/New_York:20240728T163000
DTSTAMP:20260425T183748
CREATED:20240716T153125Z
LAST-MODIFIED:20240716T153527Z
UID:19670-1722180600-1722184200@moonstoneartscenter.com
SUMMARY:Black Fire This Time @ Barnes & Noble
DESCRIPTION:In this follow-up volume in the Black Fire—This Time series\, over seventy-five poets\nand writers come together on the ongoing theme of "Black is Beautiful\, Black is\nPowerful\, Black is Home." Works ranging from poetry\, fiction\, essays\, and drama cover\na wide range of Black literature. This "continuum" of writing\, as coined by Volume 1\neditor Kim McMillon\, brings together legends of the Black Arts era with contemporary\nwriters in the tradition. This edition includes a hallmark work from the Black Arts era\,\nWe Own the Night by playwright and one of the last living legends Jimmy Garrett.\nVolume 2 of Black Fire—This Time will educate and inspire the next generation. \nKeisha-Gaye Anderson is a Jamaican-born poet\, author\, and visual artist based in Brooklyn whose\nbooks include A Spell for Living\, Everything Is Necessary\, and Gathering the Waters. Her poetry\, fiction\, and essays have been widely published in national literary journals\, magazines\, and anthologies.\nRaheem Curry is a writer out of Kensington\, Philadelphia. He is inspired by James Baldwin\, Malcolm X\, Etheridge Knight\, and Huey Newton. He hopes his writings does what writings did for him: changed the trajectory of his life. He is in the works of publishing his second book.\nCole Eubanks of Mays Landing NJ is retired as an educator from the Philadelphia and Atlantic City School Districts. He is Pushcart nominated and his work can be found in Sugar House Review\, Poems from the Pandemic Years\, The Journal of Baha’i Studies\, Shamrock\, MiGoZine.\nTheodore A. Harris is a Philadelphia-based visual artist and poet\, whose work has been exhibited internationally. He is the co-founder of the Anti-Graffiti Network/Philadelphia Mural Arts Program and is the Founding Artistic Director of The Institute for Advanced Study in Black Aesthetics\nEverett Hoagland is an emeritus professor of English at the University of Massachusetts Dartmouth\, was the first poet laureate of New Bedford\, MA\, his work has appeared in numerous anthologies and several books\, including …Here…: New and Selected Poems and Encounters: Poems about Race\, Ethnicity\, and Identity.\nChantal James lives in Washington\, DC\, and has been published across genres—as a poet\, fiction writer\, essayist\, and book reviewer—in such venues as Catapult\, Paste Magazine\, Harvard’s Transition Magazine\, The Bitter Southerner\, and more. Her honors include a Fulbright fellowship in creative writing to Morocco.\nEwuare X. Osayande is the author of several books including Our Breath is the Whisper of Our Ancestors' Defiance: The Poetry Anthology (1993-2023) and Blood Luxury (introduction by Amiri Baraka). A former professor of African American Studies at Rutgers University\, he is the founding editor of The Poetariat.\nElijah B Pringle\, III is a Philadelphia born writer who has to his credit experience in Radio\, TV\, Stage and Film\, has worked as a dancer\, choreographer\, actor\, director\, and vocalist. He is a much sought-after workshop facilitator for writing and performance. Mr. Pringle has been published globally in almost fifty anthologies.
URL:https://moonstoneartscenter.com/event/black-fire-this-time-barnes-noble/
LOCATION:Barnes and Noble 1708 Chesnut St.\, 1708 Chesnut Street.\, Phildelphia\, PA\, 19122\, United States
END:VEVENT
BEGIN:VEVENT
DTSTART;TZID=America/New_York:20240731T190000
DTEND;TZID=America/New_York:20240731T200000
DTSTAMP:20260425T183748
CREATED:20240716T161153Z
LAST-MODIFIED:20240724T184137Z
UID:19679-1722452400-1722456000@moonstoneartscenter.com
SUMMARY:Live Poetry: Lars Scott & De'vine Stylez
DESCRIPTION:Wednesday July 31\, 2024 – 7pm\n\nLive at Fergie’s Pub\,1214 Sansom Street and on zoom\nUse this link: https://us02web.zoom.us/meeting/register/tZAtcOGhrTktGNNSwztFI2s61EfLKH6m_G23  \nLars Scott is a musician from Philadelphia. Lars began their musical\njourney in high school\, performing folk songs at local open mics and\ncoffee shops. After graduating from Temple University\, they released\ntheir first single\, The Sand Song\, in 2017. Spending time amongst\nsingers and songwriters in Philly’s rich music scene pushed Lars to\ndevelop their sound\, as they moved away from straightforward\, folkier\ntunes and incorporated vocal loops and beats into their songs. Lars’s\nnew project incorporates both past and present musical inclinations.\nWith smooth melodies and swirling harmonies\, Lars enchants listeners\nwith their rich and chilling voice. Reminiscent of summer nights\, their\nmusic will beckon you back to blissful memories with its dreamy style and compelling rhythm.\nLars moves past genre\, blending the beauty of musical traditions to create a style all their own. \nShadeia De'vine Wilson (Pen name: De'vine Stylez) has been writing\npoetry since she was 14yr old based on her life experiences &\nenvironment She has performed at some of the best venues in Philly\nsuch as the harvest\, Voices in Power Her recent pieces written in the\nlast 5/7 years are drawn from her need to help people be open about\nsexual freedom\, exploration and being more in tune with their erotic\nselves\, while owning her own sexual awareness & power\, coupled\nwith using the mic the heal from past traumaA Co-owner of a all\nfemale poetry collective called THEE INSIGHT\, that curates\neducational immersive experiences in Philadelphia and surrounding\nareas. These experiences are based on Mental health awareness and\nbridges the gap in the urban community and all genders. She is currently working on a poetry\nalbum to be release the end of Sept 2024 \nSean Hanahan Host\, Open Reading Follows
URL:https://moonstoneartscenter.com/event/live-poetry-lars-scott-devine-stylez/
LOCATION:Fergie’s Pub\, 1214 Sansom Street\, Philadelphia\, PA\, United States
END:VEVENT
END:VCALENDAR