BEGIN:VCALENDAR
VERSION:2.0
PRODID:-//Moonstone Arts Center - ECPv6.15.20//NONSGML v1.0//EN
CALSCALE:GREGORIAN
METHOD:PUBLISH
X-WR-CALNAME:Moonstone Arts Center
X-ORIGINAL-URL:https://moonstoneartscenter.com
X-WR-CALDESC:Events for Moonstone Arts Center
REFRESH-INTERVAL;VALUE=DURATION:PT1H
X-Robots-Tag:noindex
X-PUBLISHED-TTL:PT1H
BEGIN:VTIMEZONE
TZID:America/New_York
BEGIN:DAYLIGHT
TZOFFSETFROM:-0500
TZOFFSETTO:-0400
TZNAME:EDT
DTSTART:20240310T070000
END:DAYLIGHT
BEGIN:STANDARD
TZOFFSETFROM:-0400
TZOFFSETTO:-0500
TZNAME:EST
DTSTART:20241103T060000
END:STANDARD
BEGIN:DAYLIGHT
TZOFFSETFROM:-0500
TZOFFSETTO:-0400
TZNAME:EDT
DTSTART:20250309T070000
END:DAYLIGHT
BEGIN:STANDARD
TZOFFSETFROM:-0400
TZOFFSETTO:-0500
TZNAME:EST
DTSTART:20251102T060000
END:STANDARD
BEGIN:DAYLIGHT
TZOFFSETFROM:-0500
TZOFFSETTO:-0400
TZNAME:EDT
DTSTART:20260308T070000
END:DAYLIGHT
BEGIN:STANDARD
TZOFFSETFROM:-0400
TZOFFSETTO:-0500
TZNAME:EST
DTSTART:20261101T060000
END:STANDARD
END:VTIMEZONE
BEGIN:VEVENT
DTSTART;TZID=America/New_York:20250702T190000
DTEND;TZID=America/New_York:20250702T190000
DTSTAMP:20260424T045144
CREATED:20250614T182144Z
LAST-MODIFIED:20250614T182144Z
UID:20466-1751482800-1751482800@moonstoneartscenter.com
SUMMARY:July 2 - Live Poetry Reading at Fergie's Pub
DESCRIPTION:Wednesday July 2\, 2025 – 7pm – LIVE \nLive at Fergie’s Pub\, 1214 Sansom Street \nMaia Brown-Jackson is a symphony of papercuts\, banged-up knees\, and stubborn determination. She believes in the altruism of strangers\, the power of direct action\, and the Oxford comma. Marion Cohen is an American poet and a mathematician\, has published 32 books of poetry and prose. Robin O. Hiteshew\, author of A Germantown Sequence\, has been published in East Coast Literary Review\, Germantown Crier\, The Hive/Apiary Review\, Lilliput Review\, Mad Poets Review\, Mickle Street Review\, and others. Saskia Kercy is a scholar-activist\, educator\, and writer from Philly by way of Haiti\, has been published across newspapers\, magazines\, and literary journals.
URL:https://moonstoneartscenter.com/event/july-2-live-poetry-reading-at-fergies-pub/
LOCATION:Fergie’s Pub\, 1214 Sansom Street\, Philadelphia\, PA\, United States
CATEGORIES:Events,Poetry,Poetry Events
ATTACH;FMTTYPE=image/png:https://moonstoneartscenter.com/wp-content/uploads/2020/08/Red-and-Pink-Organic-Illustrative-Picnic-Brunch-Flyer.png
END:VEVENT
BEGIN:VEVENT
DTSTART;TZID=America/New_York:20250708T140000
DTEND;TZID=America/New_York:20250708T140000
DTSTAMP:20260424T045144
CREATED:20250614T183223Z
LAST-MODIFIED:20250614T183223Z
UID:20468-1751983200-1751983200@moonstoneartscenter.com
SUMMARY:Virtual Reading: Freedom - for Who\, to do What\, to Whom
DESCRIPTION:https://us06web.zoom.us/meeting/register/j16zWU86TBajHSEsuQt1Fw \nSunday July 6\, 2025 – 2pm EDT – VIRTUAL \nFreedom – for Who\, to do What\, to Whom \nFreedom has become a rallying cry for those in power who aim to exploit\, to lie\, and to endanger the less powerful with impunity. They demand Freedom to contaminate the earth\, to deny history\, to claim the Holocaust never happened and that slavery was good. They demand Freedom to deny science and abolish vaccines\, to ban books and open dialogue\, and to teach their version of history. What do poets think about Freedom and the state of the Union
URL:https://moonstoneartscenter.com/event/virtual-reading-freedom-for-who-to-do-what-to-whom/
LOCATION:PA
CATEGORIES:Events,Poetry,Poetry Events
ATTACH;FMTTYPE=image/png:https://moonstoneartscenter.com/wp-content/uploads/2025/06/Blue-Beige-Quirky-Whimsical-Hand-Drawn-Farmers-Market-Poster-1.png
END:VEVENT
BEGIN:VEVENT
DTSTART;TZID=America/New_York:20250708T183000
DTEND;TZID=America/New_York:20250708T183000
DTSTAMP:20260424T045144
CREATED:20250622T152333Z
LAST-MODIFIED:20250622T152333Z
UID:20475-1751999400-1751999400@moonstoneartscenter.com
SUMMARY:Philly Loves Poetry Interview and Readings Series
DESCRIPTION:Tuesday July 8\, 2025  \n6:30pm – Live Broadcast \nCan be viewed on the Phillycam website Or Cable 66/966HD/967 or Verizon FIOS\, 29/30 In Philadelphia. \nElaine Terranova is the author of eight collections\, including most recently Rinse. Her work has appeared in a number of literary magazines and anthologies. She has received the Walt Whitman Award\, an NEA\, a Pew Fellowship\, a Pushcart Prize\, and in 2024\, the Maurice English Poetry Award. \nCharles S. Carr\, Host \n 
URL:https://moonstoneartscenter.com/event/philly-loves-poetry-interview-and-readings-series-2/
LOCATION:PA
CATEGORIES:Events,Poetry,Poetry Events
ATTACH;FMTTYPE=image/png:https://moonstoneartscenter.com/wp-content/uploads/2020/08/Green-Red-Retro-Floral-Strawberry-Fruit-Festival-Farm-Event-Flyer.png
END:VEVENT
BEGIN:VEVENT
DTSTART;TZID=America/New_York:20250709T190000
DTEND;TZID=America/New_York:20250709T190000
DTSTAMP:20260424T045144
CREATED:20250622T153140Z
LAST-MODIFIED:20250622T153140Z
UID:20478-1752087600-1752087600@moonstoneartscenter.com
SUMMARY:July 9 - Live at Fergie’s Pub
DESCRIPTION:Wednesday July 9\, 2025 – 7pm- LIVE \nLive at Fergie’s Pub\, 1214 Sansom Street \nAmbition Harper\, the first fostercare poet in the United States a lecturer\, journalist and a poetic theorist and believes that poetry can change people and change perspectives. \nEmiliano Martín is the author of over a dozen titles of poetry\, a former president of Pennsylvania Poetry Society\, nc and former director of Latin American Guild for the Arts in Philadelphia. \nJoyce Meyers\, winner of Atlanta Review’s 2014 International Poetry Contest.  Her poems have been published in numerous journals and anthologies\, including The Comstock Review\, Atlanta Review\, Muse Literary Journal\, and Glimpse. \nOpen Reading Follows
URL:https://moonstoneartscenter.com/event/july-9-live-at-fergies-pub/
LOCATION:Fergie’s Pub\, 1214 Sansom Street\, Philadelphia\, PA\, United States
CATEGORIES:Events,Poetry,Poetry Events
ATTACH;FMTTYPE=image/png:https://moonstoneartscenter.com/wp-content/uploads/2025/06/Green-Brown-Pink-Colorful-Creative-Illustration-Yard-Sale-Flyer.png
END:VEVENT
BEGIN:VEVENT
DTSTART;TZID=America/New_York:20250713T140000
DTEND;TZID=America/New_York:20250713T140000
DTSTAMP:20260424T045144
CREATED:20250622T155106Z
LAST-MODIFIED:20250622T155106Z
UID:20481-1752415200-1752415200@moonstoneartscenter.com
SUMMARY:VIRTUAL Reading - From Tupelo Press
DESCRIPTION:https://us06web.zoom.us/meeting/register/2oRlEo-zRZWnrKAQxejwFw \nSunday July 13\, 2025 – 2pmEDT – VIRTUAL – From Tupelo Press – \nFrom Tupelo Press – an independent\, literary press devoted to discovering and publishing works of poetry\, literary fiction\, and creative nonfiction by emerging and established writers. \nMike Carlson\, author of Tips to Help You Do Your Best and Cement Guitar. \nJenny Grassl\, author of Magicholia\, and Forever Mistaken for Ourselves.  \nBelle Ling\, author of Nebulous Vertigo.  \nSpring Ulmer\, author of Benjamin’s Spectacles (selected by Sonia Sanchez for Kore Press’s 2007 First Book Award.
URL:https://moonstoneartscenter.com/event/virtual-reading-from-tupelo-press/
LOCATION:PA
CATEGORIES:Events,Poetry,Poetry Events
ATTACH;FMTTYPE=image/png:https://moonstoneartscenter.com/wp-content/uploads/2025/06/Orange-Retro-Chic-Happy-Hour-Flyer.png
END:VEVENT
BEGIN:VEVENT
DTSTART;TZID=America/New_York:20250715T170000
DTEND;TZID=America/New_York:20250715T183000
DTSTAMP:20260424T045144
CREATED:20250622T155749Z
LAST-MODIFIED:20250712T151631Z
UID:20485-1752598800-1752604200@moonstoneartscenter.com
SUMMARY:LIVE - BETRAYED: Violence Against Women
DESCRIPTION:Tuesday July 15\, 2025 – 5pm – LIVE – BETRAYED: Violence Against Women \nCentral Free Library\, Skyline Room (4th Floor)\, 901 Vine Street \nFeaturing Meg Groff\, author of Not If I Can Help It: A Family Lawyer’s Battles for Justice for Victims of Domestic Violence and the Poor ($22.95\, Rivertowns Books) \nIn a rare\, starred review\, Kirkus Reviews says:  “The cases she recounts range from harrowing to infuriating: The police shrugged away potential murders as suicides\, children were left unsupervised with dangerous fathers with devastating results\, doctors assumed that struggling young mothers must be alcoholics. Each episode carries a tremendous punch\, as well as a searing lesson about the failings of society to help those in need. . . . Despite such heavy details and subject matter\, Groff balances her book with warmth and humor.” Books will be available.
URL:https://moonstoneartscenter.com/event/live-betrayed-violence-against-women/
LOCATION:Parkway Central Library\, 1901 Vine St
CATEGORIES:Events,Poetry Events
ATTACH;FMTTYPE=image/png:https://moonstoneartscenter.com/wp-content/uploads/2025/06/July-15-2025.png
END:VEVENT
BEGIN:VEVENT
DTSTART;TZID=America/New_York:20250716T190000
DTEND;TZID=America/New_York:20250716T200000
DTSTAMP:20260424T045144
CREATED:20250712T174048Z
LAST-MODIFIED:20250712T180050Z
UID:20525-1752692400-1752696000@moonstoneartscenter.com
SUMMARY:Live Poetry: Erica Abbott\, Elayna Mae Darcy\, Thalia Geiger\, Diamante "Dimo" Ortiz\, and Faith Paulsen
DESCRIPTION:Live Poetry: Erica Abbott\, Elayna Mae Darcy\, Thalia Geiger\, Diamante “Dimo” Ortiz\, and Faith Paulsen \nWednesday July 16\, 2025 – 7pm- LIVE \nLive at Fergie’s Pub\, 1214 Sansom Street \nErica Abbott is a Philadelphia-based poet and writer whose work has previously appeared or is forthcoming in Epiphany\, Shō Poetry Journal\, Pirene’s Fountain\, Midway Journal\, and others. She is the author of Self-Portrait as a Sinking Ship and is a poetry editor for Variant  Literature.  She is currently pursuing her MFA at Randolph College\, where she is the assistant managing editor and lead poetry editor for Revolute. \nElayna Mae Darcy is an author\, podcaster\, and chaotic good bard from Philadelphia. With a Film & Media Arts degree from Temple University\, they have spent the last decade creating podcasts\, co-founding the local publisher\, Elixir Verse Press\, and self-publishing three books. They have had pieces published in the Wizards in Space\, Impostor Lit\, just femme & dandy\, and Limited Editions\, and usually be found wandering the various branches of the Philly Free Library or snuggling their cat\, Bean. \nThalia Geiger is a poet and fiction writer\, author of the chapbook Wild Like a Woman\, and her debut poetry collection\, Red Death\, Purple Dark\, is forthcoming from Thirty West Publishing. She is the winner of Black Fox Literary’s 2025 Summer Fox Tales Contest\, and her work has been featured in New York Quarterly\, Allegory Ridge\, Coffin Bell\, Grim & Gilded and more. She hails from Philadelphia\, where she works in journal publishing. You can find her on Instagram and BlueSky @thalierr. \nDiamante “Dimo” Ortiz is a poet\, community organizer\, and journalist based in Philadelphia\, originally from the Los Sures area of Williamsburg\, Brooklyn. Their work explores grief\, gender fluidity\, and Afro-Boricua heritage. Dimo has collaborated with creatives and organized events\, including the Open Treasures open mic in 2023. They have worked as a senior reporter and editor for Protest NYC\, founded Protest PHL and does hyper local coverage throughout her years from her start as a storyteller with The Moth’s All City Team since 2016. Dimo also launched “Notes to Self\,” a Substack series reflecting on life and self-love. \nFaith Paulsen writes poetry from her desk at an insurance agency near Philadelphia. She loves books\, art\, music and friendship. Her work appears or is upcoming in Scientific American\, Blue Heron\, Boomerlit\, Lunch Ticket\, Mania\, Poetica Review\, Philadelphia Stories\, Book of Matches\, One Art\, Panoply\, Thimble\, Evansville Review\, Mantis and others. She is a proud Moonstone Chapbook Contest award recipient. Visit her website at https://www.faithpaulsenpoet.com/ \nSean Hanrahan Host – Open Reading Follows
URL:https://moonstoneartscenter.com/event/live-poetry-erica-abbott-elayna-mae-darcy-thalia-geiger-diamante-dimo-ortiz-and-faith-paulsen/
LOCATION:Fergie’s Pub\, 1214 Sansom Street\, Philadelphia\, PA\, United States
ATTACH;FMTTYPE=image/png:https://moonstoneartscenter.com/wp-content/uploads/2025/07/July-16-2025.png
END:VEVENT
BEGIN:VEVENT
DTSTART;TZID=America/New_York:20250720T140000
DTEND;TZID=America/New_York:20250720T150000
DTSTAMP:20260424T045144
CREATED:20250712T173752Z
LAST-MODIFIED:20250712T180712Z
UID:20522-1753020000-1753023600@moonstoneartscenter.com
SUMMARY:Virtual Reading: Betrayed: Violence Against Women
DESCRIPTION:Virtual Reading: Betrayed: Violence Against Women\nSunday July 20\, 2025 \n2pm EDT – VIRTUAL \nRegister here: https://us06web.zoom.us/meeting/register/3RqcVPSiSfO6TwlOsIMQmg \nBETRAYED – Violence Against Women\, invites survivors of gender-based violence to share their stories so that we can bring awareness to this issue and challenge the culture surrounding domestic violence—a culture that overwhelmingly encourages silence and shame. \nThe purpose of this anthology is to uplift survivors and open up a space for them to share their stories. We hope to create a community in which we can ultimately find healing through the powerful medium of art. 50 Poets responded. \nNot All Poets Will Be Reading \n\n\n\nNicole Abuhamada \nLisa Acerbo \nJenny Adrekedes \nVirginia Alcott \nKimm Antell \nJeff Bien \nJill Bindewald \nA. C. Blake \nSusan Breall \nMaia Brown-Jackson \nSuzanne Bruce \nKaterina Canyon \nAJ Chilson \n \nCandice Louisa Daquin \nNickie DeSardo \nR.G. Evans \nFrancis Flavin \nAna Fores Tamayo \nCaitlin Gille \nLinda Goss \nJuliana Gray \nAlaina Hammond \nColleen Harris \nAnnie Hartford \nLeah Hummel \n  \n \nTaylor Johnston \nKathleen Johnston \nAtiyaOla Malik Kahn \nJennifer Karp \nJ. M. Liles \nPatricia Middleton \nAlison Miller \nK. Molle (Carol Fisher) \nShagufta Mulla \nTraci Neal \nAndrea Nicki \nKatie Rose \nArivana Russell \n \nDavid Schast \nCourtney Seymour \nMiki Simic \nKatherine Stairs \nPam Ward \nGail Wasserman \nErin Watson \nBecky Bishop White \nKelley White \nPharoha Womack \nDiana Woodcock \nSamantha Wright \nOtella Wruck \n \n\n\n\n  \nThis program was stimulated by the publication of Not If I Can Help It: A Family Lawyer’s Battles for Justice for Victims of Domestic Violence and the Poor By Meg Groff – who will be presenting an inter-active presentation at the Free Library at 19th and Vine Street on Tuesday July 15\, 2025. \n“The cases she recounts range from harrowing to infuriating: The police shrugged away potential murders as suicides\, children were left unsupervised with dangerous fathers with devastating results\, doctors assumed that struggling young mothers must be alcoholics. Each episode carries a tremendous punch\, as well as a searing lesson about the failings of society to help those in need. . . . Despite such heavy details and subject matter\, Groff balances her book with warmth and humor.” – Kirkus Reviews \nBuy the inspiring book @ https://moonstone-arts-center.square.site/product/groff-meg-not-if-i-can-help-it/526 \nBuy the Moonstone anthology @ https://moonstone-arts-center.square.site/product/betrayed-violence-against-women/DWSMPVY47RUGQBLCDGLBFFKM?cs=true&cst=custom
URL:https://moonstoneartscenter.com/event/virtual-reading-betrayed-violence-against-women/
LOCATION:virtual
CATEGORIES:Events,Poetry Events
ATTACH;FMTTYPE=image/png:https://moonstoneartscenter.com/wp-content/uploads/2025/07/Violence-Against-Women-Virtual_Square.png
END:VEVENT
BEGIN:VEVENT
DTSTART;TZID=America/New_York:20250720T140000
DTEND;TZID=America/New_York:20250720T160000
DTSTAMP:20260424T045144
CREATED:20250712T173205Z
LAST-MODIFIED:20250712T175311Z
UID:20519-1753020000-1753027200@moonstoneartscenter.com
SUMMARY:Live Poetry: Bree Bailey\, Miriam Kramer\, and Sheleen McElhinney
DESCRIPTION:Live Poetry: Bree Bailey\, Miriam Kramer\, and Sheleen McElhinney\nSunday July 20\, 2025 – 2pm – LIVE \nLive at Fergie’s Pub\, 1214 Sansom Street \nBree Bailey is a queer Latina poet\, a mistress of the music of inflections\, pulses\, and ironic chuckles. A Jersey native now in Austin\, TX\, she writes with heart and humor about mental health\, love\, and resilience. A former educator and 2023 Write Bloody Jack McCarthy Prize winner\, her debut collection\, Wailing on Whisper Street\, is out now and everywhere you buy books. Find her in Exposition Review\, West Trade Review\, Remington Review\, and more. Follow @breebaileypoetry or visitbreebaileypoetry.com. \nMiriam Kramer is a queer\, Jewish poet residing in New Jersey with her partner\, daughter\, and two cats. She was the winner of the 2023 Jack McCarthy Book Prize. Miriam loves stick figure drawings\, bright sneakers\, and embroidery. Her debut full length collection\, Built by Storms\, was published by Write Bloody Publishing and nominated for The Lambda Literary Prize and The New Writers Award\, Great Lakes College Association. Find her on social media: miriadwords \nSheleen McElhinney is a poet living in Glenside\, Pa whose work has appeared in lily Poetry Review\, Bayou Magazine\, Bear Review\, and elsewhere. Her debut book\, Every Little Vanishing\, was the winner of the 2021 Write Bloody Publishing Book Award. \nSean Lynch Host – Open Reading Follows
URL:https://moonstoneartscenter.com/event/live-poetry-bree-bailey-miriam-kramer-and-sheleen-mcelhinney/
LOCATION:Fergie’s Pub\, 1214 Sansom Street\, Philadelphia\, PA\, United States
CATEGORIES:Events,Poetry Events
ATTACH;FMTTYPE=image/png:https://moonstoneartscenter.com/wp-content/uploads/2025/07/Copy-of-Fergies-312-Reading_Square.png
END:VEVENT
BEGIN:VEVENT
DTSTART;TZID=America/New_York:20250727T140000
DTEND;TZID=America/New_York:20250727T170000
DTSTAMP:20260424T045144
CREATED:20250726T224744Z
LAST-MODIFIED:20250726T230227Z
UID:20535-1753624800-1753635600@moonstoneartscenter.com
SUMMARY:Keystone Poetry: Contemporary Poets on Pennsylvania
DESCRIPTION:Sunday July 27\, 2025  2pm EDT –   VIRTUAL \nhttps://us06web.zoom.us/meeting/register/MV1XXDyjSxm5hcwx5hpxOg  \nKeystone Poetry: Contemporary Poets on Pennsylvania \nEdited by Marjorie Maddox & Jerry Wemple ( $27.90 Pennsylvania State University Press) \nBuy the book: https://moonstone-arts-center.square.site/product/keystone-poetry-contemporary-poets-on-pennsylvania/527 \n  \nFrom Philadelphia to Erie\, and from the shale fields to the coal mines\, Keystone Poetry celebrates the varied landscapes and voices of Pennsylvania. This collection brings together the work of 182 poets who\, with keen eyes and powerful language\, commemorate the hometowns\, history\, traditions\, and culture of the Commonwealth. \nPlease join us as 49 of the 182 Poets in Keystone Poetry Read Their Poems: \n\n\n\nAllison Adair \nNathalie F. Anderson \nGrace Bauer \nJan Beatty \nAlyse Bensel \nCarole Bernstein \nChris Bullard \nGeraldine Connolly \nPaola Corso \nMark Danowsky \nGregory Djanikian \nDaniel Donaghy \nJoseph Dorazio \nChristine Gelineau \nS.E. Gilman \nMauricio Kilwein Guevara \n \nVernita Hall \nJocelyn Heath \nAmanda Hodes \nErin Hoover \nChuck Joy \nKristin Kovacic \nLeonard Kress \nRichard Krohn \nLynn Levin \nMarjorie Maddox \nSharon Fagan McDermot \nAnn E. Michael \nJulie L. Moore \nHeather Myers \nRobbi Nester \nJacqueline Osherow \nJohn Repp\nLaura Rutland \nMark Saba \nBarbara Sabol \nJudith Sornberger \nJulie Standig \nAlison Carb Sussman \nPhilip Terman \nElaine Terranova \nPatricia Thrushart \nJ. C. Todd \nLee Upton \nMatthew Ussia \nJeanne Murray Walker \nSusan Weaver \nVirginia Watts \nMartin Jr. Willitts
URL:https://moonstoneartscenter.com/event/keystone-poetry-contemporary-poets-on-pennsylvania/
LOCATION:virtual
CATEGORIES:Poetry Events
ATTACH;FMTTYPE=image/jpeg:https://moonstoneartscenter.com/wp-content/uploads/2025/07/Keystone-Poetry.jpg
END:VEVENT
BEGIN:VEVENT
DTSTART;TZID=America/New_York:20250730T190000
DTEND;TZID=America/New_York:20250730T210000
DTSTAMP:20260424T045144
CREATED:20250726T225031Z
LAST-MODIFIED:20250726T230202Z
UID:20538-1753902000-1753909200@moonstoneartscenter.com
SUMMARY:Live Poetry: Ryan Eckes and Nycir Keen
DESCRIPTION:Wednesday July 30\, 2025 – 7pm- LIVE \nLive at Fergie’s Pub\, 1214 Sansom Street \nRyan Eckes is the author of Wrong Heaven Again\, General Motors\, Valu-Plus  and Old News\, as well as several chapbooks. His poems have appeared in Prolit\, Protean Magazine\, Tripwire\, The New York Times Magazine\, and elsewhere. With Kim Gek Lin Short\, he runs Radiator Press. \nNycir Keen is an active performer and spoken word artist\, has been a member of the Collective Mic and is a frequent poet for the Gullah Traveling Theater. \nAaron Gadbury\, Lindsay Hargrave\, Warren Longmire Hosts\, Open Reading Follows 
URL:https://moonstoneartscenter.com/event/live-poetry-ryan-eckes-and-nycir-keen/
LOCATION:Fergie’s Pub\, 1214 Sansom Street\, Philadelphia\, PA\, United States
CATEGORIES:Poetry Events
ATTACH;FMTTYPE=image/jpeg:https://moonstoneartscenter.com/wp-content/uploads/2025/07/Fergies-Pub-730_Square.jpg
END:VEVENT
END:VCALENDAR