BEGIN:VCALENDAR
VERSION:2.0
PRODID:-//Moonstone Arts Center - ECPv6.15.20//NONSGML v1.0//EN
CALSCALE:GREGORIAN
METHOD:PUBLISH
X-ORIGINAL-URL:https://moonstoneartscenter.com
X-WR-CALDESC:Events for Moonstone Arts Center
REFRESH-INTERVAL;VALUE=DURATION:PT1H
X-Robots-Tag:noindex
X-PUBLISHED-TTL:PT1H
BEGIN:VTIMEZONE
TZID:America/New_York
BEGIN:DAYLIGHT
TZOFFSETFROM:-0500
TZOFFSETTO:-0400
TZNAME:EDT
DTSTART:20240310T070000
END:DAYLIGHT
BEGIN:STANDARD
TZOFFSETFROM:-0400
TZOFFSETTO:-0500
TZNAME:EST
DTSTART:20241103T060000
END:STANDARD
BEGIN:DAYLIGHT
TZOFFSETFROM:-0500
TZOFFSETTO:-0400
TZNAME:EDT
DTSTART:20250309T070000
END:DAYLIGHT
BEGIN:STANDARD
TZOFFSETFROM:-0400
TZOFFSETTO:-0500
TZNAME:EST
DTSTART:20251102T060000
END:STANDARD
BEGIN:DAYLIGHT
TZOFFSETFROM:-0500
TZOFFSETTO:-0400
TZNAME:EDT
DTSTART:20260308T070000
END:DAYLIGHT
BEGIN:STANDARD
TZOFFSETFROM:-0400
TZOFFSETTO:-0500
TZNAME:EST
DTSTART:20261101T060000
END:STANDARD
END:VTIMEZONE
BEGIN:VEVENT
DTSTART;TZID=America/New_York:20250603T183000
DTEND;TZID=America/New_York:20250603T200000
DTSTAMP:20260425T121755
CREATED:20250529T183129Z
LAST-MODIFIED:20250529T185241Z
UID:20386-1748975400-1748980800@moonstoneartscenter.com
SUMMARY:Philly Loves Poetry Interview and Readings Series - Live Broadcast
DESCRIPTION:Moonstone Poetry @ PhillyCAMCan be viewed on the Phillycam website or Cable 66/966HD/967 or Verizon FIOS\, 29/30 In Philadelphia. \nFióna Bolger is an Irish poet\, mentor and creative facilitator\, author of Love in the Original Language and a compound of word\, co-editor of KIN: Anthology of Roma\, Traveller and Nomadic Women’s Writing. Her facilitation and creative practice are polyvocal\, plurilingual and co-operative. She welcomes all languages and works to create language sharing\, poetry making spaces. Charles S. Carr\, Host \n           
URL:https://moonstoneartscenter.com/event/philly-loves-poetry-interview-and-readings-series-live-broadcast-3/
LOCATION:PhillyCAM\, 699 Ranstead Street\, Philadelphia\, PA\, 19106\, United States
CATEGORIES:Events,Poetry,Poetry Events
ATTACH;FMTTYPE=image/png:https://moonstoneartscenter.com/wp-content/uploads/2020/08/fiona-june-3.png
END:VEVENT
END:VCALENDAR