BEGIN:VCALENDAR
VERSION:2.0
PRODID:-//Moonstone Arts Center - ECPv6.15.20//NONSGML v1.0//EN
CALSCALE:GREGORIAN
METHOD:PUBLISH
X-ORIGINAL-URL:https://moonstoneartscenter.com
X-WR-CALDESC:Events for Moonstone Arts Center
REFRESH-INTERVAL;VALUE=DURATION:PT1H
X-Robots-Tag:noindex
X-PUBLISHED-TTL:PT1H
BEGIN:VTIMEZONE
TZID:America/New_York
BEGIN:DAYLIGHT
TZOFFSETFROM:-0500
TZOFFSETTO:-0400
TZNAME:EDT
DTSTART:20230312T070000
END:DAYLIGHT
BEGIN:STANDARD
TZOFFSETFROM:-0400
TZOFFSETTO:-0500
TZNAME:EST
DTSTART:20231105T060000
END:STANDARD
BEGIN:DAYLIGHT
TZOFFSETFROM:-0500
TZOFFSETTO:-0400
TZNAME:EDT
DTSTART:20240310T070000
END:DAYLIGHT
BEGIN:STANDARD
TZOFFSETFROM:-0400
TZOFFSETTO:-0500
TZNAME:EST
DTSTART:20241103T060000
END:STANDARD
BEGIN:DAYLIGHT
TZOFFSETFROM:-0500
TZOFFSETTO:-0400
TZNAME:EDT
DTSTART:20250309T070000
END:DAYLIGHT
BEGIN:STANDARD
TZOFFSETFROM:-0400
TZOFFSETTO:-0500
TZNAME:EST
DTSTART:20251102T060000
END:STANDARD
END:VTIMEZONE
BEGIN:VEVENT
DTSTART;TZID=America/New_York:20241201T140000
DTEND;TZID=America/New_York:20241201T153000
DTSTAMP:20260425T084653
CREATED:20241117T152946Z
LAST-MODIFIED:20241117T152946Z
UID:19969-1733061600-1733067000@moonstoneartscenter.com
SUMMARY:Virtual Reading: Remembering Dennis Brutus
DESCRIPTION:Sunday December 1\, 2024 @ 2pm EDT – VIRTUAL\nRemembering Dennis Brutus (1924 – 2009)\nOn Zoom\, register here: https://us06web.zoom.us/meeting/register/tZErfu-prjIiE9eezsl16I2_NXEdA45fkVSb \nBorn in Zimbabwe\, poet and human rights activist Dennis Brutus grew up in Port Elizabeth\, South Africa\, and was educated at Fort Hare University College. He taught high school for 14 years until he was dismissed for antiapartheid activism. After studying law at the University of the Witwatersrand and becoming increasingly active in movements opposing racial discrimination in sports\, Brutus was shot and then sentenced to 18 months of hard labor on Robben Island\, alongside Nelson Mandela. Forbidden to write or publish after his release\, Brutus left South Africa in 1966 for England and then the United States. \nBrutus taught at the University of Denver\, Northwestern University\, and the University of Pittsburgh. His poetry collections include Salutes and Censures (1985)\, Stubborn Hope (1978)\, and Letter to Martha and Other Poems from a South African Prison (1969). Poetry and Protest: A Dennis Brutus Reader (2006) was edited by Aisha Karim and Lee Sustar\, and The Dennis Brutus Tapes: Essays at Autobiography (2011) was edited by Bernth Lindfors. \nSubmit to our accompanying Remembering Dennis Brutus anthology by November 24th. 
URL:https://moonstoneartscenter.com/event/virtual-reading-remembering-dennis-brutus/
LOCATION:virtual
CATEGORIES:Events,Poetry Events
ATTACH;FMTTYPE=image/png:https://moonstoneartscenter.com/wp-content/uploads/2024/11/Remembering-Dennis-Brutus_Event.png
END:VEVENT
END:VCALENDAR