BEGIN:VCALENDAR
VERSION:2.0
PRODID:-//Moonstone Arts Center - ECPv6.15.20//NONSGML v1.0//EN
CALSCALE:GREGORIAN
METHOD:PUBLISH
X-WR-CALNAME:Moonstone Arts Center
X-ORIGINAL-URL:https://moonstoneartscenter.com
X-WR-CALDESC:Events for Moonstone Arts Center
REFRESH-INTERVAL;VALUE=DURATION:PT1H
X-Robots-Tag:noindex
X-PUBLISHED-TTL:PT1H
BEGIN:VTIMEZONE
TZID:America/New_York
BEGIN:DAYLIGHT
TZOFFSETFROM:-0500
TZOFFSETTO:-0400
TZNAME:EDT
DTSTART:20240310T070000
END:DAYLIGHT
BEGIN:STANDARD
TZOFFSETFROM:-0400
TZOFFSETTO:-0500
TZNAME:EST
DTSTART:20241103T060000
END:STANDARD
BEGIN:DAYLIGHT
TZOFFSETFROM:-0500
TZOFFSETTO:-0400
TZNAME:EDT
DTSTART:20250309T070000
END:DAYLIGHT
BEGIN:STANDARD
TZOFFSETFROM:-0400
TZOFFSETTO:-0500
TZNAME:EST
DTSTART:20251102T060000
END:STANDARD
BEGIN:DAYLIGHT
TZOFFSETFROM:-0500
TZOFFSETTO:-0400
TZNAME:EDT
DTSTART:20260308T070000
END:DAYLIGHT
BEGIN:STANDARD
TZOFFSETFROM:-0400
TZOFFSETTO:-0500
TZNAME:EST
DTSTART:20261101T060000
END:STANDARD
END:VTIMEZONE
BEGIN:VEVENT
DTSTART;TZID=America/New_York:20250713T140000
DTEND;TZID=America/New_York:20250713T140000
DTSTAMP:20260425T101601
CREATED:20250622T155106Z
LAST-MODIFIED:20250622T155106Z
UID:20481-1752415200-1752415200@moonstoneartscenter.com
SUMMARY:VIRTUAL Reading - From Tupelo Press
DESCRIPTION:https://us06web.zoom.us/meeting/register/2oRlEo-zRZWnrKAQxejwFw \nSunday July 13\, 2025 – 2pmEDT – VIRTUAL – From Tupelo Press – \nFrom Tupelo Press – an independent\, literary press devoted to discovering and publishing works of poetry\, literary fiction\, and creative nonfiction by emerging and established writers. \nMike Carlson\, author of Tips to Help You Do Your Best and Cement Guitar. \nJenny Grassl\, author of Magicholia\, and Forever Mistaken for Ourselves.  \nBelle Ling\, author of Nebulous Vertigo.  \nSpring Ulmer\, author of Benjamin’s Spectacles (selected by Sonia Sanchez for Kore Press’s 2007 First Book Award.
URL:https://moonstoneartscenter.com/event/virtual-reading-from-tupelo-press/
CATEGORIES:Events,Poetry,Poetry Events
ATTACH;FMTTYPE=image/png:https://moonstoneartscenter.com/wp-content/uploads/2025/06/Orange-Retro-Chic-Happy-Hour-Flyer.png
END:VEVENT
END:VCALENDAR