BEGIN:VCALENDAR
VERSION:2.0
PRODID:-//Moonstone Arts Center - ECPv6.15.20//NONSGML v1.0//EN
CALSCALE:GREGORIAN
METHOD:PUBLISH
X-WR-CALNAME:Moonstone Arts Center
X-ORIGINAL-URL:https://moonstoneartscenter.com
X-WR-CALDESC:Events for Moonstone Arts Center
REFRESH-INTERVAL;VALUE=DURATION:PT1H
X-Robots-Tag:noindex
X-PUBLISHED-TTL:PT1H
BEGIN:VTIMEZONE
TZID:America/New_York
BEGIN:DAYLIGHT
TZOFFSETFROM:-0500
TZOFFSETTO:-0400
TZNAME:EDT
DTSTART:20230312T070000
END:DAYLIGHT
BEGIN:STANDARD
TZOFFSETFROM:-0400
TZOFFSETTO:-0500
TZNAME:EST
DTSTART:20231105T060000
END:STANDARD
BEGIN:DAYLIGHT
TZOFFSETFROM:-0500
TZOFFSETTO:-0400
TZNAME:EDT
DTSTART:20240310T070000
END:DAYLIGHT
BEGIN:STANDARD
TZOFFSETFROM:-0400
TZOFFSETTO:-0500
TZNAME:EST
DTSTART:20241103T060000
END:STANDARD
BEGIN:DAYLIGHT
TZOFFSETFROM:-0500
TZOFFSETTO:-0400
TZNAME:EDT
DTSTART:20250309T070000
END:DAYLIGHT
BEGIN:STANDARD
TZOFFSETFROM:-0400
TZOFFSETTO:-0500
TZNAME:EST
DTSTART:20251102T060000
END:STANDARD
END:VTIMEZONE
BEGIN:VEVENT
DTSTART;TZID=America/New_York:20240904T190000
DTEND;TZID=America/New_York:20240904T210000
DTSTAMP:20260425T121505
CREATED:20240902T160703Z
LAST-MODIFIED:20240902T161326Z
UID:19777-1725476400-1725483600@moonstoneartscenter.com
SUMMARY:Live Poetry: Elliott batTzedek\, Steve Burke\, Mabel Lee & Matt McGarvey
DESCRIPTION:Live Poetry: Elliott batTzedek\, Steve Burke\, Mabel Lee & Matt McGarvey\nLive at Fergie’s Pub\,1214 Sansom Street and on zoom \nRegister for Zoom at this link: https://us06web.zoom.us/meeting/register/tZMudumurj0rHNXoqS0HzX_7ZJogkgqPa5Sy \nElliott batTzedek is a Pushcart Prize-nominated poet/translator. Elliott’s work appears in various journals and is author of the enkindled coal of my tongue. \nSteve Burke has read at many venues in the Philly area; has three chapbooks published by Moonstone Press. \nMabel Lee is a poet and educator from Philadelphia\, where she participates in various literary groups and teaches middle school students. \nMatt McGarvey\, author of Alien Vestibule\, is essentially a caffeinated replica of a stardom gone astray\, that lives in an apartment by himself where he contemplates the severed state of himself and society. He is now currently interning at Moonstone Arts Center. \n  \n 
URL:https://moonstoneartscenter.com/event/live-poetry-elliott-battzedek-steve-burke-mabel-lee-matt-mcgarvey/
LOCATION:Fergie’s Pub\, 1214 Sansom Street\, Philadelphia\, PA\, United States
CATEGORIES:Events,Poetry Events
ATTACH;FMTTYPE=image/png:https://moonstoneartscenter.com/wp-content/uploads/2024/09/Sept-4-2024.png
END:VEVENT
END:VCALENDAR