BEGIN:VCALENDAR
VERSION:2.0
PRODID:-//Moonstone Arts Center - ECPv6.15.20//NONSGML v1.0//EN
CALSCALE:GREGORIAN
METHOD:PUBLISH
X-ORIGINAL-URL:https://moonstoneartscenter.com
X-WR-CALDESC:Events for Moonstone Arts Center
REFRESH-INTERVAL;VALUE=DURATION:PT1H
X-Robots-Tag:noindex
X-PUBLISHED-TTL:PT1H
BEGIN:VTIMEZONE
TZID:America/New_York
BEGIN:DAYLIGHT
TZOFFSETFROM:-0500
TZOFFSETTO:-0400
TZNAME:EDT
DTSTART:20240310T070000
END:DAYLIGHT
BEGIN:STANDARD
TZOFFSETFROM:-0400
TZOFFSETTO:-0500
TZNAME:EST
DTSTART:20241103T060000
END:STANDARD
BEGIN:DAYLIGHT
TZOFFSETFROM:-0500
TZOFFSETTO:-0400
TZNAME:EDT
DTSTART:20250309T070000
END:DAYLIGHT
BEGIN:STANDARD
TZOFFSETFROM:-0400
TZOFFSETTO:-0500
TZNAME:EST
DTSTART:20251102T060000
END:STANDARD
BEGIN:DAYLIGHT
TZOFFSETFROM:-0500
TZOFFSETTO:-0400
TZNAME:EDT
DTSTART:20260308T070000
END:DAYLIGHT
BEGIN:STANDARD
TZOFFSETFROM:-0400
TZOFFSETTO:-0500
TZNAME:EST
DTSTART:20261101T060000
END:STANDARD
END:VTIMEZONE
BEGIN:VEVENT
DTSTART;TZID=America/New_York:20250514T190000
DTEND;TZID=America/New_York:20250514T190000
DTSTAMP:20260424T100742
CREATED:20250505T184922Z
LAST-MODIFIED:20250505T184922Z
UID:20312-1747249200-1747249200@moonstoneartscenter.com
SUMMARY:Live Poetry: Sarah Browning\, W.D. Ehrhart\, Jack Miller
DESCRIPTION:Sarah Browning is the author of Call Me Yes\, Killing Summer\, and others\, co-host of Wild Indigo Poetry\, and teaches online with Writers in Progress. W. D. Ehrhart’s most recent books are Thank You for Your Service: Collected Poems; What We Can and Can’t Afford: Essays on Vietnam\, Patriotism\, and American Life\, and At Smedley Butler’s Grave. Jack Miller\, author of Habit: Seven Decades of Poems is a former English teacher who retired after a long career at Ocean City High School. Open Reading Follows
URL:https://moonstoneartscenter.com/event/live-poetry-sarah-browning-w-d-ehrhart-jack-miller-2/
LOCATION:Fergie’s Pub\, 1214 Sansom Street\, Philadelphia\, PA\, United States
CATEGORIES:Poetry,Poetry Events
ATTACH;FMTTYPE=image/png:https://moonstoneartscenter.com/wp-content/uploads/2025/05/Beige-Red-Gradient-Motivation-Qoute-Instagram-Post.png
END:VEVENT
END:VCALENDAR