BEGIN:VCALENDAR
VERSION:2.0
PRODID:-//Moonstone Arts Center - ECPv6.15.20//NONSGML v1.0//EN
CALSCALE:GREGORIAN
METHOD:PUBLISH
X-WR-CALNAME:Moonstone Arts Center
X-ORIGINAL-URL:https://moonstoneartscenter.com
X-WR-CALDESC:Events for Moonstone Arts Center
REFRESH-INTERVAL;VALUE=DURATION:PT1H
X-Robots-Tag:noindex
X-PUBLISHED-TTL:PT1H
BEGIN:VTIMEZONE
TZID:America/New_York
BEGIN:DAYLIGHT
TZOFFSETFROM:-0500
TZOFFSETTO:-0400
TZNAME:EDT
DTSTART:20230312T070000
END:DAYLIGHT
BEGIN:STANDARD
TZOFFSETFROM:-0400
TZOFFSETTO:-0500
TZNAME:EST
DTSTART:20231105T060000
END:STANDARD
BEGIN:DAYLIGHT
TZOFFSETFROM:-0500
TZOFFSETTO:-0400
TZNAME:EDT
DTSTART:20240310T070000
END:DAYLIGHT
BEGIN:STANDARD
TZOFFSETFROM:-0400
TZOFFSETTO:-0500
TZNAME:EST
DTSTART:20241103T060000
END:STANDARD
BEGIN:DAYLIGHT
TZOFFSETFROM:-0500
TZOFFSETTO:-0400
TZNAME:EDT
DTSTART:20250309T070000
END:DAYLIGHT
BEGIN:STANDARD
TZOFFSETFROM:-0400
TZOFFSETTO:-0500
TZNAME:EST
DTSTART:20251102T060000
END:STANDARD
END:VTIMEZONE
BEGIN:VEVENT
DTSTART;TZID=America/New_York:20240501T190000
DTEND;TZID=America/New_York:20240501T190000
DTSTAMP:20260425T190956
CREATED:20240430T143117Z
LAST-MODIFIED:20240430T143117Z
UID:19487-1714590000-1714590000@moonstoneartscenter.com
SUMMARY:Live Poetry: Leeway Foundation Poets
DESCRIPTION:Live at Fergie’s Pub and on Zoom. \nNzadi Keita’s new poetry collection\, Migration Letters\, centers her upbringing in Black working-class Philadelphia. Pat McLean-Smith is a female word artist dedicated to the writing\, reciting and powerful performance of poetry. Debra Powell-Wright has been a performance poet for the past 25+ years and has been published in numerous anthologies\, including a tribute to the legacy of Nina Simone. Nikki Powerhouse uses performance and literary art to create a space for collective healing and transformation within communities. \nLink for Zoom:
URL:https://moonstoneartscenter.com/event/live-poetry-leeway-foundation-poets/
LOCATION:Fergie’s Pub\, 1214 Sansom Street\, Philadelphia\, PA\, United States
CATEGORIES:Poetry Events
ATTACH;FMTTYPE=image/png:https://moonstoneartscenter.com/wp-content/uploads/2024/04/may-1.png
END:VEVENT
END:VCALENDAR