BEGIN:VCALENDAR
VERSION:2.0
PRODID:-//Moonstone Arts Center - ECPv6.15.20//NONSGML v1.0//EN
CALSCALE:GREGORIAN
METHOD:PUBLISH
X-WR-CALNAME:Moonstone Arts Center
X-ORIGINAL-URL:https://moonstoneartscenter.com
X-WR-CALDESC:Events for Moonstone Arts Center
REFRESH-INTERVAL;VALUE=DURATION:PT1H
X-Robots-Tag:noindex
X-PUBLISHED-TTL:PT1H
BEGIN:VTIMEZONE
TZID:America/New_York
BEGIN:DAYLIGHT
TZOFFSETFROM:-0500
TZOFFSETTO:-0400
TZNAME:EDT
DTSTART:20240310T070000
END:DAYLIGHT
BEGIN:STANDARD
TZOFFSETFROM:-0400
TZOFFSETTO:-0500
TZNAME:EST
DTSTART:20241103T060000
END:STANDARD
BEGIN:DAYLIGHT
TZOFFSETFROM:-0500
TZOFFSETTO:-0400
TZNAME:EDT
DTSTART:20250309T070000
END:DAYLIGHT
BEGIN:STANDARD
TZOFFSETFROM:-0400
TZOFFSETTO:-0500
TZNAME:EST
DTSTART:20251102T060000
END:STANDARD
BEGIN:DAYLIGHT
TZOFFSETFROM:-0500
TZOFFSETTO:-0400
TZNAME:EDT
DTSTART:20260308T070000
END:DAYLIGHT
BEGIN:STANDARD
TZOFFSETFROM:-0400
TZOFFSETTO:-0500
TZNAME:EST
DTSTART:20261101T060000
END:STANDARD
END:VTIMEZONE
BEGIN:VEVENT
DTSTART;TZID=America/New_York:20250409T190000
DTEND;TZID=America/New_York:20250409T210000
DTSTAMP:20260424T204434
CREATED:20250401T205736Z
LAST-MODIFIED:20250401T205736Z
UID:20236-1744225200-1744232400@moonstoneartscenter.com
SUMMARY:Live Poetry: Jane-Rebecca Cannarella\, Krystle Griffin\, and Anne-Adele Wight
DESCRIPTION:Wednesday April 9\, 2025 – 7:00pm – LIVE \nLive at Fergie’s Pub\, 1214 Sansom Street \nJoin us for the Book Launch of Long Island Sad Poems by Jane-Rebecca Cannarella (Serotonin Press) \nJane-Rebecca Cannarella edits HOOT Review\, a magazine published on postcards\, Meow Meow Pow Pow Lit\, a broadside press\, and was an editor for Lunch Ticket. She will be joined by: \nKrystle Griffin is a writer\, actor\, artist\, and Swiss army knife of all trades\, trying to spin brain bees and nightmares into something shiny. \nAnne-Adele Wight is the author four books of poetry. Her work has appeared in American Writing\, Philadelphia Poets\, Tabula Rasa\, Shrike\, Mad Poets Review\, Philadelphia Writers’ Conference Anthology\, and The Dariens. \nSean Lynch Hosts – Open Reading Follows
URL:https://moonstoneartscenter.com/event/live-poetry-jane-rebecca-cannarella-krystle-griffin-and-anne-adele-wight/
LOCATION:Fergie’s Pub\, 1214 Sansom Street\, Philadelphia\, PA\, United States
CATEGORIES:Poetry Events
ATTACH;FMTTYPE=image/jpeg:https://moonstoneartscenter.com/wp-content/uploads/2025/03/Fergies-Pub-49_Square.jpg
END:VEVENT
BEGIN:VEVENT
DTSTART;TZID=America/New_York:20250416T190000
DTEND;TZID=America/New_York:20250416T210000
DTSTAMP:20260424T204434
CREATED:20250401T205836Z
LAST-MODIFIED:20250401T205836Z
UID:20249-1744830000-1744837200@moonstoneartscenter.com
SUMMARY:Live Poetry: E. Lynn Alexander\, Peter Baroth\, Julia Gwiazdowski\, and George Schaefer
DESCRIPTION:Wednesday April 16\, 2025 – 7:00pm – LIVE \nLive at Fergie’s Pub\,1214 Sansom Street \nE. Lynn Alexander is an artist\, poet\, and “crazy cat lady” from the Lehigh Valley. She is a partnering artist and writer in the Perspectives: Art on Environment project at the Nurture Nature Center. \nPeter Baroth\, author of Long Green and Lost Autograph is a writer\, artist\, and musician. He has been published in Philadelphia Poets\, Red Fez\, Schuylkill Valley Journal\, Apiary\, and others. \nJulia Gwiazdowski is a poet\, musician\, zine maker\, and the resident Sappho of Philadelphia\, author of 31 Days of Venus Aphrodite\, illustrated and formatted by dear friend and collaborator\, Jesse Arbor. \nGeorge Schaefer is a Philly born poet\, philosopher and prankster.  He started writing over 4 decades ago in an attempt to make some sense of this crazy world.  All these years later\, he’s as confused as ever but still clinging to the belief that the word can lead to wisdom. \nSean Hanrahan Hosts – Open Reading Follows
URL:https://moonstoneartscenter.com/event/live-poetry-e-lynn-alexander-peter-baroth-julia-gwiazdowski-and-george-schaefer/
LOCATION:Fergie’s Pub\, 1214 Sansom Street\, Philadelphia\, PA\, United States
CATEGORIES:Poetry Events
ATTACH;FMTTYPE=image/jpeg:https://moonstoneartscenter.com/wp-content/uploads/2025/03/Fergies-416-Reading_Square.jpg
END:VEVENT
BEGIN:VEVENT
DTSTART;TZID=America/New_York:20250423T190000
DTEND;TZID=America/New_York:20250423T210000
DTSTAMP:20260424T204434
CREATED:20250401T211341Z
LAST-MODIFIED:20250401T211341Z
UID:20256-1745434800-1745442000@moonstoneartscenter.com
SUMMARY:Live Poetry: Thomas Devaney\, Sean Lynch\, and Kim Gek Lin Short
DESCRIPTION:Wednesday April 23\, 2025 – 7:00pm – LIVE \nLive at Fergie’s Pub\, 1214 Sansom Street \nThomas Devaney is a poet\, facilitator\, educator and author of Getting to Philadelphia and You Are the Battery. His work is featured in Best American Poetry 2019. \nSean Lynch\, author of five\, has been the editor of various magazines\, journals\, anthologies\, and books\, and is the Founding Editor of Serotonin Press. \nKim Gek Lin Short is the author of China Cowboy and The Bugging Watch & Other Exhibits. Her poems and stories appear in numerous anthologies. With Ryan Eckes\, she runs Radiator Press. \nAnne-Adele Wight Hosts\, Open Reading Follows
URL:https://moonstoneartscenter.com/event/live-poetry-thomas-devaney-sean-lynch-and-kim-gek-lin-short/
LOCATION:Fergie’s Pub\, 1214 Sansom Street\, Philadelphia\, PA\, United States
CATEGORIES:Poetry Events
ATTACH;FMTTYPE=image/jpeg:https://moonstoneartscenter.com/wp-content/uploads/2025/04/Fergies-Pub-423_Square.jpg
END:VEVENT
END:VCALENDAR