BEGIN:VCALENDAR
VERSION:2.0
PRODID:-//Moonstone Arts Center - ECPv6.15.20//NONSGML v1.0//EN
CALSCALE:GREGORIAN
METHOD:PUBLISH
X-WR-CALNAME:Moonstone Arts Center
X-ORIGINAL-URL:https://moonstoneartscenter.com
X-WR-CALDESC:Events for Moonstone Arts Center
REFRESH-INTERVAL;VALUE=DURATION:PT1H
X-Robots-Tag:noindex
X-PUBLISHED-TTL:PT1H
BEGIN:VTIMEZONE
TZID:America/New_York
BEGIN:DAYLIGHT
TZOFFSETFROM:-0500
TZOFFSETTO:-0400
TZNAME:EDT
DTSTART:20240310T070000
END:DAYLIGHT
BEGIN:STANDARD
TZOFFSETFROM:-0400
TZOFFSETTO:-0500
TZNAME:EST
DTSTART:20241103T060000
END:STANDARD
BEGIN:DAYLIGHT
TZOFFSETFROM:-0500
TZOFFSETTO:-0400
TZNAME:EDT
DTSTART:20250309T070000
END:DAYLIGHT
BEGIN:STANDARD
TZOFFSETFROM:-0400
TZOFFSETTO:-0500
TZNAME:EST
DTSTART:20251102T060000
END:STANDARD
BEGIN:DAYLIGHT
TZOFFSETFROM:-0500
TZOFFSETTO:-0400
TZNAME:EDT
DTSTART:20260308T070000
END:DAYLIGHT
BEGIN:STANDARD
TZOFFSETFROM:-0400
TZOFFSETTO:-0500
TZNAME:EST
DTSTART:20261101T060000
END:STANDARD
END:VTIMEZONE
BEGIN:VEVENT
DTSTART;TZID=America/New_York:20250806T190000
DTEND;TZID=America/New_York:20250806T210000
DTSTAMP:20260424T123242
CREATED:20250726T230526Z
LAST-MODIFIED:20250726T230526Z
UID:20547-1754506800-1754514000@moonstoneartscenter.com
SUMMARY:Live Poetry: Phoebe Brown\, Courtney LeBlanc\, and Sean W. Lynch
DESCRIPTION:Wednesday August 6\, 2025  7pm- LIVE \nLive at Fergie’s Pub\, 1214 Sansom Street \nPhoebe Brown is a poet recently published by Anthropocene Poetry\, in “Impossible Task” with Another New Calligraphy\, Hog River Press\, and Moonstone Arts Center. \nCourtney LeBlanc is the Arlington County Poet Laureate\, founder and editor-in-chief of Riot in Your Throat\, an independent poetry press and founder of the Poetry Coven\, a monthly generative workshop. \nSean W. Lynch is author of five books of\, has been the editor of various magazines\, journals\, anthologies\, and books\, and worked for non-profit organizations such as Moonstone Arts Center and the Nick Virgilio Haiku Association. \n Aaren Yeatts Perry Host – Open Reading Follows
URL:https://moonstoneartscenter.com/event/live-poetry-phoebe-brown-courtney-leblanc-and-sean-w-lynch/
LOCATION:Fergie’s Pub\, 1214 Sansom Street\, Philadelphia\, PA\, United States
CATEGORIES:Poetry Events
ATTACH;FMTTYPE=image/jpeg:https://moonstoneartscenter.com/wp-content/uploads/2025/07/Copy-of-Fergies-Pub-49_Square.jpg
END:VEVENT
BEGIN:VEVENT
DTSTART;TZID=America/New_York:20250813T190000
DTEND;TZID=America/New_York:20250813T210000
DTSTAMP:20260424T123242
CREATED:20250804T154543Z
LAST-MODIFIED:20250804T154543Z
UID:20573-1755111600-1755118800@moonstoneartscenter.com
SUMMARY:Live Poetry: Shaina Clingempeel\, Jacqueline Jewell\, Warren C. Longmire\, and Lynda Gene Rymond
DESCRIPTION:Wednesday August 13\, 2025  7pm- LIVE \nLive at Fergie’s Pub\, 1214 Sansom Street \n Shaina Clingempeel\, author of in the homes that house my history\, is a Philly-based poet and the owner of a small book editing business (Cypress Editorial) and literary magazine (Cypress Review). Her poems can be found in Coffin Bell\, The Passionfruit Review\, The Rupture\, and many other places. She has a poetry MFA from Sarah Lawrence College. Follow @cypresseditorial (IG\, TikTok) for updates on her work and more. \nJacqueline Jewell\, author of Lady Arab\, is a poet\, college professor\, EMMY Award-winning journalist\, mother\, and activist. A Philadelphia area native and proud daughter of an immigrant\, Jacqueline uses her poetry to amplify underrepresented and discounted voices. She has won the first-ever “Share Your Voices” award\, a Dr. Martin Luther King Jr. Writing Contest\, in honor of Black History Month at Rosemont College. Jacqueline’s poetry collection\, Lady Arab\, is based on a true story of her grandmother surviving genocide\, her mother escaping war\, and Jacqueline’s own experience with racism and misogyny as a young woman of color. The three Arab women represented in Jacqueline’s collection is more than just her family’s story\, it’s the story of every Arab woman stripped of their rights\, suffering from a world that has forsaken them. \nWarren C. Longmire is a writer\, performer and educator from the bad part of North Philadelphia. He is author of Bird/Diz: An Erased History of Bebop and you can find his work in journals including Action\, Spectacle\, R&R\, and the American Poetry Review as well as in the anthologies Best American Poetry 2021 Anthology and A Black Philadelphia Reader. He is the former contributing editor for Apiary Magazine\, the host of House Poet: Spoken Word Dance Party and the founder of _mixlit\, has been a CUPSI grand slam and NPS group piece finalist\, coached the Philly Pigeon and Fuze Slam Team\, and has performed in venues including the Kimmel Center\, The Nuyorican Poetry Cafe. Warren is currently attending the Iowa Writer’s Workshop pursuing a master’s degree in Poetry. \nLynda Gene Rymond\, author of Spellbook\, a member of Dr. Christopher Bursk’s Masters Poetry Workshop and is a multi-year finalist/runner-up for Bucks County Poet Laureate. Her work has been published in numerous journals and anthologies\, she authored the children’s books The Village of Basketeers and Oscar & the Mooncats . Lynda Gene lives and works on Goblin Farm in Applebachsville\, Pa\, and is the creator of the online Words Come Easy writing workshops. \nOpen reading follows
URL:https://moonstoneartscenter.com/event/live-poetry-shaina-clingempeel-jacqueline-jewell-warren-c-longmire-and-lynda-gene-rymond/
LOCATION:Fergie’s Pub\, 1214 Sansom Street\, Philadelphia\, PA\, United States
CATEGORIES:Poetry Events
ATTACH;FMTTYPE=image/jpeg:https://moonstoneartscenter.com/wp-content/uploads/2025/08/Fergies-813_Square.jpg
END:VEVENT
BEGIN:VEVENT
DTSTART;TZID=America/New_York:20250820T190000
DTEND;TZID=America/New_York:20250820T210000
DTSTAMP:20260424T123242
CREATED:20250731T211350Z
LAST-MODIFIED:20250731T211350Z
UID:20559-1755716400-1755723600@moonstoneartscenter.com
SUMMARY:Live Poetry: Sydney Coffin\, Raina J. León\, and Genevieve Rand
DESCRIPTION:Wednesday August 20\, 2025  7pm- LIVE \nLive at Fergie’s Pub\, 1214 Sansom Street \nSydney Coffin is halfway done an MFA with NYU in Paris\, and taught poetry\, English\, journalism\, wrestling and experiential arts in Philadelphia’s public schools for 20 years\, English Language Learning at Job Corps\, and recently became the night manager of facilities for the Fleisher Memorial Art School on Catherine Street in the Italian Market area; he has been published by Moonstone Press\, Mad House Press\, Yale University Press\, Lobo Press\, and a few other locations. \nRaina J. León\, PhD is Black\, Afro-Boricua\, and from Philadelphia (Lenni Lenape ancestral lands). She is a mother\, daughter\, sister\, madrina\, comadre\, partner\, poet\, writer\, and teacher educator. She believes in collective action and community work\, the profound power of holding space for the telling of our stories\, and the liberatory practice of humanizing education. She seeks out communities of care and craft and is a member of the Carolina African American Writers Collective\, Cave Canem\, CantoMundo\, Macondo. She is a founding editor of The Acentos Review\, an online quarterly\, international journal devoted to the promotion and publication of Latinx arts. She is a recipient of a National Association of Latino Arts and Cultures Grant. \nGenevieve Rand is a variety artist whose work blends poetry\, stand-up\, song\, and immersive art into performances that feel like sacred chaos. Her debut one-woman show iParty—part ceremony\, part spectacle—will premiere this September at Philadelphia Fringe Festival. Tickets are on sale now\, and this is your official invitation to enter the iParty portal. \nSean Hanrahan Host – Open Reading Follows
URL:https://moonstoneartscenter.com/event/live-poetry-sydney-coffin-raina-j-leon-and-genevieve-rand/
LOCATION:Fergie’s Pub\, 1214 Sansom Street\, Philadelphia\, PA\, United States
CATEGORIES:Poetry Events
ATTACH;FMTTYPE=image/jpeg:https://moonstoneartscenter.com/wp-content/uploads/2025/07/Copy-of-Fergies-Pub-430_Square.jpg
END:VEVENT
BEGIN:VEVENT
DTSTART;TZID=America/New_York:20250827T190000
DTEND;TZID=America/New_York:20250827T210000
DTSTAMP:20260424T123242
CREATED:20250731T212757Z
LAST-MODIFIED:20250731T212757Z
UID:20562-1756321200-1756328400@moonstoneartscenter.com
SUMMARY:Live Poetry: George Marshall and Sophia Tempest
DESCRIPTION:Wednesday August 27\, 2025 – 7pm- LIVE \nLive at Fergie’s Pub\, 1214 Sansom Street \nGeorge Marshall is a writer out of Omaha\, Nebraska. He went to school for Nonfiction and works as a freelance writer and bartender. Poetry was where he found his love for writing. Outside of writing he spends time taking toilets apart to rebuild them stronger or standing in the middle of the street trying to achieve photosynthesis. \nSophia Tempest is the author of three poetry collections\, INFINITE LIGHT (Bottlecap Press\, 2025)\, WHEN I GET TO HEAVEN (Another New Calligraphy\, 2022) and a lamb hangs by its own foot (Ghost City Press\, 2019). She is also a coeditor for the press and journal Discount Guillotine. \nMac Chandler Host – Open Reading Follows
URL:https://moonstoneartscenter.com/event/live-poetry-george-marshall-and-sophia-tempest/
LOCATION:Fergie’s Pub\, 1214 Sansom Street\, Philadelphia\, PA\, United States
CATEGORIES:Poetry Events
ATTACH;FMTTYPE=image/jpeg:https://moonstoneartscenter.com/wp-content/uploads/2025/07/Copy-of-Fergies-Pub-730_Square.jpg
END:VEVENT
END:VCALENDAR