BEGIN:VCALENDAR
VERSION:2.0
PRODID:-//Moonstone Arts Center - ECPv6.15.20//NONSGML v1.0//EN
CALSCALE:GREGORIAN
METHOD:PUBLISH
X-WR-CALNAME:Moonstone Arts Center
X-ORIGINAL-URL:https://moonstoneartscenter.com
X-WR-CALDESC:Events for Moonstone Arts Center
REFRESH-INTERVAL;VALUE=DURATION:PT1H
X-Robots-Tag:noindex
X-PUBLISHED-TTL:PT1H
BEGIN:VTIMEZONE
TZID:America/New_York
BEGIN:DAYLIGHT
TZOFFSETFROM:-0500
TZOFFSETTO:-0400
TZNAME:EDT
DTSTART:20240310T070000
END:DAYLIGHT
BEGIN:STANDARD
TZOFFSETFROM:-0400
TZOFFSETTO:-0500
TZNAME:EST
DTSTART:20241103T060000
END:STANDARD
BEGIN:DAYLIGHT
TZOFFSETFROM:-0500
TZOFFSETTO:-0400
TZNAME:EDT
DTSTART:20250309T070000
END:DAYLIGHT
BEGIN:STANDARD
TZOFFSETFROM:-0400
TZOFFSETTO:-0500
TZNAME:EST
DTSTART:20251102T060000
END:STANDARD
BEGIN:DAYLIGHT
TZOFFSETFROM:-0500
TZOFFSETTO:-0400
TZNAME:EDT
DTSTART:20260308T070000
END:DAYLIGHT
BEGIN:STANDARD
TZOFFSETFROM:-0400
TZOFFSETTO:-0500
TZNAME:EST
DTSTART:20261101T060000
END:STANDARD
END:VTIMEZONE
BEGIN:VEVENT
DTSTART;TZID=America/New_York:20251105T190000
DTEND;TZID=America/New_York:20251105T190000
DTSTAMP:20260423T235559
CREATED:20251017T175816Z
LAST-MODIFIED:20251017T175816Z
UID:20724-1762369200-1762369200@moonstoneartscenter.com
SUMMARY:"Headless" Book Release - Wednesday November 5 - 7:00 PM - LIVE
DESCRIPTION:“In Headless\, poet Sean Hanrahan takes us on a winding road that twists through desire\, intellectual curiosity\, and various explored icons—pop culture\, mythic\, historic\, political\, sexual—traveling with a speaker always seeking to understand who and what society expects him to be. If art is a conversation with everything before and after\, then so is identity\, moving from “paper silhouette of a boy” to reveling in the middle-aged body\, declaring “we are all of us orchids.” The self is multifaceted\, multitalented\, and—belying the title—multiheaded. Hanrahan\, at the height of his poetic power\, has learned to navigate this hydralike path and “choose the sacramental in-between.” In these pages\, we are blessed to be invited to walk beside him.” – Chad Frame\, author of Little Black Book. \nSean Hanrahan is the author of Headless\, Safer Behind Popcorn and Ghost Signs\, Hardened Eyes on the Scan and Gay Cake . His work has also been included in various anthologies and journals\, he has taught classes titled “A Chapbook in 49 Days\,” “Ekphrastic Poetry\,” “Poetry Embodied\,” and has hosted and read at poetry events throughout Philadelphia. \nAdam Gianforcaro is the author of the poetry collection Every Living Day and Poems to Stage Dive to. A Pushcart Prize and Best of the Net nominee\, his work can be found in Ninth Letter\, The Offing\, Poet Lore\, Third Coast\, Northwest Review\, and elsewhere. \nAlison Lubar teaches high school English by day and yoga by night. They are a queer\, nonbinary\, biracial Nikkei femme whose life work has evolved into bringing mindfulness practices to young people. They’re the author of The Other Tree\, and METAMOURPHOSIS\, as well as four chapbooks and is a board member for Philadelphia’s Blue Stoop. \nAmy Saul-Zerby is the author of Paper Flowers\, Imaginary Birds\, Deep Camouflage\, and Choose Your Own Beginning\, her poems have appeared in various journals and she is the Director of Marketing and Development for The Free Books Project and Editor-in-Chief of Voicemail Poems. \nAaren Perry Host – Open Reading Follows
URL:https://moonstoneartscenter.com/event/headless-book-release-wednesday-november-5-700-pm-live/
LOCATION:Fergie’s Pub\, 1214 Sansom Street\, Philadelphia\, PA\, United States
CATEGORIES:Poetry Events
ATTACH;FMTTYPE=image/png:https://moonstoneartscenter.com/wp-content/uploads/2025/10/WednesdayNo-2055.png
END:VEVENT
BEGIN:VEVENT
DTSTART;TZID=America/New_York:20251109T170000
DTEND;TZID=America/New_York:20251109T170000
DTSTAMP:20260423T235559
CREATED:20251024T183841Z
LAST-MODIFIED:20251024T191426Z
UID:20741-1762707600-1762707600@moonstoneartscenter.com
SUMMARY:"Without You" Book Release - Sunday November 9 - 5pm - LIVE
DESCRIPTION:“In flashes of recollection\, in flares of supposition and speculation\, the fragments and fables of Ditta Baron Hoeber’s Without You trace the aftermath of a childhood trauma\,  with its attendant guilts and resentments and mystifications. Terse\, taut\, gnomic\, wrenching\, and subtly evocative\, Without You offers a compelling demonstration of a reality at once irrecoverable and irrevocable.” — Nathalie Anderson\, Professor Emerita\, Swarthmore College\, author of Stain \nDitta Baron Hoeber’s first book\, Without You is just out\, her poems have been published in magazines including Gargoyle\, Burningword Literary Review\, Noon\, Pank\, the American Poetry Review and the American Journal of Poetry. Her photographs\, drawings and book works have been exhibited nationally and have been acquired by several collections in the US and in the UK. \nLisa Isaacson has published poems in antiphony\, New American Writing\, Colorado Review\, Fence and Denver Quarterly among others. She has recently returned to the United States after 22 years teaching World Humanities and World Poetry in Abu Dhabi\, UAE and now lives in Milwaukee.
URL:https://moonstoneartscenter.com/event/without-you-book-release-sunday-november-9-5pm-live/
LOCATION:Fergie’s Pub\, 1214 Sansom Street\, Philadelphia\, PA\, United States
CATEGORIES:Poetry Events
ATTACH;FMTTYPE=image/png:https://moonstoneartscenter.com/wp-content/uploads/2025/10/Without-you-3.png
END:VEVENT
END:VCALENDAR