BEGIN:VCALENDAR
VERSION:2.0
PRODID:-//Moonstone Arts Center - ECPv6.15.20//NONSGML v1.0//EN
CALSCALE:GREGORIAN
METHOD:PUBLISH
X-ORIGINAL-URL:https://moonstoneartscenter.com
X-WR-CALDESC:Events for Moonstone Arts Center
REFRESH-INTERVAL;VALUE=DURATION:PT1H
X-Robots-Tag:noindex
X-PUBLISHED-TTL:PT1H
BEGIN:VTIMEZONE
TZID:America/New_York
BEGIN:DAYLIGHT
TZOFFSETFROM:-0500
TZOFFSETTO:-0400
TZNAME:EDT
DTSTART:20240310T070000
END:DAYLIGHT
BEGIN:STANDARD
TZOFFSETFROM:-0400
TZOFFSETTO:-0500
TZNAME:EST
DTSTART:20241103T060000
END:STANDARD
BEGIN:DAYLIGHT
TZOFFSETFROM:-0500
TZOFFSETTO:-0400
TZNAME:EDT
DTSTART:20250309T070000
END:DAYLIGHT
BEGIN:STANDARD
TZOFFSETFROM:-0400
TZOFFSETTO:-0500
TZNAME:EST
DTSTART:20251102T060000
END:STANDARD
BEGIN:DAYLIGHT
TZOFFSETFROM:-0500
TZOFFSETTO:-0400
TZNAME:EDT
DTSTART:20260308T070000
END:DAYLIGHT
BEGIN:STANDARD
TZOFFSETFROM:-0400
TZOFFSETTO:-0500
TZNAME:EST
DTSTART:20261101T060000
END:STANDARD
END:VTIMEZONE
BEGIN:VEVENT
DTSTART;TZID=America/New_York:20250319T190000
DTEND;TZID=America/New_York:20250319T210000
DTSTAMP:20260425T074932
CREATED:20250225T230902Z
LAST-MODIFIED:20250225T230902Z
UID:20157-1742410800-1742418000@moonstoneartscenter.com
SUMMARY:Live Poetry: C.M. Crockford\, R.G. Evans\, Shannon Frost Greenstein\, and Von Wise
DESCRIPTION:Wednesday March 19\, 2025 – 7:00pm  \nLive at Fergie’s Pub\,1214 Sansom Street and on zoom –  Use this link: \nhttps://us06web.zoom.us/meeting/register/s1AkTaeNSISE_wCCV7KJSg \nC.M. Crockford is a neurodivergent writer and editor. His works been published in dozens of magazines\, anthologies\, and websites\, and his first book Birdsongs was released in 2024 with Alien Buddha Press. You can always find him doting on his cat Wally or seeing movies in actual theaters like a nerd. \nR.G. Evans’s books include Overtipping the Ferryman\, The Holy Both\, and Imagine Sisyphus Happy. His work has appeared in Rattle\, Painted Bride Quarterly\, and Weird Tales\, among other publications. His collections of original songs\, Sweet Old Life and Kid Yesterday Calling Tomorrow Man\, are available on most streaming platforms. He received a 2025 Individual Artist Fellowship award from the New Jersey State Council on the Arts. \nShannon Frost Greenstein (She/They) resides near Philadelphia with her family and cats. She is the author of “Through the Lens of Time” (2026)\, a fiction collection with Thirty West Publishing\, and “These Are a Few of My Least Favorite Things” (2022)\, a book of poetry from Really Serious Lit. Shannon is a former Ph.D. candidate in Continental Philosophy and a multi-time Pushcart Prize nominee. Her passions include Friedrich Nietzsche\, anti-racism\, ballet\, the Seven Summits\, the Hamilton Soundtrack\, motherhood\, and acquiring more cats. \nVon Wise is the author of Grow a Cowboy\, winner of the 2025 Beyond Words Poetry Chapbook Awards. His poetry and prose have been published and anthologized by Lucky Jefferson\, Inverted Syntax\, Gulf Stream Literary Magazine\, Red Ogre Review\, and elsewhere. He teaches English and Creative Writing in Philadelphia\, where he lives. \nSean Hanrahan Hosts – Open Reading Follows
URL:https://moonstoneartscenter.com/event/live-poetry-c-m-crockford-r-g-evans-shannon-frost-greenstein-and-von-wise/
LOCATION:Fergie’s Pub\, 1214 Sansom Street\, Philadelphia\, PA\, United States
CATEGORIES:Poetry Events
ATTACH;FMTTYPE=image/jpeg:https://moonstoneartscenter.com/wp-content/uploads/2025/02/Fergies-Pub-319_Square.jpg
END:VEVENT
END:VCALENDAR