BEGIN:VCALENDAR
VERSION:2.0
PRODID:-//Moonstone Arts Center - ECPv6.15.20//NONSGML v1.0//EN
CALSCALE:GREGORIAN
METHOD:PUBLISH
X-WR-CALNAME:Moonstone Arts Center
X-ORIGINAL-URL:https://moonstoneartscenter.com
X-WR-CALDESC:Events for Moonstone Arts Center
REFRESH-INTERVAL;VALUE=DURATION:PT1H
X-Robots-Tag:noindex
X-PUBLISHED-TTL:PT1H
BEGIN:VTIMEZONE
TZID:America/New_York
BEGIN:DAYLIGHT
TZOFFSETFROM:-0500
TZOFFSETTO:-0400
TZNAME:EDT
DTSTART:20240310T070000
END:DAYLIGHT
BEGIN:STANDARD
TZOFFSETFROM:-0400
TZOFFSETTO:-0500
TZNAME:EST
DTSTART:20241103T060000
END:STANDARD
BEGIN:DAYLIGHT
TZOFFSETFROM:-0500
TZOFFSETTO:-0400
TZNAME:EDT
DTSTART:20250309T070000
END:DAYLIGHT
BEGIN:STANDARD
TZOFFSETFROM:-0400
TZOFFSETTO:-0500
TZNAME:EST
DTSTART:20251102T060000
END:STANDARD
BEGIN:DAYLIGHT
TZOFFSETFROM:-0500
TZOFFSETTO:-0400
TZNAME:EDT
DTSTART:20260308T070000
END:DAYLIGHT
BEGIN:STANDARD
TZOFFSETFROM:-0400
TZOFFSETTO:-0500
TZNAME:EST
DTSTART:20261101T060000
END:STANDARD
END:VTIMEZONE
BEGIN:VEVENT
DTSTART;TZID=America/New_York:20250326T190000
DTEND;TZID=America/New_York:20250326T210000
DTSTAMP:20260425T092523
CREATED:20250226T152422Z
LAST-MODIFIED:20250226T152422Z
UID:20169-1743015600-1743022800@moonstoneartscenter.com
SUMMARY:Live Poetry: The Hosts of Other Series Read
DESCRIPTION:  \nWednesday March 26\, 2025 – 7:00pm – The Hosts of Other Series Read  \nLive at Fergie’s Pub\, 1214 Sansom Street and on zoom –  Use this link: \nhttps://us06web.zoom.us/meeting/register/RcZsDsGjRYmxq7LxQ_YDkQ \nSibelan Forrester is a poet\, translator\, and host since 2016 of the Mad Poets Society First Wednesday poetry reading series. \nRaina J. León\, co-host of Wild Indigo Poetry Reading Series\, is s a founding editor of The Acentos Review. \nBill Van Buskirk’s\, host of Mad Poets Society 4th Friday series\, latest book is The Poet’s Pocket Guide to Steady Employment. \nNoah David Roberts is a non-binary poet\, the author of Mutable\, GUNK\, and SWARM\, an organizer of the World’s End Writing Retreat\, & was an editor for Graphic Violence Lit. \nBJ Ward\, host of Warren Community College Visiting Authors Series\, is the recipient of a Pushcart Prize and two Distinguished Artist Fellowships from the New Jersey State Council on the Arts.
URL:https://moonstoneartscenter.com/event/live-poetry-the-hosts-of-other-series-read/
LOCATION:Fergie’s Pub\, 1214 Sansom Street\, Philadelphia\, PA\, United States
CATEGORIES:Poetry Events
ATTACH;FMTTYPE=image/jpeg:https://moonstoneartscenter.com/wp-content/uploads/2025/02/Hosts-of-Other-Series-Read_Square.jpg
END:VEVENT
END:VCALENDAR