BEGIN:VCALENDAR
VERSION:2.0
PRODID:-//Moonstone Arts Center - ECPv6.15.20//NONSGML v1.0//EN
CALSCALE:GREGORIAN
METHOD:PUBLISH
X-WR-CALNAME:Moonstone Arts Center
X-ORIGINAL-URL:https://moonstoneartscenter.com
X-WR-CALDESC:Events for Moonstone Arts Center
REFRESH-INTERVAL;VALUE=DURATION:PT1H
X-Robots-Tag:noindex
X-PUBLISHED-TTL:PT1H
BEGIN:VTIMEZONE
TZID:America/New_York
BEGIN:DAYLIGHT
TZOFFSETFROM:-0500
TZOFFSETTO:-0400
TZNAME:EDT
DTSTART:20240310T070000
END:DAYLIGHT
BEGIN:STANDARD
TZOFFSETFROM:-0400
TZOFFSETTO:-0500
TZNAME:EST
DTSTART:20241103T060000
END:STANDARD
BEGIN:DAYLIGHT
TZOFFSETFROM:-0500
TZOFFSETTO:-0400
TZNAME:EDT
DTSTART:20250309T070000
END:DAYLIGHT
BEGIN:STANDARD
TZOFFSETFROM:-0400
TZOFFSETTO:-0500
TZNAME:EST
DTSTART:20251102T060000
END:STANDARD
BEGIN:DAYLIGHT
TZOFFSETFROM:-0500
TZOFFSETTO:-0400
TZNAME:EDT
DTSTART:20260308T070000
END:DAYLIGHT
BEGIN:STANDARD
TZOFFSETFROM:-0400
TZOFFSETTO:-0500
TZNAME:EST
DTSTART:20261101T060000
END:STANDARD
END:VTIMEZONE
BEGIN:VEVENT
DTSTART;TZID=America/New_York:20250903T190000
DTEND;TZID=America/New_York:20250903T210000
DTSTAMP:20260424T123633
CREATED:20250818T001741Z
LAST-MODIFIED:20250818T001741Z
UID:20585-1756926000-1756933200@moonstoneartscenter.com
SUMMARY:Live Poetry: W. D. Ehrhart\, Nathalie Anderson\, and Eileen M. D'Angelo
DESCRIPTION:Wednesday September 3\, 2025  7pm- LIVE \nLive at Fergie’s Pub\, 1214 Sansom Street \nBook Launch of  Smart Fish Don’t Bite  by W. D. Ehrhart ($22 – Moonstone Press) \nW. D. Ehrhart\, author of Smart Fish Don’t Bite\, is a Marine Corps veteran of both the Vietnam War and Vietnam Veterans Against the War. As the poems in this most recent collection demonstrate\, he is a writer who fought in Vietnam\, not a Vietnam writer. \nNathalie Anderson is the author of 5 books of poetry and manages the list-serv Lit-Philly that informs about 500 members about literary events in the Philadelphia area. She has recently retired from Swarthmore College\, where she taught for 39 years\, and served as Director of the Program in Creative Writing. \nEileen M. D’Angelo\, author of several books\, is Executive Director of Mad Poets Society\, coordinated over 2000 special events in the tri-state area\, twice been nominated for a PA Governor’s Award in the Arts and Pushcart Prize\, and was six-term President of the Board of the Philadelphia Writers Conference. \nAaren Perry Host – Open Reading Follows
URL:https://moonstoneartscenter.com/event/live-poetry-w-d-ehrhart-nathalie-anderson-and-eileen-m-dangelo/
LOCATION:Fergie’s Pub\, 1214 Sansom Street\, Philadelphia\, PA\, United States
CATEGORIES:Poetry Events
ATTACH;FMTTYPE=image/jpeg:https://moonstoneartscenter.com/wp-content/uploads/2025/08/Fergies-93_Square.jpg
END:VEVENT
END:VCALENDAR