BEGIN:VCALENDAR
VERSION:2.0
PRODID:-//Moonstone Arts Center - ECPv6.15.20//NONSGML v1.0//EN
CALSCALE:GREGORIAN
METHOD:PUBLISH
X-ORIGINAL-URL:https://moonstoneartscenter.com
X-WR-CALDESC:Events for Moonstone Arts Center
REFRESH-INTERVAL;VALUE=DURATION:PT1H
X-Robots-Tag:noindex
X-PUBLISHED-TTL:PT1H
BEGIN:VTIMEZONE
TZID:America/New_York
BEGIN:DAYLIGHT
TZOFFSETFROM:-0500
TZOFFSETTO:-0400
TZNAME:EDT
DTSTART:20230312T070000
END:DAYLIGHT
BEGIN:STANDARD
TZOFFSETFROM:-0400
TZOFFSETTO:-0500
TZNAME:EST
DTSTART:20231105T060000
END:STANDARD
BEGIN:DAYLIGHT
TZOFFSETFROM:-0500
TZOFFSETTO:-0400
TZNAME:EDT
DTSTART:20240310T070000
END:DAYLIGHT
BEGIN:STANDARD
TZOFFSETFROM:-0400
TZOFFSETTO:-0500
TZNAME:EST
DTSTART:20241103T060000
END:STANDARD
BEGIN:DAYLIGHT
TZOFFSETFROM:-0500
TZOFFSETTO:-0400
TZNAME:EDT
DTSTART:20250309T070000
END:DAYLIGHT
BEGIN:STANDARD
TZOFFSETFROM:-0400
TZOFFSETTO:-0500
TZNAME:EST
DTSTART:20251102T060000
END:STANDARD
END:VTIMEZONE
BEGIN:VEVENT
DTSTART;TZID=America/New_York:20241016T190000
DTEND;TZID=America/New_York:20241016T210000
DTSTAMP:20260425T121624
CREATED:20241006T161438Z
LAST-MODIFIED:20241006T161530Z
UID:19844-1729105200-1729112400@moonstoneartscenter.com
SUMMARY:Live Poetry: Courtney Bambrick\, Hayden Saunier\, and Jevon Simeon
DESCRIPTION:Moonstone Poetry\nWednesday October 16\, 2024 – 7pm \nLive at Fergie’s Pub\,1214 Sansom Street and on Zoom \nRegister here for Zoom access: https://us06web.zoom.us/meeting/register/tZMkcOqgrj0qEtf2cVm92zWRaL5QhY1ri2if  \n \nCourtney Bambrick teaches writing at Thomas Jefferson University’s East Falls campus in Philadelphia. She was poetry editor at Philadelphia Stories until 2024.  Her own poems appear or are forthcoming in American Poetry Review\, Mom Egg Review\, Landlocked\, Pinhole\, Thimble\, SWWIM Everyday\, New York Quarterly\, Invisible City\, and more. Her chapbook World Without is available from Bottlecap Press. \n\n  \n  \nHayden Saunier is the author of six poetry collections including her new book\, Wheel\, (Terrapin: 2024). Her work has been published in 32 Poems\, Beloit Poetry Journal\, diode\, Southern Poetry Review\, The Sun\, and VQR and featured on Poetry Daily\, The Writer’s Almanac\, and Verse Daily. Awards include a Pushcart Prize\, Pablo Neruda Award\, and Rattle Poetry Prize www.haydensaunier.com. \n  \n  \nJevon Simeon says “As I touch the pencil I start to remember I am a writer. I am a Juggernaut. My melanin is the exposition of art itself. I rise with the sun. I am the moon. Im just a Poet that tries to balance the dark and light within me\, to find peace within  myself I relinquish this into my poetry as it creates imagery to inspire people to see beauty in themselves. I’m a child of the sea with Caribbean blood running through my veins. \nSean Hanahan Host\, Open Reading Follows
URL:https://moonstoneartscenter.com/event/live-poetry-courtney-bambrick-hayden-saunier-and-jevon-simeon/
LOCATION:Fergie’s Pub\, 1214 Sansom Street\, Philadelphia\, PA\, United States
CATEGORIES:Events,Poetry Events
ATTACH;FMTTYPE=image/png:https://moonstoneartscenter.com/wp-content/uploads/2024/10/October-16_2024.png
END:VEVENT
END:VCALENDAR